BEGIN:VCALENDAR
VERSION:2.0
PRODID:-//Rec2Connect - ECPv6.15.20//NONSGML v1.0//EN
CALSCALE:GREGORIAN
METHOD:PUBLISH
X-ORIGINAL-URL:https://rec2connect.org
X-WR-CALDESC:Events for Rec2Connect
REFRESH-INTERVAL;VALUE=DURATION:PT1H
X-Robots-Tag:noindex
X-PUBLISHED-TTL:PT1H
BEGIN:VTIMEZONE
TZID:America/New_York
BEGIN:DAYLIGHT
TZOFFSETFROM:-0500
TZOFFSETTO:-0400
TZNAME:EDT
DTSTART:20250309T070000
END:DAYLIGHT
BEGIN:STANDARD
TZOFFSETFROM:-0400
TZOFFSETTO:-0500
TZNAME:EST
DTSTART:20251102T060000
END:STANDARD
BEGIN:DAYLIGHT
TZOFFSETFROM:-0500
TZOFFSETTO:-0400
TZNAME:EDT
DTSTART:20260308T070000
END:DAYLIGHT
BEGIN:STANDARD
TZOFFSETFROM:-0400
TZOFFSETTO:-0500
TZNAME:EST
DTSTART:20261101T060000
END:STANDARD
BEGIN:DAYLIGHT
TZOFFSETFROM:-0500
TZOFFSETTO:-0400
TZNAME:EDT
DTSTART:20270314T070000
END:DAYLIGHT
BEGIN:STANDARD
TZOFFSETFROM:-0400
TZOFFSETTO:-0500
TZNAME:EST
DTSTART:20271107T060000
END:STANDARD
END:VTIMEZONE
BEGIN:VEVENT
DTSTART;TZID=America/New_York:20260617T173000
DTEND;TZID=America/New_York:20260617T190000
DTSTAMP:20260424T184536
CREATED:20260418T173713Z
LAST-MODIFIED:20260418T173713Z
UID:10009426-1781717400-1781722800@rec2connect.org
SUMMARY:Journey on the Voyager Canoe
DESCRIPTION:Join Rec2Connect for a program in partnership with the Cleveland Metroparks\nParticipants will learn basic paddling techniques and paddling safety while having fun on the water through team building games\, activities and exploration of the lake.\nDeadline to register is June 12 at noon.\nTo Enroll\, all participants must have an Ensora account and all forms completed.\nTo register\, please email scheduling@rec2connect.org
URL:https://rec2connect.org/event/journey-on-the-voyager-canoe/
LOCATION:Wallace Lake at Mill Stream Run Reservation\, 213 Prospect St.\, Berea\, OH\, 44017\, United States
CATEGORIES:Outdoor Programs
ORGANIZER;CN="Rec2Connect":MAILTO:scheduling@rec2connect.org
END:VEVENT
BEGIN:VEVENT
DTSTART;TZID=America/New_York:20260711T100000
DTEND;TZID=America/New_York:20260711T110000
DTSTAMP:20260424T184536
CREATED:20260416T213834Z
LAST-MODIFIED:20260416T213834Z
UID:10009394-1783764000-1783767600@rec2connect.org
SUMMARY:Free Hiking Club
DESCRIPTION:Family and participants are invited to meet up and move through the Cleveland Metroparks\, exploring trails and making meaningful connections along the way!\nTypically an ‘out and back’ hike\nHiking Club meets for an hour and is designed to meet the needs of all ability levels!\nOptional attendance for parents/caregivers\nTo enroll\, all participants must have an Ensora account and all forms completed.
URL:https://rec2connect.org/event/free-hiking-club-3/
LOCATION:Wallace Lake at Mill Stream Run Reservation\, 213 Prospect St.\, Berea\, OH\, 44017\, United States
CATEGORIES:Hiking,Outdoor Programs
ATTACH;FMTTYPE=image/png:https://rec2connect.org/wp-content/uploads/2025/07/Events_HikingClub.png
ORGANIZER;CN="Rec2Connect":MAILTO:scheduling@rec2connect.org
END:VEVENT
BEGIN:VEVENT
DTSTART;TZID=America/New_York:20260711T110000
DTEND;TZID=America/New_York:20260711T120000
DTSTAMP:20260424T184536
CREATED:20260416T201446Z
LAST-MODIFIED:20260416T201446Z
UID:10009339-1783767600-1783771200@rec2connect.org
SUMMARY:2026 Adapted Kayaking (Short)
DESCRIPTION:Focusing on entry-level and moderate kayaking skills.  Build upon problem solving and social skills with opportunities to learn more advanced paddle strokes.\nLimited to 5 sessions per participant.  Waitlist available.\n$5 Discount with private pay.\nPre-registration is required at least 24 hours in advance.\nTo Enroll\, all participants must have an Ensora account and all forms completed.\nTo register\, please email scheduling@rec2connect.org
URL:https://rec2connect.org/event/2026-adapted-kayaking-short-2/
LOCATION:Wallace Lake at Mill Stream Run Reservation\, 213 Prospect St.\, Berea\, OH\, 44017\, United States
CATEGORIES:Kayaking,Outdoor Programs
ATTACH;FMTTYPE=image/png:https://rec2connect.org/wp-content/uploads/2025/07/Kayak-2.png
ORGANIZER;CN="Rec2Connect":MAILTO:scheduling@rec2connect.org
END:VEVENT
BEGIN:VEVENT
DTSTART;TZID=America/New_York:20260711T123000
DTEND;TZID=America/New_York:20260711T140000
DTSTAMP:20260424T184536
CREATED:20260416T202216Z
LAST-MODIFIED:20260416T202216Z
UID:10009357-1783773000-1783778400@rec2connect.org
SUMMARY:2026 Adapted Kayaking (Long)
DESCRIPTION:Focusing on entry-level and moderate kayaking skills.  Build upon problem solving and social skills with opportunities to learn more advanced paddle strokes.\nLimited to 5 sessions per participant.  Waitlist available.\n$5 Discount with private pay.\nPre-registration is required at least 24 hours in advance.\nTo Enroll\, all participants must have an Ensora account and all forms completed.\nTo register\, please email scheduling@rec2connect.org
URL:https://rec2connect.org/event/2026-adapted-kayaking-long-3/
LOCATION:Wallace Lake at Mill Stream Run Reservation\, 213 Prospect St.\, Berea\, OH\, 44017\, United States
CATEGORIES:Kayaking,Outdoor Programs
ATTACH;FMTTYPE=image/png:https://rec2connect.org/wp-content/uploads/2025/07/Kayak-2.png
ORGANIZER;CN="Rec2Connect":MAILTO:scheduling@rec2connect.org
END:VEVENT
BEGIN:VEVENT
DTSTART;TZID=America/New_York:20260717T160000
DTEND;TZID=America/New_York:20260717T180000
DTSTAMP:20260424T184536
CREATED:20260304T190445Z
LAST-MODIFIED:20260305T031919Z
UID:10009270-1784304000-1784311200@rec2connect.org
SUMMARY:2026 Family Kayak Program
DESCRIPTION:This is a beginner-level kayak program for families looking to learn more about kayaking.  Focus on entry-level kayaking skills\, safety and lake exploration.\nAt least one caregiver must attend per family.\nPre-registration is required at least 24 hours in advance.  To enroll\, all participants must have an Ensora account and all forms completed.\nTo register\, please email scheduling@rec2connect.org.
URL:https://rec2connect.org/event/2026-family-kayak-program-2/
LOCATION:Wallace Lake at Mill Stream Run Reservation\, 213 Prospect St.\, Berea\, OH\, 44017\, United States
CATEGORIES:Kayaking,Outdoor Programs
ATTACH;FMTTYPE=image/png:https://rec2connect.org/wp-content/uploads/2025/07/Kayak-2.png
ORGANIZER;CN="Rec2Connect":MAILTO:scheduling@rec2connect.org
END:VEVENT
BEGIN:VEVENT
DTSTART;TZID=America/New_York:20260905T093000
DTEND;TZID=America/New_York:20260905T113000
DTSTAMP:20260424T184536
CREATED:20260418T172405Z
LAST-MODIFIED:20260418T172405Z
UID:10009425-1788600600-1788607800@rec2connect.org
SUMMARY:2026 Veteran Kayaking
DESCRIPTION:Focus on entry-level kayaking skills\, safety and lake exploration.\nNo cost for Veterans and Service Members with Disabilities\nThis program is made possible thanks to Move United!\nTo register\, please email vhaclewhcoaches@va.gov or wholehealthcleva@va.gov
URL:https://rec2connect.org/event/2026-veteran-kayaking-6/
LOCATION:Wallace Lake at Mill Stream Run Reservation\, 213 Prospect St.\, Berea\, OH\, 44017\, United States
CATEGORIES:Kayaking,Outdoor Programs
ATTACH;FMTTYPE=image/png:https://rec2connect.org/wp-content/uploads/2025/07/Kayak-2.png
ORGANIZER;CN="Rec2Connect":MAILTO:scheduling@rec2connect.org
END:VEVENT
BEGIN:VEVENT
DTSTART;TZID=America/New_York:20260905T100000
DTEND;TZID=America/New_York:20260905T110000
DTSTAMP:20260424T184536
CREATED:20260416T214744Z
LAST-MODIFIED:20260416T214744Z
UID:10009402-1788602400-1788606000@rec2connect.org
SUMMARY:Free Hiking Club
DESCRIPTION:Family and participants are invited to meet up and move through the Cleveland Metroparks\, exploring trails and making meaningful connections along the way!\nTypically an ‘out and back’ hike\nHiking Club meets for an hour and is designed to meet the needs of all ability levels!\nOptional attendance for parents/caregivers\nTo enroll\, all participants must have an Ensora account and all forms completed.
URL:https://rec2connect.org/event/free-hiking-club-11/
LOCATION:Wallace Lake at Mill Stream Run Reservation\, 213 Prospect St.\, Berea\, OH\, 44017\, United States
CATEGORIES:Hiking,Outdoor Programs
ATTACH;FMTTYPE=image/png:https://rec2connect.org/wp-content/uploads/2025/07/Events_HikingClub.png
ORGANIZER;CN="Rec2Connect":MAILTO:scheduling@rec2connect.org
END:VEVENT
END:VCALENDAR