BEGIN:VCALENDAR
VERSION:2.0
PRODID:-//Rec2Connect - ECPv6.15.20//NONSGML v1.0//EN
CALSCALE:GREGORIAN
METHOD:PUBLISH
X-ORIGINAL-URL:https://rec2connect.org
X-WR-CALDESC:Events for Rec2Connect
REFRESH-INTERVAL;VALUE=DURATION:PT1H
X-Robots-Tag:noindex
X-PUBLISHED-TTL:PT1H
BEGIN:VTIMEZONE
TZID:America/New_York
BEGIN:DAYLIGHT
TZOFFSETFROM:-0500
TZOFFSETTO:-0400
TZNAME:EDT
DTSTART:20240310T070000
END:DAYLIGHT
BEGIN:STANDARD
TZOFFSETFROM:-0400
TZOFFSETTO:-0500
TZNAME:EST
DTSTART:20241103T060000
END:STANDARD
BEGIN:DAYLIGHT
TZOFFSETFROM:-0500
TZOFFSETTO:-0400
TZNAME:EDT
DTSTART:20250309T070000
END:DAYLIGHT
BEGIN:STANDARD
TZOFFSETFROM:-0400
TZOFFSETTO:-0500
TZNAME:EST
DTSTART:20251102T060000
END:STANDARD
BEGIN:DAYLIGHT
TZOFFSETFROM:-0500
TZOFFSETTO:-0400
TZNAME:EDT
DTSTART:20260308T070000
END:DAYLIGHT
BEGIN:STANDARD
TZOFFSETFROM:-0400
TZOFFSETTO:-0500
TZNAME:EST
DTSTART:20261101T060000
END:STANDARD
END:VTIMEZONE
BEGIN:VEVENT
DTSTART;TZID=America/New_York:20251105T170000
DTEND;TZID=America/New_York:20251105T180000
DTSTAMP:20260425T083738
CREATED:20250720T130248Z
LAST-MODIFIED:20260221T023449Z
UID:10001768-1762362000-1762365600@rec2connect.org
SUMMARY:Razorsharks Practice
DESCRIPTION:We work on swim stroke development\, increasing endurance\, and competing with our team \nNOTE: Drop-in or Monthly packages available!  Please inquire at registration.
URL:https://rec2connect.org/event/razorsharks-practice-9/2025-11-05/
LOCATION:Seven Hills Parks and Rec Center\, 7777 Summit View Dr\, Seven HIlls\, OH\, 44131\, United States
CATEGORIES:Razorsharks Swim Team
ATTACH;FMTTYPE=image/png:https://rec2connect.org/wp-content/uploads/2025/07/Events_Razorsharks.png
ORGANIZER;CN="Rec2Connect":MAILTO:scheduling@rec2connect.org
END:VEVENT
BEGIN:VEVENT
DTSTART;TZID=America/New_York:20251105T160000
DTEND;TZID=America/New_York:20251105T170000
DTSTAMP:20260425T083738
CREATED:20250720T130248Z
LAST-MODIFIED:20260221T023543Z
UID:10001505-1762358400-1762362000@rec2connect.org
SUMMARY:Razorsharks Practice
DESCRIPTION:We work on swim stroke development\, increasing endurance\, and competing with our team \nNOTE: Drop-in or Monthly packages available!  Please inquire at registration.
URL:https://rec2connect.org/event/razorsharks-practice-8/2025-11-05/
LOCATION:Seven Hills Parks and Rec Center\, 7777 Summit View Dr\, Seven HIlls\, OH\, 44131\, United States
CATEGORIES:Razorsharks Swim Team
ATTACH;FMTTYPE=image/png:https://rec2connect.org/wp-content/uploads/2025/07/Events_Razorsharks.png
ORGANIZER;CN="Rec2Connect":MAILTO:scheduling@rec2connect.org
END:VEVENT
BEGIN:VEVENT
DTSTART;TZID=America/New_York:20251104T181500
DTEND;TZID=America/New_York:20251104T190000
DTSTAMP:20260425T083738
CREATED:20250719T054426Z
LAST-MODIFIED:20260226T220756Z
UID:10000835-1762280100-1762282800@rec2connect.org
SUMMARY:Cardio Drumming
DESCRIPTION:This 45 minute weekly exercise class for teens and adults is led by a Recreation Therapist. Cardio drumming incorporates movement\, stretching\, music\, and rhythm together for an alternative cardiovascular workout. This class focuses on range of motion\, endurance\, strengthening\, flexibility\, coordination and body awareness. \nNOTE:  There is a $5 discount for private pay!
URL:https://rec2connect.org/event/cardio-drumming-9/2025-11-04/
LOCATION:Seven Hills Parks and Rec Center\, 7777 Summit View Dr\, Seven HIlls\, OH\, 44131\, United States
CATEGORIES:Cardio Drumming
ATTACH;FMTTYPE=image/png:https://rec2connect.org/wp-content/uploads/2025/07/CardioDrum_01.png
ORGANIZER;CN="Rec2Connect":MAILTO:scheduling@rec2connect.org
END:VEVENT
BEGIN:VEVENT
DTSTART;TZID=America/New_York:20251104T170000
DTEND;TZID=America/New_York:20251104T180000
DTSTAMP:20260425T083738
CREATED:20250720T130247Z
LAST-MODIFIED:20260226T220853Z
UID:10001112-1762275600-1762279200@rec2connect.org
SUMMARY:Fit Friends
DESCRIPTION:Structured full body workouts and social interaction \nNOTE:  There is a $5 discount for private pay!
URL:https://rec2connect.org/event/fit-friends/2025-11-04/
LOCATION:Seven Hills Parks and Rec Center\, 7777 Summit View Dr\, Seven HIlls\, OH\, 44131\, United States
CATEGORIES:Fit Friends
ATTACH;FMTTYPE=image/png:https://rec2connect.org/wp-content/uploads/2025/07/Events_FitFriends.png
ORGANIZER;CN="Rec2Connect":MAILTO:scheduling@rec2connect.org
END:VEVENT
BEGIN:VEVENT
DTSTART;TZID=America/New_York:20251101T100000
DTEND;TZID=America/New_York:20251101T104500
DTSTAMP:20260425T083738
CREATED:20250720T005625Z
LAST-MODIFIED:20260226T220144Z
UID:10000572-1761991200-1761993900@rec2connect.org
SUMMARY:Cardio Drumming
DESCRIPTION:This 45 minute weekly exercise class for teens and adults is led by a Recreation Therapist. Cardio drumming incorporates movement\, stretching\, music\, and rhythm together for an alternative cardiovascular workout. This class focuses on range of motion\, endurance\, strengthening\, flexibility\, coordination and body awareness. \nNOTE:  There is a $5 discount for private pay!
URL:https://rec2connect.org/event/cardio-drumming/2025-11-01/
LOCATION:Seven Hills Parks and Rec Center\, 7777 Summit View Dr\, Seven HIlls\, OH\, 44131\, United States
CATEGORIES:Cardio Drumming
ATTACH;FMTTYPE=image/png:https://rec2connect.org/wp-content/uploads/2025/07/CardioDrum_01.png
ORGANIZER;CN="Rec2Connect":MAILTO:scheduling@rec2connect.org
END:VEVENT
BEGIN:VEVENT
DTSTART;TZID=America/New_York:20251029T170000
DTEND;TZID=America/New_York:20251029T180000
DTSTAMP:20260425T083738
CREATED:20250720T130248Z
LAST-MODIFIED:20260221T023449Z
UID:10001767-1761757200-1761760800@rec2connect.org
SUMMARY:Razorsharks Practice
DESCRIPTION:We work on swim stroke development\, increasing endurance\, and competing with our team \nNOTE: Drop-in or Monthly packages available!  Please inquire at registration.
URL:https://rec2connect.org/event/razorsharks-practice-9/2025-10-29/
LOCATION:Seven Hills Parks and Rec Center\, 7777 Summit View Dr\, Seven HIlls\, OH\, 44131\, United States
CATEGORIES:Razorsharks Swim Team
ATTACH;FMTTYPE=image/png:https://rec2connect.org/wp-content/uploads/2025/07/Events_Razorsharks.png
ORGANIZER;CN="Rec2Connect":MAILTO:scheduling@rec2connect.org
END:VEVENT
BEGIN:VEVENT
DTSTART;TZID=America/New_York:20251029T160000
DTEND;TZID=America/New_York:20251029T170000
DTSTAMP:20260425T083738
CREATED:20250720T130248Z
LAST-MODIFIED:20260221T023543Z
UID:10001504-1761753600-1761757200@rec2connect.org
SUMMARY:Razorsharks Practice
DESCRIPTION:We work on swim stroke development\, increasing endurance\, and competing with our team \nNOTE: Drop-in or Monthly packages available!  Please inquire at registration.
URL:https://rec2connect.org/event/razorsharks-practice-8/2025-10-29/
LOCATION:Seven Hills Parks and Rec Center\, 7777 Summit View Dr\, Seven HIlls\, OH\, 44131\, United States
CATEGORIES:Razorsharks Swim Team
ATTACH;FMTTYPE=image/png:https://rec2connect.org/wp-content/uploads/2025/07/Events_Razorsharks.png
ORGANIZER;CN="Rec2Connect":MAILTO:scheduling@rec2connect.org
END:VEVENT
BEGIN:VEVENT
DTSTART;TZID=America/New_York:20251028T181500
DTEND;TZID=America/New_York:20251028T190000
DTSTAMP:20260425T083738
CREATED:20250719T054426Z
LAST-MODIFIED:20260226T220756Z
UID:10000834-1761675300-1761678000@rec2connect.org
SUMMARY:Cardio Drumming
DESCRIPTION:This 45 minute weekly exercise class for teens and adults is led by a Recreation Therapist. Cardio drumming incorporates movement\, stretching\, music\, and rhythm together for an alternative cardiovascular workout. This class focuses on range of motion\, endurance\, strengthening\, flexibility\, coordination and body awareness. \nNOTE:  There is a $5 discount for private pay!
URL:https://rec2connect.org/event/cardio-drumming-9/2025-10-28/
LOCATION:Seven Hills Parks and Rec Center\, 7777 Summit View Dr\, Seven HIlls\, OH\, 44131\, United States
CATEGORIES:Cardio Drumming
ATTACH;FMTTYPE=image/png:https://rec2connect.org/wp-content/uploads/2025/07/CardioDrum_01.png
ORGANIZER;CN="Rec2Connect":MAILTO:scheduling@rec2connect.org
END:VEVENT
BEGIN:VEVENT
DTSTART;TZID=America/New_York:20251028T170000
DTEND;TZID=America/New_York:20251028T180000
DTSTAMP:20260425T083738
CREATED:20250720T130247Z
LAST-MODIFIED:20260226T220853Z
UID:10001111-1761670800-1761674400@rec2connect.org
SUMMARY:Fit Friends
DESCRIPTION:Structured full body workouts and social interaction \nNOTE:  There is a $5 discount for private pay!
URL:https://rec2connect.org/event/fit-friends/2025-10-28/
LOCATION:Seven Hills Parks and Rec Center\, 7777 Summit View Dr\, Seven HIlls\, OH\, 44131\, United States
CATEGORIES:Fit Friends
ATTACH;FMTTYPE=image/png:https://rec2connect.org/wp-content/uploads/2025/07/Events_FitFriends.png
ORGANIZER;CN="Rec2Connect":MAILTO:scheduling@rec2connect.org
END:VEVENT
BEGIN:VEVENT
DTSTART;TZID=America/New_York:20251025T100000
DTEND;TZID=America/New_York:20251025T104500
DTSTAMP:20260425T083738
CREATED:20250720T005625Z
LAST-MODIFIED:20260226T220144Z
UID:10000571-1761386400-1761389100@rec2connect.org
SUMMARY:Cardio Drumming
DESCRIPTION:This 45 minute weekly exercise class for teens and adults is led by a Recreation Therapist. Cardio drumming incorporates movement\, stretching\, music\, and rhythm together for an alternative cardiovascular workout. This class focuses on range of motion\, endurance\, strengthening\, flexibility\, coordination and body awareness. \nNOTE:  There is a $5 discount for private pay!
URL:https://rec2connect.org/event/cardio-drumming/2025-10-25/
LOCATION:Seven Hills Parks and Rec Center\, 7777 Summit View Dr\, Seven HIlls\, OH\, 44131\, United States
CATEGORIES:Cardio Drumming
ATTACH;FMTTYPE=image/png:https://rec2connect.org/wp-content/uploads/2025/07/CardioDrum_01.png
ORGANIZER;CN="Rec2Connect":MAILTO:scheduling@rec2connect.org
END:VEVENT
BEGIN:VEVENT
DTSTART;TZID=America/New_York:20251022T170000
DTEND;TZID=America/New_York:20251022T180000
DTSTAMP:20260425T083738
CREATED:20250720T130248Z
LAST-MODIFIED:20260221T023449Z
UID:10001766-1761152400-1761156000@rec2connect.org
SUMMARY:Razorsharks Practice
DESCRIPTION:We work on swim stroke development\, increasing endurance\, and competing with our team \nNOTE: Drop-in or Monthly packages available!  Please inquire at registration.
URL:https://rec2connect.org/event/razorsharks-practice-9/2025-10-22/
LOCATION:Seven Hills Parks and Rec Center\, 7777 Summit View Dr\, Seven HIlls\, OH\, 44131\, United States
CATEGORIES:Razorsharks Swim Team
ATTACH;FMTTYPE=image/png:https://rec2connect.org/wp-content/uploads/2025/07/Events_Razorsharks.png
ORGANIZER;CN="Rec2Connect":MAILTO:scheduling@rec2connect.org
END:VEVENT
BEGIN:VEVENT
DTSTART;TZID=America/New_York:20251022T160000
DTEND;TZID=America/New_York:20251022T170000
DTSTAMP:20260425T083738
CREATED:20250720T130248Z
LAST-MODIFIED:20260221T023543Z
UID:10001503-1761148800-1761152400@rec2connect.org
SUMMARY:Razorsharks Practice
DESCRIPTION:We work on swim stroke development\, increasing endurance\, and competing with our team \nNOTE: Drop-in or Monthly packages available!  Please inquire at registration.
URL:https://rec2connect.org/event/razorsharks-practice-8/2025-10-22/
LOCATION:Seven Hills Parks and Rec Center\, 7777 Summit View Dr\, Seven HIlls\, OH\, 44131\, United States
CATEGORIES:Razorsharks Swim Team
ATTACH;FMTTYPE=image/png:https://rec2connect.org/wp-content/uploads/2025/07/Events_Razorsharks.png
ORGANIZER;CN="Rec2Connect":MAILTO:scheduling@rec2connect.org
END:VEVENT
BEGIN:VEVENT
DTSTART;TZID=America/New_York:20251021T181500
DTEND;TZID=America/New_York:20251021T190000
DTSTAMP:20260425T083738
CREATED:20250719T054426Z
LAST-MODIFIED:20260226T220756Z
UID:10000833-1761070500-1761073200@rec2connect.org
SUMMARY:Cardio Drumming
DESCRIPTION:This 45 minute weekly exercise class for teens and adults is led by a Recreation Therapist. Cardio drumming incorporates movement\, stretching\, music\, and rhythm together for an alternative cardiovascular workout. This class focuses on range of motion\, endurance\, strengthening\, flexibility\, coordination and body awareness. \nNOTE:  There is a $5 discount for private pay!
URL:https://rec2connect.org/event/cardio-drumming-9/2025-10-21/
LOCATION:Seven Hills Parks and Rec Center\, 7777 Summit View Dr\, Seven HIlls\, OH\, 44131\, United States
CATEGORIES:Cardio Drumming
ATTACH;FMTTYPE=image/png:https://rec2connect.org/wp-content/uploads/2025/07/CardioDrum_01.png
ORGANIZER;CN="Rec2Connect":MAILTO:scheduling@rec2connect.org
END:VEVENT
BEGIN:VEVENT
DTSTART;TZID=America/New_York:20251021T170000
DTEND;TZID=America/New_York:20251021T180000
DTSTAMP:20260425T083738
CREATED:20250720T130247Z
LAST-MODIFIED:20260226T220853Z
UID:10001110-1761066000-1761069600@rec2connect.org
SUMMARY:Fit Friends
DESCRIPTION:Structured full body workouts and social interaction \nNOTE:  There is a $5 discount for private pay!
URL:https://rec2connect.org/event/fit-friends/2025-10-21/
LOCATION:Seven Hills Parks and Rec Center\, 7777 Summit View Dr\, Seven HIlls\, OH\, 44131\, United States
CATEGORIES:Fit Friends
ATTACH;FMTTYPE=image/png:https://rec2connect.org/wp-content/uploads/2025/07/Events_FitFriends.png
ORGANIZER;CN="Rec2Connect":MAILTO:scheduling@rec2connect.org
END:VEVENT
BEGIN:VEVENT
DTSTART;TZID=America/New_York:20251018T100000
DTEND;TZID=America/New_York:20251018T104500
DTSTAMP:20260425T083738
CREATED:20250720T005625Z
LAST-MODIFIED:20260226T220144Z
UID:10000570-1760781600-1760784300@rec2connect.org
SUMMARY:Cardio Drumming
DESCRIPTION:This 45 minute weekly exercise class for teens and adults is led by a Recreation Therapist. Cardio drumming incorporates movement\, stretching\, music\, and rhythm together for an alternative cardiovascular workout. This class focuses on range of motion\, endurance\, strengthening\, flexibility\, coordination and body awareness. \nNOTE:  There is a $5 discount for private pay!
URL:https://rec2connect.org/event/cardio-drumming/2025-10-18/
LOCATION:Seven Hills Parks and Rec Center\, 7777 Summit View Dr\, Seven HIlls\, OH\, 44131\, United States
CATEGORIES:Cardio Drumming
ATTACH;FMTTYPE=image/png:https://rec2connect.org/wp-content/uploads/2025/07/CardioDrum_01.png
ORGANIZER;CN="Rec2Connect":MAILTO:scheduling@rec2connect.org
END:VEVENT
BEGIN:VEVENT
DTSTART;TZID=America/New_York:20251015T170000
DTEND;TZID=America/New_York:20251015T180000
DTSTAMP:20260425T083738
CREATED:20250720T130248Z
LAST-MODIFIED:20260221T023449Z
UID:10001765-1760547600-1760551200@rec2connect.org
SUMMARY:Razorsharks Practice
DESCRIPTION:We work on swim stroke development\, increasing endurance\, and competing with our team \nNOTE: Drop-in or Monthly packages available!  Please inquire at registration.
URL:https://rec2connect.org/event/razorsharks-practice-9/2025-10-15/
LOCATION:Seven Hills Parks and Rec Center\, 7777 Summit View Dr\, Seven HIlls\, OH\, 44131\, United States
CATEGORIES:Razorsharks Swim Team
ATTACH;FMTTYPE=image/png:https://rec2connect.org/wp-content/uploads/2025/07/Events_Razorsharks.png
ORGANIZER;CN="Rec2Connect":MAILTO:scheduling@rec2connect.org
END:VEVENT
BEGIN:VEVENT
DTSTART;TZID=America/New_York:20251015T160000
DTEND;TZID=America/New_York:20251015T170000
DTSTAMP:20260425T083738
CREATED:20250720T130248Z
LAST-MODIFIED:20260221T023543Z
UID:10001502-1760544000-1760547600@rec2connect.org
SUMMARY:Razorsharks Practice
DESCRIPTION:We work on swim stroke development\, increasing endurance\, and competing with our team \nNOTE: Drop-in or Monthly packages available!  Please inquire at registration.
URL:https://rec2connect.org/event/razorsharks-practice-8/2025-10-15/
LOCATION:Seven Hills Parks and Rec Center\, 7777 Summit View Dr\, Seven HIlls\, OH\, 44131\, United States
CATEGORIES:Razorsharks Swim Team
ATTACH;FMTTYPE=image/png:https://rec2connect.org/wp-content/uploads/2025/07/Events_Razorsharks.png
ORGANIZER;CN="Rec2Connect":MAILTO:scheduling@rec2connect.org
END:VEVENT
BEGIN:VEVENT
DTSTART;TZID=America/New_York:20251014T181500
DTEND;TZID=America/New_York:20251014T190000
DTSTAMP:20260425T083738
CREATED:20250719T054426Z
LAST-MODIFIED:20260226T220756Z
UID:10000832-1760465700-1760468400@rec2connect.org
SUMMARY:Cardio Drumming
DESCRIPTION:This 45 minute weekly exercise class for teens and adults is led by a Recreation Therapist. Cardio drumming incorporates movement\, stretching\, music\, and rhythm together for an alternative cardiovascular workout. This class focuses on range of motion\, endurance\, strengthening\, flexibility\, coordination and body awareness. \nNOTE:  There is a $5 discount for private pay!
URL:https://rec2connect.org/event/cardio-drumming-9/2025-10-14/
LOCATION:Seven Hills Parks and Rec Center\, 7777 Summit View Dr\, Seven HIlls\, OH\, 44131\, United States
CATEGORIES:Cardio Drumming
ATTACH;FMTTYPE=image/png:https://rec2connect.org/wp-content/uploads/2025/07/CardioDrum_01.png
ORGANIZER;CN="Rec2Connect":MAILTO:scheduling@rec2connect.org
END:VEVENT
BEGIN:VEVENT
DTSTART;TZID=America/New_York:20251014T170000
DTEND;TZID=America/New_York:20251014T180000
DTSTAMP:20260425T083738
CREATED:20250720T130247Z
LAST-MODIFIED:20260226T220853Z
UID:10001109-1760461200-1760464800@rec2connect.org
SUMMARY:Fit Friends
DESCRIPTION:Structured full body workouts and social interaction \nNOTE:  There is a $5 discount for private pay!
URL:https://rec2connect.org/event/fit-friends/2025-10-14/
LOCATION:Seven Hills Parks and Rec Center\, 7777 Summit View Dr\, Seven HIlls\, OH\, 44131\, United States
CATEGORIES:Fit Friends
ATTACH;FMTTYPE=image/png:https://rec2connect.org/wp-content/uploads/2025/07/Events_FitFriends.png
ORGANIZER;CN="Rec2Connect":MAILTO:scheduling@rec2connect.org
END:VEVENT
BEGIN:VEVENT
DTSTART;TZID=America/New_York:20251011T100000
DTEND;TZID=America/New_York:20251011T104500
DTSTAMP:20260425T083738
CREATED:20250720T005625Z
LAST-MODIFIED:20260226T220144Z
UID:10000569-1760176800-1760179500@rec2connect.org
SUMMARY:Cardio Drumming
DESCRIPTION:This 45 minute weekly exercise class for teens and adults is led by a Recreation Therapist. Cardio drumming incorporates movement\, stretching\, music\, and rhythm together for an alternative cardiovascular workout. This class focuses on range of motion\, endurance\, strengthening\, flexibility\, coordination and body awareness. \nNOTE:  There is a $5 discount for private pay!
URL:https://rec2connect.org/event/cardio-drumming/2025-10-11/
LOCATION:Seven Hills Parks and Rec Center\, 7777 Summit View Dr\, Seven HIlls\, OH\, 44131\, United States
CATEGORIES:Cardio Drumming
ATTACH;FMTTYPE=image/png:https://rec2connect.org/wp-content/uploads/2025/07/CardioDrum_01.png
ORGANIZER;CN="Rec2Connect":MAILTO:scheduling@rec2connect.org
END:VEVENT
BEGIN:VEVENT
DTSTART;TZID=America/New_York:20251008T170000
DTEND;TZID=America/New_York:20251008T180000
DTSTAMP:20260425T083738
CREATED:20250720T130248Z
LAST-MODIFIED:20260221T023449Z
UID:10001764-1759942800-1759946400@rec2connect.org
SUMMARY:Razorsharks Practice
DESCRIPTION:We work on swim stroke development\, increasing endurance\, and competing with our team \nNOTE: Drop-in or Monthly packages available!  Please inquire at registration.
URL:https://rec2connect.org/event/razorsharks-practice-9/2025-10-08/
LOCATION:Seven Hills Parks and Rec Center\, 7777 Summit View Dr\, Seven HIlls\, OH\, 44131\, United States
CATEGORIES:Razorsharks Swim Team
ATTACH;FMTTYPE=image/png:https://rec2connect.org/wp-content/uploads/2025/07/Events_Razorsharks.png
ORGANIZER;CN="Rec2Connect":MAILTO:scheduling@rec2connect.org
END:VEVENT
BEGIN:VEVENT
DTSTART;TZID=America/New_York:20251008T160000
DTEND;TZID=America/New_York:20251008T170000
DTSTAMP:20260425T083738
CREATED:20250720T130248Z
LAST-MODIFIED:20260221T023543Z
UID:10001501-1759939200-1759942800@rec2connect.org
SUMMARY:Razorsharks Practice
DESCRIPTION:We work on swim stroke development\, increasing endurance\, and competing with our team \nNOTE: Drop-in or Monthly packages available!  Please inquire at registration.
URL:https://rec2connect.org/event/razorsharks-practice-8/2025-10-08/
LOCATION:Seven Hills Parks and Rec Center\, 7777 Summit View Dr\, Seven HIlls\, OH\, 44131\, United States
CATEGORIES:Razorsharks Swim Team
ATTACH;FMTTYPE=image/png:https://rec2connect.org/wp-content/uploads/2025/07/Events_Razorsharks.png
ORGANIZER;CN="Rec2Connect":MAILTO:scheduling@rec2connect.org
END:VEVENT
BEGIN:VEVENT
DTSTART;TZID=America/New_York:20251007T181500
DTEND;TZID=America/New_York:20251007T190000
DTSTAMP:20260425T083738
CREATED:20250719T054426Z
LAST-MODIFIED:20260226T220756Z
UID:10000831-1759860900-1759863600@rec2connect.org
SUMMARY:Cardio Drumming
DESCRIPTION:This 45 minute weekly exercise class for teens and adults is led by a Recreation Therapist. Cardio drumming incorporates movement\, stretching\, music\, and rhythm together for an alternative cardiovascular workout. This class focuses on range of motion\, endurance\, strengthening\, flexibility\, coordination and body awareness. \nNOTE:  There is a $5 discount for private pay!
URL:https://rec2connect.org/event/cardio-drumming-9/2025-10-07/
LOCATION:Seven Hills Parks and Rec Center\, 7777 Summit View Dr\, Seven HIlls\, OH\, 44131\, United States
CATEGORIES:Cardio Drumming
ATTACH;FMTTYPE=image/png:https://rec2connect.org/wp-content/uploads/2025/07/CardioDrum_01.png
ORGANIZER;CN="Rec2Connect":MAILTO:scheduling@rec2connect.org
END:VEVENT
BEGIN:VEVENT
DTSTART;TZID=America/New_York:20251007T170000
DTEND;TZID=America/New_York:20251007T180000
DTSTAMP:20260425T083738
CREATED:20250720T130247Z
LAST-MODIFIED:20260226T220853Z
UID:10001108-1759856400-1759860000@rec2connect.org
SUMMARY:Fit Friends
DESCRIPTION:Structured full body workouts and social interaction \nNOTE:  There is a $5 discount for private pay!
URL:https://rec2connect.org/event/fit-friends/2025-10-07/
LOCATION:Seven Hills Parks and Rec Center\, 7777 Summit View Dr\, Seven HIlls\, OH\, 44131\, United States
CATEGORIES:Fit Friends
ATTACH;FMTTYPE=image/png:https://rec2connect.org/wp-content/uploads/2025/07/Events_FitFriends.png
ORGANIZER;CN="Rec2Connect":MAILTO:scheduling@rec2connect.org
END:VEVENT
BEGIN:VEVENT
DTSTART;TZID=America/New_York:20251004T100000
DTEND;TZID=America/New_York:20251004T104500
DTSTAMP:20260425T083738
CREATED:20250720T005625Z
LAST-MODIFIED:20260226T220144Z
UID:10000568-1759572000-1759574700@rec2connect.org
SUMMARY:Cardio Drumming
DESCRIPTION:This 45 minute weekly exercise class for teens and adults is led by a Recreation Therapist. Cardio drumming incorporates movement\, stretching\, music\, and rhythm together for an alternative cardiovascular workout. This class focuses on range of motion\, endurance\, strengthening\, flexibility\, coordination and body awareness. \nNOTE:  There is a $5 discount for private pay!
URL:https://rec2connect.org/event/cardio-drumming/2025-10-04/
LOCATION:Seven Hills Parks and Rec Center\, 7777 Summit View Dr\, Seven HIlls\, OH\, 44131\, United States
CATEGORIES:Cardio Drumming
ATTACH;FMTTYPE=image/png:https://rec2connect.org/wp-content/uploads/2025/07/CardioDrum_01.png
ORGANIZER;CN="Rec2Connect":MAILTO:scheduling@rec2connect.org
END:VEVENT
BEGIN:VEVENT
DTSTART;TZID=America/New_York:20251001T170000
DTEND;TZID=America/New_York:20251001T180000
DTSTAMP:20260425T083738
CREATED:20250720T130248Z
LAST-MODIFIED:20260221T023449Z
UID:10001763-1759338000-1759341600@rec2connect.org
SUMMARY:Razorsharks Practice
DESCRIPTION:We work on swim stroke development\, increasing endurance\, and competing with our team \nNOTE: Drop-in or Monthly packages available!  Please inquire at registration.
URL:https://rec2connect.org/event/razorsharks-practice-9/2025-10-01/
LOCATION:Seven Hills Parks and Rec Center\, 7777 Summit View Dr\, Seven HIlls\, OH\, 44131\, United States
CATEGORIES:Razorsharks Swim Team
ATTACH;FMTTYPE=image/png:https://rec2connect.org/wp-content/uploads/2025/07/Events_Razorsharks.png
ORGANIZER;CN="Rec2Connect":MAILTO:scheduling@rec2connect.org
END:VEVENT
BEGIN:VEVENT
DTSTART;TZID=America/New_York:20251001T160000
DTEND;TZID=America/New_York:20251001T170000
DTSTAMP:20260425T083738
CREATED:20250720T130248Z
LAST-MODIFIED:20260221T023543Z
UID:10001500-1759334400-1759338000@rec2connect.org
SUMMARY:Razorsharks Practice
DESCRIPTION:We work on swim stroke development\, increasing endurance\, and competing with our team \nNOTE: Drop-in or Monthly packages available!  Please inquire at registration.
URL:https://rec2connect.org/event/razorsharks-practice-8/2025-10-01/
LOCATION:Seven Hills Parks and Rec Center\, 7777 Summit View Dr\, Seven HIlls\, OH\, 44131\, United States
CATEGORIES:Razorsharks Swim Team
ATTACH;FMTTYPE=image/png:https://rec2connect.org/wp-content/uploads/2025/07/Events_Razorsharks.png
ORGANIZER;CN="Rec2Connect":MAILTO:scheduling@rec2connect.org
END:VEVENT
BEGIN:VEVENT
DTSTART;TZID=America/New_York:20250930T181500
DTEND;TZID=America/New_York:20250930T190000
DTSTAMP:20260425T083738
CREATED:20250719T054426Z
LAST-MODIFIED:20260226T220756Z
UID:10000830-1759256100-1759258800@rec2connect.org
SUMMARY:Cardio Drumming
DESCRIPTION:This 45 minute weekly exercise class for teens and adults is led by a Recreation Therapist. Cardio drumming incorporates movement\, stretching\, music\, and rhythm together for an alternative cardiovascular workout. This class focuses on range of motion\, endurance\, strengthening\, flexibility\, coordination and body awareness. \nNOTE:  There is a $5 discount for private pay!
URL:https://rec2connect.org/event/cardio-drumming-9/2025-09-30/
LOCATION:Seven Hills Parks and Rec Center\, 7777 Summit View Dr\, Seven HIlls\, OH\, 44131\, United States
CATEGORIES:Cardio Drumming
ATTACH;FMTTYPE=image/png:https://rec2connect.org/wp-content/uploads/2025/07/CardioDrum_01.png
ORGANIZER;CN="Rec2Connect":MAILTO:scheduling@rec2connect.org
END:VEVENT
BEGIN:VEVENT
DTSTART;TZID=America/New_York:20250930T170000
DTEND;TZID=America/New_York:20250930T180000
DTSTAMP:20260425T083738
CREATED:20250720T130247Z
LAST-MODIFIED:20260226T220853Z
UID:10001107-1759251600-1759255200@rec2connect.org
SUMMARY:Fit Friends
DESCRIPTION:Structured full body workouts and social interaction \nNOTE:  There is a $5 discount for private pay!
URL:https://rec2connect.org/event/fit-friends/2025-09-30/
LOCATION:Seven Hills Parks and Rec Center\, 7777 Summit View Dr\, Seven HIlls\, OH\, 44131\, United States
CATEGORIES:Fit Friends
ATTACH;FMTTYPE=image/png:https://rec2connect.org/wp-content/uploads/2025/07/Events_FitFriends.png
ORGANIZER;CN="Rec2Connect":MAILTO:scheduling@rec2connect.org
END:VEVENT
BEGIN:VEVENT
DTSTART;TZID=America/New_York:20250927T100000
DTEND;TZID=America/New_York:20250927T104500
DTSTAMP:20260425T083738
CREATED:20250720T005625Z
LAST-MODIFIED:20260226T220144Z
UID:10000567-1758967200-1758969900@rec2connect.org
SUMMARY:Cardio Drumming
DESCRIPTION:This 45 minute weekly exercise class for teens and adults is led by a Recreation Therapist. Cardio drumming incorporates movement\, stretching\, music\, and rhythm together for an alternative cardiovascular workout. This class focuses on range of motion\, endurance\, strengthening\, flexibility\, coordination and body awareness. \nNOTE:  There is a $5 discount for private pay!
URL:https://rec2connect.org/event/cardio-drumming/2025-09-27/
LOCATION:Seven Hills Parks and Rec Center\, 7777 Summit View Dr\, Seven HIlls\, OH\, 44131\, United States
CATEGORIES:Cardio Drumming
ATTACH;FMTTYPE=image/png:https://rec2connect.org/wp-content/uploads/2025/07/CardioDrum_01.png
ORGANIZER;CN="Rec2Connect":MAILTO:scheduling@rec2connect.org
END:VEVENT
END:VCALENDAR