BEGIN:VCALENDAR
VERSION:2.0
PRODID:-//Rec2Connect - ECPv6.15.20//NONSGML v1.0//EN
CALSCALE:GREGORIAN
METHOD:PUBLISH
X-WR-CALNAME:Rec2Connect
X-ORIGINAL-URL:https://rec2connect.org
X-WR-CALDESC:Events for Rec2Connect
REFRESH-INTERVAL;VALUE=DURATION:PT1H
X-Robots-Tag:noindex
X-PUBLISHED-TTL:PT1H
BEGIN:VTIMEZONE
TZID:America/New_York
BEGIN:DAYLIGHT
TZOFFSETFROM:-0500
TZOFFSETTO:-0400
TZNAME:EDT
DTSTART:20250309T070000
END:DAYLIGHT
BEGIN:STANDARD
TZOFFSETFROM:-0400
TZOFFSETTO:-0500
TZNAME:EST
DTSTART:20251102T060000
END:STANDARD
BEGIN:DAYLIGHT
TZOFFSETFROM:-0500
TZOFFSETTO:-0400
TZNAME:EDT
DTSTART:20260308T070000
END:DAYLIGHT
BEGIN:STANDARD
TZOFFSETFROM:-0400
TZOFFSETTO:-0500
TZNAME:EST
DTSTART:20261101T060000
END:STANDARD
BEGIN:DAYLIGHT
TZOFFSETFROM:-0500
TZOFFSETTO:-0400
TZNAME:EDT
DTSTART:20270314T070000
END:DAYLIGHT
BEGIN:STANDARD
TZOFFSETFROM:-0400
TZOFFSETTO:-0500
TZNAME:EST
DTSTART:20271107T060000
END:STANDARD
END:VTIMEZONE
BEGIN:VEVENT
DTSTART;TZID=America/New_York:20260613T100000
DTEND;TZID=America/New_York:20260613T113000
DTSTAMP:20260424T173147
CREATED:20260416T201809Z
LAST-MODIFIED:20260416T201809Z
UID:10009348-1781344800-1781350200@rec2connect.org
SUMMARY:2026 Adapted Kayaking (Long)
DESCRIPTION:Focusing on entry-level and moderate kayaking skills.  Build upon problem solving and social skills with opportunities to learn more advanced paddle strokes.\nLimited to 5 sessions per participant.  Waitlist available.\n$5 Discount with private pay.\nPre-registration is required at least 24 hours in advance.\nTo Enroll\, all participants must have an Ensora account and all forms completed.\nTo register\, please email scheduling@rec2connect.org
URL:https://rec2connect.org/event/2026-adapted-kayaking-long-2/
LOCATION:Punderson State Park\, 11755 Kinsman Rd.\, Newbury Township\, OH\, 44065\, United States
CATEGORIES:Kayaking,Outdoor Programs
ATTACH;FMTTYPE=image/png:https://rec2connect.org/wp-content/uploads/2025/07/Kayak-2.png
ORGANIZER;CN="Rec2Connect":MAILTO:scheduling@rec2connect.org
END:VEVENT
BEGIN:VEVENT
DTSTART;TZID=America/New_York:20260613T120000
DTEND;TZID=America/New_York:20260613T140000
DTSTAMP:20260424T173147
CREATED:20260304T185053Z
LAST-MODIFIED:20260305T032024Z
UID:10009269-1781352000-1781359200@rec2connect.org
SUMMARY:2026 Family Kayak Program
DESCRIPTION:This is a beginner-level kayak program for families looking to learn more about kayaking.  Focus on entry-level kayaking skills\, safety and lake exploration.\nAt least one caregiver must attend per family.\nPre-registration is required at least 24 hours in advance.  To enroll\, all participants must have an Ensora account and all forms completed.\nTo register\, please email scheduling@rec2connect.org.
URL:https://rec2connect.org/event/2026-family-kayak-program/
LOCATION:Punderson State Park\, 11755 Kinsman Rd.\, Newbury Township\, OH\, 44065\, United States
CATEGORIES:Kayaking,Outdoor Programs
ATTACH;FMTTYPE=image/png:https://rec2connect.org/wp-content/uploads/2025/07/Kayak-2.png
ORGANIZER;CN="Rec2Connect":MAILTO:scheduling@rec2connect.org
END:VEVENT
BEGIN:VEVENT
DTSTART;TZID=America/New_York:20260808T100000
DTEND;TZID=America/New_York:20260808T110000
DTSTAMP:20260424T173147
CREATED:20260416T214424Z
LAST-MODIFIED:20260416T214424Z
UID:10009398-1786183200-1786186800@rec2connect.org
SUMMARY:Free Hiking Club
DESCRIPTION:Family and participants are invited to meet up and move through the Cleveland Metroparks\, exploring trails and making meaningful connections along the way!\nTypically an ‘out and back’ hike\nHiking Club meets for an hour and is designed to meet the needs of all ability levels!\nOptional attendance for parents/caregivers\nTo enroll\, all participants must have an Ensora account and all forms completed.
URL:https://rec2connect.org/event/free-hiking-club-7/
LOCATION:Punderson State Park\, 11755 Kinsman Rd.\, Newbury Township\, OH\, 44065\, United States
CATEGORIES:Hiking,Outdoor Programs
ATTACH;FMTTYPE=image/png:https://rec2connect.org/wp-content/uploads/2025/07/Events_HikingClub.png
ORGANIZER;CN="Rec2Connect":MAILTO:scheduling@rec2connect.org
END:VEVENT
BEGIN:VEVENT
DTSTART;TZID=America/New_York:20260808T100000
DTEND;TZID=America/New_York:20260808T113000
DTSTAMP:20260424T173147
CREATED:20260416T202345Z
LAST-MODIFIED:20260416T202345Z
UID:10009358-1786183200-1786188600@rec2connect.org
SUMMARY:2026 Adapted Kayaking (Long)
DESCRIPTION:Focusing on entry-level and moderate kayaking skills.  Build upon problem solving and social skills with opportunities to learn more advanced paddle strokes.\nLimited to 5 sessions per participant.  Waitlist available.\n$5 Discount with private pay.\nPre-registration is required at least 24 hours in advance.\nTo Enroll\, all participants must have an Ensora account and all forms completed.\nTo register\, please email scheduling@rec2connect.org
URL:https://rec2connect.org/event/2026-adapted-kayaking-long-4/
LOCATION:Punderson State Park\, 11755 Kinsman Rd.\, Newbury Township\, OH\, 44065\, United States
CATEGORIES:Kayaking,Outdoor Programs
ATTACH;FMTTYPE=image/png:https://rec2connect.org/wp-content/uploads/2025/07/Kayak-2.png
ORGANIZER;CN="Rec2Connect":MAILTO:scheduling@rec2connect.org
END:VEVENT
BEGIN:VEVENT
DTSTART;TZID=America/New_York:20260808T120000
DTEND;TZID=America/New_York:20260808T133000
DTSTAMP:20260424T173147
CREATED:20260416T202517Z
LAST-MODIFIED:20260416T202517Z
UID:10009359-1786190400-1786195800@rec2connect.org
SUMMARY:2026 Adapted Kayaking (Long)
DESCRIPTION:Focusing on entry-level and moderate kayaking skills.  Build upon problem solving and social skills with opportunities to learn more advanced paddle strokes.\nLimited to 5 sessions per participant.  Waitlist available.\n$5 Discount with private pay.\nPre-registration is required at least 24 hours in advance.\nTo Enroll\, all participants must have an Ensora account and all forms completed.\nTo register\, please email scheduling@rec2connect.org
URL:https://rec2connect.org/event/2026-adapted-kayaking-long-5/
LOCATION:Punderson State Park\, 11755 Kinsman Rd.\, Newbury Township\, OH\, 44065\, United States
CATEGORIES:Kayaking,Outdoor Programs
ATTACH;FMTTYPE=image/png:https://rec2connect.org/wp-content/uploads/2025/07/Kayak-2.png
ORGANIZER;CN="Rec2Connect":MAILTO:scheduling@rec2connect.org
END:VEVENT
BEGIN:VEVENT
DTSTART;TZID=America/New_York:20260919T100000
DTEND;TZID=America/New_York:20260919T110000
DTSTAMP:20260424T173147
CREATED:20260416T214929Z
LAST-MODIFIED:20260416T214929Z
UID:10009404-1789812000-1789815600@rec2connect.org
SUMMARY:Free Hiking Club
DESCRIPTION:Family and participants are invited to meet up and move through the Cleveland Metroparks\, exploring trails and making meaningful connections along the way!\nTypically an ‘out and back’ hike\nHiking Club meets for an hour and is designed to meet the needs of all ability levels!\nOptional attendance for parents/caregivers\nTo enroll\, all participants must have an Ensora account and all forms completed.
URL:https://rec2connect.org/event/free-hiking-club-13/
LOCATION:Punderson State Park\, 11755 Kinsman Rd.\, Newbury Township\, OH\, 44065\, United States
CATEGORIES:Hiking,Outdoor Programs
ATTACH;FMTTYPE=image/png:https://rec2connect.org/wp-content/uploads/2025/07/Events_HikingClub.png
ORGANIZER;CN="Rec2Connect":MAILTO:scheduling@rec2connect.org
END:VEVENT
BEGIN:VEVENT
DTSTART;TZID=America/New_York:20260919T100000
DTEND;TZID=America/New_York:20260919T120000
DTSTAMP:20260424T173147
CREATED:20260304T190721Z
LAST-MODIFIED:20260415T183818Z
UID:10009272-1789812000-1789819200@rec2connect.org
SUMMARY:2026 Family Kayak Program
DESCRIPTION:This is a beginner-level kayak program for families looking to learn more about kayaking.  Focus on entry-level kayaking skills\, safety and lake exploration.\nAt least one caregiver must attend per family.\nPre-registration is required at least 24 hours in advance.  To enroll\, all participants must have an Ensora account and all forms completed.\nTo register\, please email scheduling@rec2connect.org.
URL:https://rec2connect.org/event/2026-family-kayak-program-4/
LOCATION:Punderson State Park\, 11755 Kinsman Rd.\, Newbury Township\, OH\, 44065\, United States
CATEGORIES:Kayaking,Outdoor Programs
ATTACH;FMTTYPE=image/png:https://rec2connect.org/wp-content/uploads/2025/07/Kayak-2.png
ORGANIZER;CN="Rec2Connect":MAILTO:scheduling@rec2connect.org
END:VEVENT
END:VCALENDAR