BEGIN:VCALENDAR
VERSION:2.0
PRODID:-//Rec2Connect - ECPv6.15.20//NONSGML v1.0//EN
CALSCALE:GREGORIAN
METHOD:PUBLISH
X-ORIGINAL-URL:https://rec2connect.org
X-WR-CALDESC:Events for Rec2Connect
REFRESH-INTERVAL;VALUE=DURATION:PT1H
X-Robots-Tag:noindex
X-PUBLISHED-TTL:PT1H
BEGIN:VTIMEZONE
TZID:America/New_York
BEGIN:DAYLIGHT
TZOFFSETFROM:-0500
TZOFFSETTO:-0400
TZNAME:EDT
DTSTART:20240310T070000
END:DAYLIGHT
BEGIN:STANDARD
TZOFFSETFROM:-0400
TZOFFSETTO:-0500
TZNAME:EST
DTSTART:20241103T060000
END:STANDARD
BEGIN:DAYLIGHT
TZOFFSETFROM:-0500
TZOFFSETTO:-0400
TZNAME:EDT
DTSTART:20250309T070000
END:DAYLIGHT
BEGIN:STANDARD
TZOFFSETFROM:-0400
TZOFFSETTO:-0500
TZNAME:EST
DTSTART:20251102T060000
END:STANDARD
BEGIN:DAYLIGHT
TZOFFSETFROM:-0500
TZOFFSETTO:-0400
TZNAME:EDT
DTSTART:20260308T070000
END:DAYLIGHT
BEGIN:STANDARD
TZOFFSETFROM:-0400
TZOFFSETTO:-0500
TZNAME:EST
DTSTART:20261101T060000
END:STANDARD
END:VTIMEZONE
BEGIN:VEVENT
DTSTART;TZID=America/New_York:20250907T150000
DTEND;TZID=America/New_York:20250907T160000
DTSTAMP:20260425T002104
CREATED:20250720T130218Z
LAST-MODIFIED:20251010T172036Z
UID:10005040-1757257200-1757260800@rec2connect.org
SUMMARY:East Hiking Club Ages 13+
DESCRIPTION:
URL:https://rec2connect.org/event/east-hiking-club-ages-13/2025-09-07/
LOCATION:Metroparks\, TBD\, Cleveland\, OH\, United States
CATEGORIES:Hiking
ATTACH;FMTTYPE=image/png:https://rec2connect.org/wp-content/uploads/2025/07/Events_HikingClub.png
ORGANIZER;CN="Rec2Connect":MAILTO:scheduling@rec2connect.org
END:VEVENT
BEGIN:VEVENT
DTSTART;TZID=America/New_York:20250903T171500
DTEND;TZID=America/New_York:20250903T181500
DTSTAMP:20260425T002104
CREATED:20250720T130249Z
LAST-MODIFIED:20260219T202327Z
UID:10007740-1756919700-1756923300@rec2connect.org
SUMMARY:West Hiking Club Ages 13+
DESCRIPTION:
URL:https://rec2connect.org/event/west-hiking-club-ages-13/2025-09-03/
LOCATION:Metroparks\, TBD\, Cleveland\, OH\, United States
CATEGORIES:Hiking
ATTACH;FMTTYPE=image/png:https://rec2connect.org/wp-content/uploads/2025/07/Events_HikingClub.png
ORGANIZER;CN="Rec2Connect":MAILTO:scheduling@rec2connect.org
END:VEVENT
BEGIN:VEVENT
DTSTART;TZID=America/New_York:20250831T161500
DTEND;TZID=America/New_York:20250831T171500
DTSTAMP:20260425T002104
CREATED:20250720T130232Z
LAST-MODIFIED:20251010T171606Z
UID:10005959-1756656900-1756660500@rec2connect.org
SUMMARY:East Hiking Club Ages 7-12
DESCRIPTION:
URL:https://rec2connect.org/event/east-hiking-club-ages-7-12/2025-08-31/
LOCATION:Metroparks\, TBD\, Cleveland\, OH\, United States
CATEGORIES:Hiking
ATTACH;FMTTYPE=image/png:https://rec2connect.org/wp-content/uploads/2025/07/Events_HikingClub.png
ORGANIZER;CN="Rec2Connect":MAILTO:scheduling@rec2connect.org
END:VEVENT
BEGIN:VEVENT
DTSTART;TZID=America/New_York:20250831T150000
DTEND;TZID=America/New_York:20250831T160000
DTSTAMP:20260425T002104
CREATED:20250720T130218Z
LAST-MODIFIED:20251010T172036Z
UID:10005039-1756652400-1756656000@rec2connect.org
SUMMARY:East Hiking Club Ages 13+
DESCRIPTION:
URL:https://rec2connect.org/event/east-hiking-club-ages-13/2025-08-31/
LOCATION:Metroparks\, TBD\, Cleveland\, OH\, United States
CATEGORIES:Hiking
ATTACH;FMTTYPE=image/png:https://rec2connect.org/wp-content/uploads/2025/07/Events_HikingClub.png
ORGANIZER;CN="Rec2Connect":MAILTO:scheduling@rec2connect.org
END:VEVENT
BEGIN:VEVENT
DTSTART;TZID=America/New_York:20250827T171500
DTEND;TZID=America/New_York:20250827T181500
DTSTAMP:20260425T002104
CREATED:20250720T130249Z
LAST-MODIFIED:20260219T202327Z
UID:10007739-1756314900-1756318500@rec2connect.org
SUMMARY:West Hiking Club Ages 13+
DESCRIPTION:
URL:https://rec2connect.org/event/west-hiking-club-ages-13/2025-08-27/
LOCATION:Metroparks\, TBD\, Cleveland\, OH\, United States
CATEGORIES:Hiking
ATTACH;FMTTYPE=image/png:https://rec2connect.org/wp-content/uploads/2025/07/Events_HikingClub.png
ORGANIZER;CN="Rec2Connect":MAILTO:scheduling@rec2connect.org
END:VEVENT
BEGIN:VEVENT
DTSTART;TZID=America/New_York:20250824T161500
DTEND;TZID=America/New_York:20250824T171500
DTSTAMP:20260425T002104
CREATED:20250720T130232Z
LAST-MODIFIED:20251010T171606Z
UID:10005958-1756052100-1756055700@rec2connect.org
SUMMARY:East Hiking Club Ages 7-12
DESCRIPTION:
URL:https://rec2connect.org/event/east-hiking-club-ages-7-12/2025-08-24/
LOCATION:Metroparks\, TBD\, Cleveland\, OH\, United States
CATEGORIES:Hiking
ATTACH;FMTTYPE=image/png:https://rec2connect.org/wp-content/uploads/2025/07/Events_HikingClub.png
ORGANIZER;CN="Rec2Connect":MAILTO:scheduling@rec2connect.org
END:VEVENT
BEGIN:VEVENT
DTSTART;TZID=America/New_York:20250824T150000
DTEND;TZID=America/New_York:20250824T160000
DTSTAMP:20260425T002104
CREATED:20250720T130218Z
LAST-MODIFIED:20251010T172036Z
UID:10005038-1756047600-1756051200@rec2connect.org
SUMMARY:East Hiking Club Ages 13+
DESCRIPTION:
URL:https://rec2connect.org/event/east-hiking-club-ages-13/2025-08-24/
LOCATION:Metroparks\, TBD\, Cleveland\, OH\, United States
CATEGORIES:Hiking
ATTACH;FMTTYPE=image/png:https://rec2connect.org/wp-content/uploads/2025/07/Events_HikingClub.png
ORGANIZER;CN="Rec2Connect":MAILTO:scheduling@rec2connect.org
END:VEVENT
BEGIN:VEVENT
DTSTART;TZID=America/New_York:20250820T171500
DTEND;TZID=America/New_York:20250820T181500
DTSTAMP:20260425T002104
CREATED:20250720T130249Z
LAST-MODIFIED:20260219T202327Z
UID:10007738-1755710100-1755713700@rec2connect.org
SUMMARY:West Hiking Club Ages 13+
DESCRIPTION:
URL:https://rec2connect.org/event/west-hiking-club-ages-13/2025-08-20/
LOCATION:Metroparks\, TBD\, Cleveland\, OH\, United States
CATEGORIES:Hiking
ATTACH;FMTTYPE=image/png:https://rec2connect.org/wp-content/uploads/2025/07/Events_HikingClub.png
ORGANIZER;CN="Rec2Connect":MAILTO:scheduling@rec2connect.org
END:VEVENT
BEGIN:VEVENT
DTSTART;TZID=America/New_York:20250817T161500
DTEND;TZID=America/New_York:20250817T171500
DTSTAMP:20260425T002104
CREATED:20250720T130232Z
LAST-MODIFIED:20251010T171606Z
UID:10005957-1755447300-1755450900@rec2connect.org
SUMMARY:East Hiking Club Ages 7-12
DESCRIPTION:
URL:https://rec2connect.org/event/east-hiking-club-ages-7-12/2025-08-17/
LOCATION:Metroparks\, TBD\, Cleveland\, OH\, United States
CATEGORIES:Hiking
ATTACH;FMTTYPE=image/png:https://rec2connect.org/wp-content/uploads/2025/07/Events_HikingClub.png
ORGANIZER;CN="Rec2Connect":MAILTO:scheduling@rec2connect.org
END:VEVENT
BEGIN:VEVENT
DTSTART;TZID=America/New_York:20250817T150000
DTEND;TZID=America/New_York:20250817T160000
DTSTAMP:20260425T002104
CREATED:20250720T130218Z
LAST-MODIFIED:20251010T172036Z
UID:10005037-1755442800-1755446400@rec2connect.org
SUMMARY:East Hiking Club Ages 13+
DESCRIPTION:
URL:https://rec2connect.org/event/east-hiking-club-ages-13/2025-08-17/
LOCATION:Metroparks\, TBD\, Cleveland\, OH\, United States
CATEGORIES:Hiking
ATTACH;FMTTYPE=image/png:https://rec2connect.org/wp-content/uploads/2025/07/Events_HikingClub.png
ORGANIZER;CN="Rec2Connect":MAILTO:scheduling@rec2connect.org
END:VEVENT
BEGIN:VEVENT
DTSTART;TZID=America/New_York:20250813T171500
DTEND;TZID=America/New_York:20250813T181500
DTSTAMP:20260425T002104
CREATED:20250720T130249Z
LAST-MODIFIED:20260219T202327Z
UID:10007737-1755105300-1755108900@rec2connect.org
SUMMARY:West Hiking Club Ages 13+
DESCRIPTION:
URL:https://rec2connect.org/event/west-hiking-club-ages-13/2025-08-13/
LOCATION:Metroparks\, TBD\, Cleveland\, OH\, United States
CATEGORIES:Hiking
ATTACH;FMTTYPE=image/png:https://rec2connect.org/wp-content/uploads/2025/07/Events_HikingClub.png
ORGANIZER;CN="Rec2Connect":MAILTO:scheduling@rec2connect.org
END:VEVENT
BEGIN:VEVENT
DTSTART;TZID=America/New_York:20250810T161500
DTEND;TZID=America/New_York:20250810T171500
DTSTAMP:20260425T002104
CREATED:20250720T130232Z
LAST-MODIFIED:20251010T171606Z
UID:10005956-1754842500-1754846100@rec2connect.org
SUMMARY:East Hiking Club Ages 7-12
DESCRIPTION:
URL:https://rec2connect.org/event/east-hiking-club-ages-7-12/2025-08-10/
LOCATION:Metroparks\, TBD\, Cleveland\, OH\, United States
CATEGORIES:Hiking
ATTACH;FMTTYPE=image/png:https://rec2connect.org/wp-content/uploads/2025/07/Events_HikingClub.png
ORGANIZER;CN="Rec2Connect":MAILTO:scheduling@rec2connect.org
END:VEVENT
BEGIN:VEVENT
DTSTART;TZID=America/New_York:20250810T150000
DTEND;TZID=America/New_York:20250810T160000
DTSTAMP:20260425T002104
CREATED:20250720T130218Z
LAST-MODIFIED:20251010T172036Z
UID:10005036-1754838000-1754841600@rec2connect.org
SUMMARY:East Hiking Club Ages 13+
DESCRIPTION:
URL:https://rec2connect.org/event/east-hiking-club-ages-13/2025-08-10/
LOCATION:Metroparks\, TBD\, Cleveland\, OH\, United States
CATEGORIES:Hiking
ATTACH;FMTTYPE=image/png:https://rec2connect.org/wp-content/uploads/2025/07/Events_HikingClub.png
ORGANIZER;CN="Rec2Connect":MAILTO:scheduling@rec2connect.org
END:VEVENT
BEGIN:VEVENT
DTSTART;TZID=America/New_York:20250806T171500
DTEND;TZID=America/New_York:20250806T181500
DTSTAMP:20260425T002104
CREATED:20250720T130249Z
LAST-MODIFIED:20260219T202327Z
UID:10007736-1754500500-1754504100@rec2connect.org
SUMMARY:West Hiking Club Ages 13+
DESCRIPTION:
URL:https://rec2connect.org/event/west-hiking-club-ages-13/2025-08-06/
LOCATION:Metroparks\, TBD\, Cleveland\, OH\, United States
CATEGORIES:Hiking
ATTACH;FMTTYPE=image/png:https://rec2connect.org/wp-content/uploads/2025/07/Events_HikingClub.png
ORGANIZER;CN="Rec2Connect":MAILTO:scheduling@rec2connect.org
END:VEVENT
BEGIN:VEVENT
DTSTART;TZID=America/New_York:20250803T161500
DTEND;TZID=America/New_York:20250803T171500
DTSTAMP:20260425T002104
CREATED:20250720T130232Z
LAST-MODIFIED:20251010T171606Z
UID:10005955-1754237700-1754241300@rec2connect.org
SUMMARY:East Hiking Club Ages 7-12
DESCRIPTION:
URL:https://rec2connect.org/event/east-hiking-club-ages-7-12/2025-08-03/
LOCATION:Metroparks\, TBD\, Cleveland\, OH\, United States
CATEGORIES:Hiking
ATTACH;FMTTYPE=image/png:https://rec2connect.org/wp-content/uploads/2025/07/Events_HikingClub.png
ORGANIZER;CN="Rec2Connect":MAILTO:scheduling@rec2connect.org
END:VEVENT
BEGIN:VEVENT
DTSTART;TZID=America/New_York:20250803T150000
DTEND;TZID=America/New_York:20250803T160000
DTSTAMP:20260425T002104
CREATED:20250720T130218Z
LAST-MODIFIED:20251010T172036Z
UID:10005035-1754233200-1754236800@rec2connect.org
SUMMARY:East Hiking Club Ages 13+
DESCRIPTION:
URL:https://rec2connect.org/event/east-hiking-club-ages-13/2025-08-03/
LOCATION:Metroparks\, TBD\, Cleveland\, OH\, United States
CATEGORIES:Hiking
ATTACH;FMTTYPE=image/png:https://rec2connect.org/wp-content/uploads/2025/07/Events_HikingClub.png
ORGANIZER;CN="Rec2Connect":MAILTO:scheduling@rec2connect.org
END:VEVENT
BEGIN:VEVENT
DTSTART;TZID=America/New_York:20250730T171500
DTEND;TZID=America/New_York:20250730T181500
DTSTAMP:20260425T002104
CREATED:20250720T130249Z
LAST-MODIFIED:20260219T202327Z
UID:10007735-1753895700-1753899300@rec2connect.org
SUMMARY:West Hiking Club Ages 13+
DESCRIPTION:
URL:https://rec2connect.org/event/west-hiking-club-ages-13/2025-07-30/
LOCATION:Metroparks\, TBD\, Cleveland\, OH\, United States
CATEGORIES:Hiking
ATTACH;FMTTYPE=image/png:https://rec2connect.org/wp-content/uploads/2025/07/Events_HikingClub.png
ORGANIZER;CN="Rec2Connect":MAILTO:scheduling@rec2connect.org
END:VEVENT
BEGIN:VEVENT
DTSTART;TZID=America/New_York:20250727T161500
DTEND;TZID=America/New_York:20250727T171500
DTSTAMP:20260425T002104
CREATED:20250720T130232Z
LAST-MODIFIED:20251010T171606Z
UID:10005954-1753632900-1753636500@rec2connect.org
SUMMARY:East Hiking Club Ages 7-12
DESCRIPTION:
URL:https://rec2connect.org/event/east-hiking-club-ages-7-12/2025-07-27/
LOCATION:Metroparks\, TBD\, Cleveland\, OH\, United States
CATEGORIES:Hiking
ATTACH;FMTTYPE=image/png:https://rec2connect.org/wp-content/uploads/2025/07/Events_HikingClub.png
ORGANIZER;CN="Rec2Connect":MAILTO:scheduling@rec2connect.org
END:VEVENT
BEGIN:VEVENT
DTSTART;TZID=America/New_York:20250727T150000
DTEND;TZID=America/New_York:20250727T160000
DTSTAMP:20260425T002104
CREATED:20250720T130218Z
LAST-MODIFIED:20251010T172036Z
UID:10005034-1753628400-1753632000@rec2connect.org
SUMMARY:East Hiking Club Ages 13+
DESCRIPTION:
URL:https://rec2connect.org/event/east-hiking-club-ages-13/2025-07-27/
LOCATION:Metroparks\, TBD\, Cleveland\, OH\, United States
CATEGORIES:Hiking
ATTACH;FMTTYPE=image/png:https://rec2connect.org/wp-content/uploads/2025/07/Events_HikingClub.png
ORGANIZER;CN="Rec2Connect":MAILTO:scheduling@rec2connect.org
END:VEVENT
BEGIN:VEVENT
DTSTART;TZID=America/New_York:20250723T171500
DTEND;TZID=America/New_York:20250723T181500
DTSTAMP:20260425T002104
CREATED:20250720T130249Z
LAST-MODIFIED:20260219T202327Z
UID:10007734-1753290900-1753294500@rec2connect.org
SUMMARY:West Hiking Club Ages 13+
DESCRIPTION:
URL:https://rec2connect.org/event/west-hiking-club-ages-13/2025-07-23/
LOCATION:Metroparks\, TBD\, Cleveland\, OH\, United States
CATEGORIES:Hiking
ATTACH;FMTTYPE=image/png:https://rec2connect.org/wp-content/uploads/2025/07/Events_HikingClub.png
ORGANIZER;CN="Rec2Connect":MAILTO:scheduling@rec2connect.org
END:VEVENT
BEGIN:VEVENT
DTSTART;TZID=America/New_York:20250720T161500
DTEND;TZID=America/New_York:20250720T171500
DTSTAMP:20260425T002104
CREATED:20250720T130232Z
LAST-MODIFIED:20251010T171606Z
UID:10005953-1753028100-1753031700@rec2connect.org
SUMMARY:East Hiking Club Ages 7-12
DESCRIPTION:
URL:https://rec2connect.org/event/east-hiking-club-ages-7-12/2025-07-20/
LOCATION:Metroparks\, TBD\, Cleveland\, OH\, United States
CATEGORIES:Hiking
ATTACH;FMTTYPE=image/png:https://rec2connect.org/wp-content/uploads/2025/07/Events_HikingClub.png
ORGANIZER;CN="Rec2Connect":MAILTO:scheduling@rec2connect.org
END:VEVENT
BEGIN:VEVENT
DTSTART;TZID=America/New_York:20250720T150000
DTEND;TZID=America/New_York:20250720T160000
DTSTAMP:20260425T002104
CREATED:20250720T130218Z
LAST-MODIFIED:20251010T172036Z
UID:10005033-1753023600-1753027200@rec2connect.org
SUMMARY:East Hiking Club Ages 13+
DESCRIPTION:
URL:https://rec2connect.org/event/east-hiking-club-ages-13/2025-07-20/
LOCATION:Metroparks\, TBD\, Cleveland\, OH\, United States
CATEGORIES:Hiking
ATTACH;FMTTYPE=image/png:https://rec2connect.org/wp-content/uploads/2025/07/Events_HikingClub.png
ORGANIZER;CN="Rec2Connect":MAILTO:scheduling@rec2connect.org
END:VEVENT
BEGIN:VEVENT
DTSTART;TZID=America/New_York:20250716T171500
DTEND;TZID=America/New_York:20250716T181500
DTSTAMP:20260425T002104
CREATED:20250720T130249Z
LAST-MODIFIED:20260219T202327Z
UID:10007733-1752686100-1752689700@rec2connect.org
SUMMARY:West Hiking Club Ages 13+
DESCRIPTION:
URL:https://rec2connect.org/event/west-hiking-club-ages-13/2025-07-16/
LOCATION:Metroparks\, TBD\, Cleveland\, OH\, United States
CATEGORIES:Hiking
ATTACH;FMTTYPE=image/png:https://rec2connect.org/wp-content/uploads/2025/07/Events_HikingClub.png
ORGANIZER;CN="Rec2Connect":MAILTO:scheduling@rec2connect.org
END:VEVENT
BEGIN:VEVENT
DTSTART;TZID=America/New_York:20250713T161500
DTEND;TZID=America/New_York:20250713T171500
DTSTAMP:20260425T002104
CREATED:20250720T130232Z
LAST-MODIFIED:20251010T171606Z
UID:10005952-1752423300-1752426900@rec2connect.org
SUMMARY:East Hiking Club Ages 7-12
DESCRIPTION:
URL:https://rec2connect.org/event/east-hiking-club-ages-7-12/2025-07-13/
LOCATION:Metroparks\, TBD\, Cleveland\, OH\, United States
CATEGORIES:Hiking
ATTACH;FMTTYPE=image/png:https://rec2connect.org/wp-content/uploads/2025/07/Events_HikingClub.png
ORGANIZER;CN="Rec2Connect":MAILTO:scheduling@rec2connect.org
END:VEVENT
BEGIN:VEVENT
DTSTART;TZID=America/New_York:20250713T150000
DTEND;TZID=America/New_York:20250713T160000
DTSTAMP:20260425T002104
CREATED:20250720T130218Z
LAST-MODIFIED:20251010T172036Z
UID:10005032-1752418800-1752422400@rec2connect.org
SUMMARY:East Hiking Club Ages 13+
DESCRIPTION:
URL:https://rec2connect.org/event/east-hiking-club-ages-13/2025-07-13/
LOCATION:Metroparks\, TBD\, Cleveland\, OH\, United States
CATEGORIES:Hiking
ATTACH;FMTTYPE=image/png:https://rec2connect.org/wp-content/uploads/2025/07/Events_HikingClub.png
ORGANIZER;CN="Rec2Connect":MAILTO:scheduling@rec2connect.org
END:VEVENT
BEGIN:VEVENT
DTSTART;TZID=America/New_York:20250709T171500
DTEND;TZID=America/New_York:20250709T181500
DTSTAMP:20260425T002104
CREATED:20250720T130249Z
LAST-MODIFIED:20260219T202327Z
UID:10007732-1752081300-1752084900@rec2connect.org
SUMMARY:West Hiking Club Ages 13+
DESCRIPTION:
URL:https://rec2connect.org/event/west-hiking-club-ages-13/2025-07-09/
LOCATION:Metroparks\, TBD\, Cleveland\, OH\, United States
CATEGORIES:Hiking
ATTACH;FMTTYPE=image/png:https://rec2connect.org/wp-content/uploads/2025/07/Events_HikingClub.png
ORGANIZER;CN="Rec2Connect":MAILTO:scheduling@rec2connect.org
END:VEVENT
BEGIN:VEVENT
DTSTART;TZID=America/New_York:20250706T161500
DTEND;TZID=America/New_York:20250706T171500
DTSTAMP:20260425T002104
CREATED:20250720T130232Z
LAST-MODIFIED:20251010T171606Z
UID:10005951-1751818500-1751822100@rec2connect.org
SUMMARY:East Hiking Club Ages 7-12
DESCRIPTION:
URL:https://rec2connect.org/event/east-hiking-club-ages-7-12/2025-07-06/
LOCATION:Metroparks\, TBD\, Cleveland\, OH\, United States
CATEGORIES:Hiking
ATTACH;FMTTYPE=image/png:https://rec2connect.org/wp-content/uploads/2025/07/Events_HikingClub.png
ORGANIZER;CN="Rec2Connect":MAILTO:scheduling@rec2connect.org
END:VEVENT
BEGIN:VEVENT
DTSTART;TZID=America/New_York:20250706T150000
DTEND;TZID=America/New_York:20250706T160000
DTSTAMP:20260425T002104
CREATED:20250720T130218Z
LAST-MODIFIED:20251010T172036Z
UID:10001083-1751814000-1751817600@rec2connect.org
SUMMARY:East Hiking Club Ages 13+
DESCRIPTION:
URL:https://rec2connect.org/event/east-hiking-club-ages-13/2025-07-06/
LOCATION:Metroparks\, TBD\, Cleveland\, OH\, United States
CATEGORIES:Hiking
ATTACH;FMTTYPE=image/png:https://rec2connect.org/wp-content/uploads/2025/07/Events_HikingClub.png
ORGANIZER;CN="Rec2Connect":MAILTO:scheduling@rec2connect.org
END:VEVENT
BEGIN:VEVENT
DTSTART;TZID=America/New_York:20250702T171500
DTEND;TZID=America/New_York:20250702T181500
DTSTAMP:20260425T002104
CREATED:20250720T130249Z
LAST-MODIFIED:20260219T202327Z
UID:10007731-1751476500-1751480100@rec2connect.org
SUMMARY:West Hiking Club Ages 13+
DESCRIPTION:
URL:https://rec2connect.org/event/west-hiking-club-ages-13/2025-07-02/
LOCATION:Metroparks\, TBD\, Cleveland\, OH\, United States
CATEGORIES:Hiking
ATTACH;FMTTYPE=image/png:https://rec2connect.org/wp-content/uploads/2025/07/Events_HikingClub.png
ORGANIZER;CN="Rec2Connect":MAILTO:scheduling@rec2connect.org
END:VEVENT
END:VCALENDAR