BEGIN:VCALENDAR
VERSION:2.0
PRODID:-//Rec2Connect - ECPv6.15.20//NONSGML v1.0//EN
CALSCALE:GREGORIAN
METHOD:PUBLISH
X-WR-CALNAME:Rec2Connect
X-ORIGINAL-URL:https://rec2connect.org
X-WR-CALDESC:Events for Rec2Connect
REFRESH-INTERVAL;VALUE=DURATION:PT1H
X-Robots-Tag:noindex
X-PUBLISHED-TTL:PT1H
BEGIN:VTIMEZONE
TZID:America/New_York
BEGIN:DAYLIGHT
TZOFFSETFROM:-0500
TZOFFSETTO:-0400
TZNAME:EDT
DTSTART:20270314T070000
END:DAYLIGHT
BEGIN:STANDARD
TZOFFSETFROM:-0400
TZOFFSETTO:-0500
TZNAME:EST
DTSTART:20271107T060000
END:STANDARD
BEGIN:DAYLIGHT
TZOFFSETFROM:-0500
TZOFFSETTO:-0400
TZNAME:EDT
DTSTART:20280312T070000
END:DAYLIGHT
BEGIN:STANDARD
TZOFFSETFROM:-0400
TZOFFSETTO:-0500
TZNAME:EST
DTSTART:20281105T060000
END:STANDARD
BEGIN:DAYLIGHT
TZOFFSETFROM:-0500
TZOFFSETTO:-0400
TZNAME:EDT
DTSTART:20290311T070000
END:DAYLIGHT
BEGIN:STANDARD
TZOFFSETFROM:-0400
TZOFFSETTO:-0500
TZNAME:EST
DTSTART:20291104T060000
END:STANDARD
END:VTIMEZONE
BEGIN:VEVENT
DTSTART;TZID=America/New_York:20280427T163000
DTEND;TZID=America/New_York:20280427T171500
DTSTAMP:20260425T231153
CREATED:20250720T130249Z
LAST-MODIFIED:20260226T220634Z
UID:10002160-1840465800-1840468500@rec2connect.org
SUMMARY:Cardio Drumming
DESCRIPTION:This 45 minute weekly exercise class for teens and adults is led by a Recreation Therapist. Cardio drumming incorporates movement\, stretching\, music\, and rhythm together for an alternative cardiovascular workout. This class focuses on range of motion\, endurance\, strengthening\, flexibility\, coordination and body awareness. \nNOTE:  There is a $5 discount for private pay!
URL:https://rec2connect.org/event/cardio-drumming-18/2028-04-27/
LOCATION:Gemini Center (Fairview)\, 21225 Lorain Rd\, Cleveland\, OH\, 44126\, United States
CATEGORIES:Cardio Drumming
ATTACH;FMTTYPE=image/png:https://rec2connect.org/wp-content/uploads/2025/07/Events_CardioDrum.png
ORGANIZER;CN="Rec2Connect":MAILTO:scheduling@rec2connect.org
END:VEVENT
BEGIN:VEVENT
DTSTART;TZID=America/New_York:20280427T173000
DTEND;TZID=America/New_York:20280427T181500
DTSTAMP:20260425T231153
CREATED:20250720T130302Z
LAST-MODIFIED:20260226T220528Z
UID:10002423-1840469400-1840472100@rec2connect.org
SUMMARY:Pedal Power
DESCRIPTION:Indoor stationary bike riding class that will work on bike riding skills\, balance\, strength\, endurance and motor planning \nNOTE:  There is a $5 discount for private pay!
URL:https://rec2connect.org/event/pedal-power/2028-04-27/
LOCATION:Gemini Center (Fairview)\, 21225 Lorain Rd\, Cleveland\, OH\, 44126\, United States
CATEGORIES:Pedal Power
ATTACH;FMTTYPE=image/png:https://rec2connect.org/wp-content/uploads/2025/07/Events_PedalPower.png
ORGANIZER;CN="Rec2Connect":MAILTO:scheduling@rec2connect.org
END:VEVENT
BEGIN:VEVENT
DTSTART;TZID=America/New_York:20280427T183000
DTEND;TZID=America/New_York:20280427T193000
DTSTAMP:20260425T231153
CREATED:20250720T130303Z
LAST-MODIFIED:20260226T220341Z
UID:10002686-1840473000-1840476600@rec2connect.org
SUMMARY:Fit Friends
DESCRIPTION:Structured full body workouts and social interaction \nNOTE:  There is a $5 discount for private pay!
URL:https://rec2connect.org/event/fit-friends-2/2028-04-27/
LOCATION:Gemini Center (Fairview)\, 21225 Lorain Rd\, Cleveland\, OH\, 44126\, United States
CATEGORIES:Fit Friends
ATTACH;FMTTYPE=image/png:https://rec2connect.org/wp-content/uploads/2025/07/Events_FitFriends.png
ORGANIZER;CN="Rec2Connect":MAILTO:scheduling@rec2connect.org
END:VEVENT
BEGIN:VEVENT
DTSTART;TZID=America/New_York:20280504T163000
DTEND;TZID=America/New_York:20280504T171500
DTSTAMP:20260425T231153
CREATED:20250720T130249Z
LAST-MODIFIED:20260226T220634Z
UID:10002161-1841070600-1841073300@rec2connect.org
SUMMARY:Cardio Drumming
DESCRIPTION:This 45 minute weekly exercise class for teens and adults is led by a Recreation Therapist. Cardio drumming incorporates movement\, stretching\, music\, and rhythm together for an alternative cardiovascular workout. This class focuses on range of motion\, endurance\, strengthening\, flexibility\, coordination and body awareness. \nNOTE:  There is a $5 discount for private pay!
URL:https://rec2connect.org/event/cardio-drumming-18/2028-05-04/
LOCATION:Gemini Center (Fairview)\, 21225 Lorain Rd\, Cleveland\, OH\, 44126\, United States
CATEGORIES:Cardio Drumming
ATTACH;FMTTYPE=image/png:https://rec2connect.org/wp-content/uploads/2025/07/Events_CardioDrum.png
ORGANIZER;CN="Rec2Connect":MAILTO:scheduling@rec2connect.org
END:VEVENT
BEGIN:VEVENT
DTSTART;TZID=America/New_York:20280504T173000
DTEND;TZID=America/New_York:20280504T181500
DTSTAMP:20260425T231153
CREATED:20250720T130302Z
LAST-MODIFIED:20260226T220528Z
UID:10002424-1841074200-1841076900@rec2connect.org
SUMMARY:Pedal Power
DESCRIPTION:Indoor stationary bike riding class that will work on bike riding skills\, balance\, strength\, endurance and motor planning \nNOTE:  There is a $5 discount for private pay!
URL:https://rec2connect.org/event/pedal-power/2028-05-04/
LOCATION:Gemini Center (Fairview)\, 21225 Lorain Rd\, Cleveland\, OH\, 44126\, United States
CATEGORIES:Pedal Power
ATTACH;FMTTYPE=image/png:https://rec2connect.org/wp-content/uploads/2025/07/Events_PedalPower.png
ORGANIZER;CN="Rec2Connect":MAILTO:scheduling@rec2connect.org
END:VEVENT
BEGIN:VEVENT
DTSTART;TZID=America/New_York:20280504T183000
DTEND;TZID=America/New_York:20280504T193000
DTSTAMP:20260425T231153
CREATED:20250720T130303Z
LAST-MODIFIED:20260226T220341Z
UID:10002687-1841077800-1841081400@rec2connect.org
SUMMARY:Fit Friends
DESCRIPTION:Structured full body workouts and social interaction \nNOTE:  There is a $5 discount for private pay!
URL:https://rec2connect.org/event/fit-friends-2/2028-05-04/
LOCATION:Gemini Center (Fairview)\, 21225 Lorain Rd\, Cleveland\, OH\, 44126\, United States
CATEGORIES:Fit Friends
ATTACH;FMTTYPE=image/png:https://rec2connect.org/wp-content/uploads/2025/07/Events_FitFriends.png
ORGANIZER;CN="Rec2Connect":MAILTO:scheduling@rec2connect.org
END:VEVENT
BEGIN:VEVENT
DTSTART;TZID=America/New_York:20280511T163000
DTEND;TZID=America/New_York:20280511T171500
DTSTAMP:20260425T231153
CREATED:20250720T130249Z
LAST-MODIFIED:20260226T220634Z
UID:10002162-1841675400-1841678100@rec2connect.org
SUMMARY:Cardio Drumming
DESCRIPTION:This 45 minute weekly exercise class for teens and adults is led by a Recreation Therapist. Cardio drumming incorporates movement\, stretching\, music\, and rhythm together for an alternative cardiovascular workout. This class focuses on range of motion\, endurance\, strengthening\, flexibility\, coordination and body awareness. \nNOTE:  There is a $5 discount for private pay!
URL:https://rec2connect.org/event/cardio-drumming-18/2028-05-11/
LOCATION:Gemini Center (Fairview)\, 21225 Lorain Rd\, Cleveland\, OH\, 44126\, United States
CATEGORIES:Cardio Drumming
ATTACH;FMTTYPE=image/png:https://rec2connect.org/wp-content/uploads/2025/07/Events_CardioDrum.png
ORGANIZER;CN="Rec2Connect":MAILTO:scheduling@rec2connect.org
END:VEVENT
BEGIN:VEVENT
DTSTART;TZID=America/New_York:20280511T173000
DTEND;TZID=America/New_York:20280511T181500
DTSTAMP:20260425T231153
CREATED:20250720T130302Z
LAST-MODIFIED:20260226T220528Z
UID:10002425-1841679000-1841681700@rec2connect.org
SUMMARY:Pedal Power
DESCRIPTION:Indoor stationary bike riding class that will work on bike riding skills\, balance\, strength\, endurance and motor planning \nNOTE:  There is a $5 discount for private pay!
URL:https://rec2connect.org/event/pedal-power/2028-05-11/
LOCATION:Gemini Center (Fairview)\, 21225 Lorain Rd\, Cleveland\, OH\, 44126\, United States
CATEGORIES:Pedal Power
ATTACH;FMTTYPE=image/png:https://rec2connect.org/wp-content/uploads/2025/07/Events_PedalPower.png
ORGANIZER;CN="Rec2Connect":MAILTO:scheduling@rec2connect.org
END:VEVENT
BEGIN:VEVENT
DTSTART;TZID=America/New_York:20280511T183000
DTEND;TZID=America/New_York:20280511T193000
DTSTAMP:20260425T231153
CREATED:20250720T130303Z
LAST-MODIFIED:20260226T220341Z
UID:10002688-1841682600-1841686200@rec2connect.org
SUMMARY:Fit Friends
DESCRIPTION:Structured full body workouts and social interaction \nNOTE:  There is a $5 discount for private pay!
URL:https://rec2connect.org/event/fit-friends-2/2028-05-11/
LOCATION:Gemini Center (Fairview)\, 21225 Lorain Rd\, Cleveland\, OH\, 44126\, United States
CATEGORIES:Fit Friends
ATTACH;FMTTYPE=image/png:https://rec2connect.org/wp-content/uploads/2025/07/Events_FitFriends.png
ORGANIZER;CN="Rec2Connect":MAILTO:scheduling@rec2connect.org
END:VEVENT
BEGIN:VEVENT
DTSTART;TZID=America/New_York:20280518T163000
DTEND;TZID=America/New_York:20280518T171500
DTSTAMP:20260425T231153
CREATED:20250720T130249Z
LAST-MODIFIED:20260226T220634Z
UID:10002163-1842280200-1842282900@rec2connect.org
SUMMARY:Cardio Drumming
DESCRIPTION:This 45 minute weekly exercise class for teens and adults is led by a Recreation Therapist. Cardio drumming incorporates movement\, stretching\, music\, and rhythm together for an alternative cardiovascular workout. This class focuses on range of motion\, endurance\, strengthening\, flexibility\, coordination and body awareness. \nNOTE:  There is a $5 discount for private pay!
URL:https://rec2connect.org/event/cardio-drumming-18/2028-05-18/
LOCATION:Gemini Center (Fairview)\, 21225 Lorain Rd\, Cleveland\, OH\, 44126\, United States
CATEGORIES:Cardio Drumming
ATTACH;FMTTYPE=image/png:https://rec2connect.org/wp-content/uploads/2025/07/Events_CardioDrum.png
ORGANIZER;CN="Rec2Connect":MAILTO:scheduling@rec2connect.org
END:VEVENT
BEGIN:VEVENT
DTSTART;TZID=America/New_York:20280518T173000
DTEND;TZID=America/New_York:20280518T181500
DTSTAMP:20260425T231153
CREATED:20250720T130302Z
LAST-MODIFIED:20260226T220528Z
UID:10002426-1842283800-1842286500@rec2connect.org
SUMMARY:Pedal Power
DESCRIPTION:Indoor stationary bike riding class that will work on bike riding skills\, balance\, strength\, endurance and motor planning \nNOTE:  There is a $5 discount for private pay!
URL:https://rec2connect.org/event/pedal-power/2028-05-18/
LOCATION:Gemini Center (Fairview)\, 21225 Lorain Rd\, Cleveland\, OH\, 44126\, United States
CATEGORIES:Pedal Power
ATTACH;FMTTYPE=image/png:https://rec2connect.org/wp-content/uploads/2025/07/Events_PedalPower.png
ORGANIZER;CN="Rec2Connect":MAILTO:scheduling@rec2connect.org
END:VEVENT
BEGIN:VEVENT
DTSTART;TZID=America/New_York:20280518T183000
DTEND;TZID=America/New_York:20280518T193000
DTSTAMP:20260425T231153
CREATED:20250720T130303Z
LAST-MODIFIED:20260226T220341Z
UID:10002689-1842287400-1842291000@rec2connect.org
SUMMARY:Fit Friends
DESCRIPTION:Structured full body workouts and social interaction \nNOTE:  There is a $5 discount for private pay!
URL:https://rec2connect.org/event/fit-friends-2/2028-05-18/
LOCATION:Gemini Center (Fairview)\, 21225 Lorain Rd\, Cleveland\, OH\, 44126\, United States
CATEGORIES:Fit Friends
ATTACH;FMTTYPE=image/png:https://rec2connect.org/wp-content/uploads/2025/07/Events_FitFriends.png
ORGANIZER;CN="Rec2Connect":MAILTO:scheduling@rec2connect.org
END:VEVENT
BEGIN:VEVENT
DTSTART;TZID=America/New_York:20280525T163000
DTEND;TZID=America/New_York:20280525T171500
DTSTAMP:20260425T231153
CREATED:20250720T130249Z
LAST-MODIFIED:20260226T220634Z
UID:10002164-1842885000-1842887700@rec2connect.org
SUMMARY:Cardio Drumming
DESCRIPTION:This 45 minute weekly exercise class for teens and adults is led by a Recreation Therapist. Cardio drumming incorporates movement\, stretching\, music\, and rhythm together for an alternative cardiovascular workout. This class focuses on range of motion\, endurance\, strengthening\, flexibility\, coordination and body awareness. \nNOTE:  There is a $5 discount for private pay!
URL:https://rec2connect.org/event/cardio-drumming-18/2028-05-25/
LOCATION:Gemini Center (Fairview)\, 21225 Lorain Rd\, Cleveland\, OH\, 44126\, United States
CATEGORIES:Cardio Drumming
ATTACH;FMTTYPE=image/png:https://rec2connect.org/wp-content/uploads/2025/07/Events_CardioDrum.png
ORGANIZER;CN="Rec2Connect":MAILTO:scheduling@rec2connect.org
END:VEVENT
BEGIN:VEVENT
DTSTART;TZID=America/New_York:20280525T173000
DTEND;TZID=America/New_York:20280525T181500
DTSTAMP:20260425T231153
CREATED:20250720T130302Z
LAST-MODIFIED:20260226T220528Z
UID:10002427-1842888600-1842891300@rec2connect.org
SUMMARY:Pedal Power
DESCRIPTION:Indoor stationary bike riding class that will work on bike riding skills\, balance\, strength\, endurance and motor planning \nNOTE:  There is a $5 discount for private pay!
URL:https://rec2connect.org/event/pedal-power/2028-05-25/
LOCATION:Gemini Center (Fairview)\, 21225 Lorain Rd\, Cleveland\, OH\, 44126\, United States
CATEGORIES:Pedal Power
ATTACH;FMTTYPE=image/png:https://rec2connect.org/wp-content/uploads/2025/07/Events_PedalPower.png
ORGANIZER;CN="Rec2Connect":MAILTO:scheduling@rec2connect.org
END:VEVENT
BEGIN:VEVENT
DTSTART;TZID=America/New_York:20280525T183000
DTEND;TZID=America/New_York:20280525T193000
DTSTAMP:20260425T231153
CREATED:20250720T130303Z
LAST-MODIFIED:20260226T220341Z
UID:10002690-1842892200-1842895800@rec2connect.org
SUMMARY:Fit Friends
DESCRIPTION:Structured full body workouts and social interaction \nNOTE:  There is a $5 discount for private pay!
URL:https://rec2connect.org/event/fit-friends-2/2028-05-25/
LOCATION:Gemini Center (Fairview)\, 21225 Lorain Rd\, Cleveland\, OH\, 44126\, United States
CATEGORIES:Fit Friends
ATTACH;FMTTYPE=image/png:https://rec2connect.org/wp-content/uploads/2025/07/Events_FitFriends.png
ORGANIZER;CN="Rec2Connect":MAILTO:scheduling@rec2connect.org
END:VEVENT
BEGIN:VEVENT
DTSTART;TZID=America/New_York:20280601T163000
DTEND;TZID=America/New_York:20280601T171500
DTSTAMP:20260425T231153
CREATED:20250720T130249Z
LAST-MODIFIED:20260226T220634Z
UID:10002165-1843489800-1843492500@rec2connect.org
SUMMARY:Cardio Drumming
DESCRIPTION:This 45 minute weekly exercise class for teens and adults is led by a Recreation Therapist. Cardio drumming incorporates movement\, stretching\, music\, and rhythm together for an alternative cardiovascular workout. This class focuses on range of motion\, endurance\, strengthening\, flexibility\, coordination and body awareness. \nNOTE:  There is a $5 discount for private pay!
URL:https://rec2connect.org/event/cardio-drumming-18/2028-06-01/
LOCATION:Gemini Center (Fairview)\, 21225 Lorain Rd\, Cleveland\, OH\, 44126\, United States
CATEGORIES:Cardio Drumming
ATTACH;FMTTYPE=image/png:https://rec2connect.org/wp-content/uploads/2025/07/Events_CardioDrum.png
ORGANIZER;CN="Rec2Connect":MAILTO:scheduling@rec2connect.org
END:VEVENT
BEGIN:VEVENT
DTSTART;TZID=America/New_York:20280601T173000
DTEND;TZID=America/New_York:20280601T181500
DTSTAMP:20260425T231153
CREATED:20250720T130302Z
LAST-MODIFIED:20260226T220528Z
UID:10002428-1843493400-1843496100@rec2connect.org
SUMMARY:Pedal Power
DESCRIPTION:Indoor stationary bike riding class that will work on bike riding skills\, balance\, strength\, endurance and motor planning \nNOTE:  There is a $5 discount for private pay!
URL:https://rec2connect.org/event/pedal-power/2028-06-01/
LOCATION:Gemini Center (Fairview)\, 21225 Lorain Rd\, Cleveland\, OH\, 44126\, United States
CATEGORIES:Pedal Power
ATTACH;FMTTYPE=image/png:https://rec2connect.org/wp-content/uploads/2025/07/Events_PedalPower.png
ORGANIZER;CN="Rec2Connect":MAILTO:scheduling@rec2connect.org
END:VEVENT
BEGIN:VEVENT
DTSTART;TZID=America/New_York:20280601T183000
DTEND;TZID=America/New_York:20280601T193000
DTSTAMP:20260425T231153
CREATED:20250720T130303Z
LAST-MODIFIED:20260226T220341Z
UID:10002691-1843497000-1843500600@rec2connect.org
SUMMARY:Fit Friends
DESCRIPTION:Structured full body workouts and social interaction \nNOTE:  There is a $5 discount for private pay!
URL:https://rec2connect.org/event/fit-friends-2/2028-06-01/
LOCATION:Gemini Center (Fairview)\, 21225 Lorain Rd\, Cleveland\, OH\, 44126\, United States
CATEGORIES:Fit Friends
ATTACH;FMTTYPE=image/png:https://rec2connect.org/wp-content/uploads/2025/07/Events_FitFriends.png
ORGANIZER;CN="Rec2Connect":MAILTO:scheduling@rec2connect.org
END:VEVENT
BEGIN:VEVENT
DTSTART;TZID=America/New_York:20280608T163000
DTEND;TZID=America/New_York:20280608T171500
DTSTAMP:20260425T231153
CREATED:20250720T130249Z
LAST-MODIFIED:20260226T220634Z
UID:10002166-1844094600-1844097300@rec2connect.org
SUMMARY:Cardio Drumming
DESCRIPTION:This 45 minute weekly exercise class for teens and adults is led by a Recreation Therapist. Cardio drumming incorporates movement\, stretching\, music\, and rhythm together for an alternative cardiovascular workout. This class focuses on range of motion\, endurance\, strengthening\, flexibility\, coordination and body awareness. \nNOTE:  There is a $5 discount for private pay!
URL:https://rec2connect.org/event/cardio-drumming-18/2028-06-08/
LOCATION:Gemini Center (Fairview)\, 21225 Lorain Rd\, Cleveland\, OH\, 44126\, United States
CATEGORIES:Cardio Drumming
ATTACH;FMTTYPE=image/png:https://rec2connect.org/wp-content/uploads/2025/07/Events_CardioDrum.png
ORGANIZER;CN="Rec2Connect":MAILTO:scheduling@rec2connect.org
END:VEVENT
BEGIN:VEVENT
DTSTART;TZID=America/New_York:20280608T173000
DTEND;TZID=America/New_York:20280608T181500
DTSTAMP:20260425T231153
CREATED:20250720T130302Z
LAST-MODIFIED:20260226T220528Z
UID:10002429-1844098200-1844100900@rec2connect.org
SUMMARY:Pedal Power
DESCRIPTION:Indoor stationary bike riding class that will work on bike riding skills\, balance\, strength\, endurance and motor planning \nNOTE:  There is a $5 discount for private pay!
URL:https://rec2connect.org/event/pedal-power/2028-06-08/
LOCATION:Gemini Center (Fairview)\, 21225 Lorain Rd\, Cleveland\, OH\, 44126\, United States
CATEGORIES:Pedal Power
ATTACH;FMTTYPE=image/png:https://rec2connect.org/wp-content/uploads/2025/07/Events_PedalPower.png
ORGANIZER;CN="Rec2Connect":MAILTO:scheduling@rec2connect.org
END:VEVENT
BEGIN:VEVENT
DTSTART;TZID=America/New_York:20280608T183000
DTEND;TZID=America/New_York:20280608T193000
DTSTAMP:20260425T231153
CREATED:20250720T130303Z
LAST-MODIFIED:20260226T220341Z
UID:10002692-1844101800-1844105400@rec2connect.org
SUMMARY:Fit Friends
DESCRIPTION:Structured full body workouts and social interaction \nNOTE:  There is a $5 discount for private pay!
URL:https://rec2connect.org/event/fit-friends-2/2028-06-08/
LOCATION:Gemini Center (Fairview)\, 21225 Lorain Rd\, Cleveland\, OH\, 44126\, United States
CATEGORIES:Fit Friends
ATTACH;FMTTYPE=image/png:https://rec2connect.org/wp-content/uploads/2025/07/Events_FitFriends.png
ORGANIZER;CN="Rec2Connect":MAILTO:scheduling@rec2connect.org
END:VEVENT
BEGIN:VEVENT
DTSTART;TZID=America/New_York:20280615T163000
DTEND;TZID=America/New_York:20280615T171500
DTSTAMP:20260425T231153
CREATED:20250720T130249Z
LAST-MODIFIED:20260226T220634Z
UID:10002167-1844699400-1844702100@rec2connect.org
SUMMARY:Cardio Drumming
DESCRIPTION:This 45 minute weekly exercise class for teens and adults is led by a Recreation Therapist. Cardio drumming incorporates movement\, stretching\, music\, and rhythm together for an alternative cardiovascular workout. This class focuses on range of motion\, endurance\, strengthening\, flexibility\, coordination and body awareness. \nNOTE:  There is a $5 discount for private pay!
URL:https://rec2connect.org/event/cardio-drumming-18/2028-06-15/
LOCATION:Gemini Center (Fairview)\, 21225 Lorain Rd\, Cleveland\, OH\, 44126\, United States
CATEGORIES:Cardio Drumming
ATTACH;FMTTYPE=image/png:https://rec2connect.org/wp-content/uploads/2025/07/Events_CardioDrum.png
ORGANIZER;CN="Rec2Connect":MAILTO:scheduling@rec2connect.org
END:VEVENT
BEGIN:VEVENT
DTSTART;TZID=America/New_York:20280615T173000
DTEND;TZID=America/New_York:20280615T181500
DTSTAMP:20260425T231153
CREATED:20250720T130302Z
LAST-MODIFIED:20260226T220528Z
UID:10002430-1844703000-1844705700@rec2connect.org
SUMMARY:Pedal Power
DESCRIPTION:Indoor stationary bike riding class that will work on bike riding skills\, balance\, strength\, endurance and motor planning \nNOTE:  There is a $5 discount for private pay!
URL:https://rec2connect.org/event/pedal-power/2028-06-15/
LOCATION:Gemini Center (Fairview)\, 21225 Lorain Rd\, Cleveland\, OH\, 44126\, United States
CATEGORIES:Pedal Power
ATTACH;FMTTYPE=image/png:https://rec2connect.org/wp-content/uploads/2025/07/Events_PedalPower.png
ORGANIZER;CN="Rec2Connect":MAILTO:scheduling@rec2connect.org
END:VEVENT
BEGIN:VEVENT
DTSTART;TZID=America/New_York:20280615T183000
DTEND;TZID=America/New_York:20280615T193000
DTSTAMP:20260425T231153
CREATED:20250720T130303Z
LAST-MODIFIED:20260226T220341Z
UID:10002693-1844706600-1844710200@rec2connect.org
SUMMARY:Fit Friends
DESCRIPTION:Structured full body workouts and social interaction \nNOTE:  There is a $5 discount for private pay!
URL:https://rec2connect.org/event/fit-friends-2/2028-06-15/
LOCATION:Gemini Center (Fairview)\, 21225 Lorain Rd\, Cleveland\, OH\, 44126\, United States
CATEGORIES:Fit Friends
ATTACH;FMTTYPE=image/png:https://rec2connect.org/wp-content/uploads/2025/07/Events_FitFriends.png
ORGANIZER;CN="Rec2Connect":MAILTO:scheduling@rec2connect.org
END:VEVENT
BEGIN:VEVENT
DTSTART;TZID=America/New_York:20280622T163000
DTEND;TZID=America/New_York:20280622T171500
DTSTAMP:20260425T231153
CREATED:20250720T130249Z
LAST-MODIFIED:20260226T220634Z
UID:10002168-1845304200-1845306900@rec2connect.org
SUMMARY:Cardio Drumming
DESCRIPTION:This 45 minute weekly exercise class for teens and adults is led by a Recreation Therapist. Cardio drumming incorporates movement\, stretching\, music\, and rhythm together for an alternative cardiovascular workout. This class focuses on range of motion\, endurance\, strengthening\, flexibility\, coordination and body awareness. \nNOTE:  There is a $5 discount for private pay!
URL:https://rec2connect.org/event/cardio-drumming-18/2028-06-22/
LOCATION:Gemini Center (Fairview)\, 21225 Lorain Rd\, Cleveland\, OH\, 44126\, United States
CATEGORIES:Cardio Drumming
ATTACH;FMTTYPE=image/png:https://rec2connect.org/wp-content/uploads/2025/07/Events_CardioDrum.png
ORGANIZER;CN="Rec2Connect":MAILTO:scheduling@rec2connect.org
END:VEVENT
BEGIN:VEVENT
DTSTART;TZID=America/New_York:20280622T173000
DTEND;TZID=America/New_York:20280622T181500
DTSTAMP:20260425T231153
CREATED:20250720T130302Z
LAST-MODIFIED:20260226T220528Z
UID:10002431-1845307800-1845310500@rec2connect.org
SUMMARY:Pedal Power
DESCRIPTION:Indoor stationary bike riding class that will work on bike riding skills\, balance\, strength\, endurance and motor planning \nNOTE:  There is a $5 discount for private pay!
URL:https://rec2connect.org/event/pedal-power/2028-06-22/
LOCATION:Gemini Center (Fairview)\, 21225 Lorain Rd\, Cleveland\, OH\, 44126\, United States
CATEGORIES:Pedal Power
ATTACH;FMTTYPE=image/png:https://rec2connect.org/wp-content/uploads/2025/07/Events_PedalPower.png
ORGANIZER;CN="Rec2Connect":MAILTO:scheduling@rec2connect.org
END:VEVENT
BEGIN:VEVENT
DTSTART;TZID=America/New_York:20280622T183000
DTEND;TZID=America/New_York:20280622T193000
DTSTAMP:20260425T231153
CREATED:20250720T130303Z
LAST-MODIFIED:20260226T220341Z
UID:10002694-1845311400-1845315000@rec2connect.org
SUMMARY:Fit Friends
DESCRIPTION:Structured full body workouts and social interaction \nNOTE:  There is a $5 discount for private pay!
URL:https://rec2connect.org/event/fit-friends-2/2028-06-22/
LOCATION:Gemini Center (Fairview)\, 21225 Lorain Rd\, Cleveland\, OH\, 44126\, United States
CATEGORIES:Fit Friends
ATTACH;FMTTYPE=image/png:https://rec2connect.org/wp-content/uploads/2025/07/Events_FitFriends.png
ORGANIZER;CN="Rec2Connect":MAILTO:scheduling@rec2connect.org
END:VEVENT
BEGIN:VEVENT
DTSTART;TZID=America/New_York:20280629T163000
DTEND;TZID=America/New_York:20280629T171500
DTSTAMP:20260425T231153
CREATED:20250720T130249Z
LAST-MODIFIED:20260226T220634Z
UID:10002169-1845909000-1845911700@rec2connect.org
SUMMARY:Cardio Drumming
DESCRIPTION:This 45 minute weekly exercise class for teens and adults is led by a Recreation Therapist. Cardio drumming incorporates movement\, stretching\, music\, and rhythm together for an alternative cardiovascular workout. This class focuses on range of motion\, endurance\, strengthening\, flexibility\, coordination and body awareness. \nNOTE:  There is a $5 discount for private pay!
URL:https://rec2connect.org/event/cardio-drumming-18/2028-06-29/
LOCATION:Gemini Center (Fairview)\, 21225 Lorain Rd\, Cleveland\, OH\, 44126\, United States
CATEGORIES:Cardio Drumming
ATTACH;FMTTYPE=image/png:https://rec2connect.org/wp-content/uploads/2025/07/Events_CardioDrum.png
ORGANIZER;CN="Rec2Connect":MAILTO:scheduling@rec2connect.org
END:VEVENT
BEGIN:VEVENT
DTSTART;TZID=America/New_York:20280629T173000
DTEND;TZID=America/New_York:20280629T181500
DTSTAMP:20260425T231153
CREATED:20250720T130302Z
LAST-MODIFIED:20260226T220528Z
UID:10002432-1845912600-1845915300@rec2connect.org
SUMMARY:Pedal Power
DESCRIPTION:Indoor stationary bike riding class that will work on bike riding skills\, balance\, strength\, endurance and motor planning \nNOTE:  There is a $5 discount for private pay!
URL:https://rec2connect.org/event/pedal-power/2028-06-29/
LOCATION:Gemini Center (Fairview)\, 21225 Lorain Rd\, Cleveland\, OH\, 44126\, United States
CATEGORIES:Pedal Power
ATTACH;FMTTYPE=image/png:https://rec2connect.org/wp-content/uploads/2025/07/Events_PedalPower.png
ORGANIZER;CN="Rec2Connect":MAILTO:scheduling@rec2connect.org
END:VEVENT
BEGIN:VEVENT
DTSTART;TZID=America/New_York:20280629T183000
DTEND;TZID=America/New_York:20280629T193000
DTSTAMP:20260425T231153
CREATED:20250720T130303Z
LAST-MODIFIED:20260226T220341Z
UID:10002695-1845916200-1845919800@rec2connect.org
SUMMARY:Fit Friends
DESCRIPTION:Structured full body workouts and social interaction \nNOTE:  There is a $5 discount for private pay!
URL:https://rec2connect.org/event/fit-friends-2/2028-06-29/
LOCATION:Gemini Center (Fairview)\, 21225 Lorain Rd\, Cleveland\, OH\, 44126\, United States
CATEGORIES:Fit Friends
ATTACH;FMTTYPE=image/png:https://rec2connect.org/wp-content/uploads/2025/07/Events_FitFriends.png
ORGANIZER;CN="Rec2Connect":MAILTO:scheduling@rec2connect.org
END:VEVENT
END:VCALENDAR