BEGIN:VCALENDAR
VERSION:2.0
PRODID:-//Rec2Connect - ECPv6.15.20//NONSGML v1.0//EN
CALSCALE:GREGORIAN
METHOD:PUBLISH
X-ORIGINAL-URL:https://rec2connect.org
X-WR-CALDESC:Events for Rec2Connect
REFRESH-INTERVAL;VALUE=DURATION:PT1H
X-Robots-Tag:noindex
X-PUBLISHED-TTL:PT1H
BEGIN:VTIMEZONE
TZID:America/New_York
BEGIN:DAYLIGHT
TZOFFSETFROM:-0500
TZOFFSETTO:-0400
TZNAME:EDT
DTSTART:20240310T070000
END:DAYLIGHT
BEGIN:STANDARD
TZOFFSETFROM:-0400
TZOFFSETTO:-0500
TZNAME:EST
DTSTART:20241103T060000
END:STANDARD
BEGIN:DAYLIGHT
TZOFFSETFROM:-0500
TZOFFSETTO:-0400
TZNAME:EDT
DTSTART:20250309T070000
END:DAYLIGHT
BEGIN:STANDARD
TZOFFSETFROM:-0400
TZOFFSETTO:-0500
TZNAME:EST
DTSTART:20251102T060000
END:STANDARD
BEGIN:DAYLIGHT
TZOFFSETFROM:-0500
TZOFFSETTO:-0400
TZNAME:EDT
DTSTART:20260308T070000
END:DAYLIGHT
BEGIN:STANDARD
TZOFFSETFROM:-0400
TZOFFSETTO:-0500
TZNAME:EST
DTSTART:20261101T060000
END:STANDARD
END:VTIMEZONE
BEGIN:VEVENT
DTSTART;TZID=America/New_York:20250913T113000
DTEND;TZID=America/New_York:20250913T130000
DTSTAMP:20260424T195544
CREATED:20250730T004835Z
LAST-MODIFIED:20250730T004835Z
UID:10007644-1757763000-1757768400@rec2connect.org
SUMMARY:Kayaking (Long) Ages 7+
DESCRIPTION:Focusing on entry-level and moderate kayaking skills.  Build upon problem solving and social skills with opportunities to learn more advanced paddle strokes.
URL:https://rec2connect.org/event/kayaking-long-ages-7-2/
LOCATION:Coe Lake\, 85 South Rocky River Dr.\, Berea\, OH\, 44017\, United States
CATEGORIES:Kayaking
ORGANIZER;CN="Rec2Connect":MAILTO:scheduling@rec2connect.org
END:VEVENT
BEGIN:VEVENT
DTSTART;TZID=America/New_York:20250913T100000
DTEND;TZID=America/New_York:20250913T110000
DTSTAMP:20260424T195544
CREATED:20250730T004710Z
LAST-MODIFIED:20250730T004710Z
UID:10007643-1757757600-1757761200@rec2connect.org
SUMMARY:Kayaking (Short) Ages 7+
DESCRIPTION:Focusing on entry-level and moderate kayaking skills.  Build upon problem solving and social skills with opportunities to learn more advanced paddle strokes.
URL:https://rec2connect.org/event/kayaking-short-ages-7/
LOCATION:Coe Lake\, 85 South Rocky River Dr.\, Berea\, OH\, 44017\, United States
CATEGORIES:Kayaking
ORGANIZER;CN="Rec2Connect":MAILTO:scheduling@rec2connect.org
END:VEVENT
BEGIN:VEVENT
DTSTART;TZID=America/New_York:20250906T130000
DTEND;TZID=America/New_York:20250906T150000
DTSTAMP:20260424T195544
CREATED:20250726T125044Z
LAST-MODIFIED:20250726T125044Z
UID:10007620-1757163600-1757170800@rec2connect.org
SUMMARY:Kayaking - Advanced Ages 8+
DESCRIPTION:Program for people with previous kayak experience.  Focus on lake exploration and education\, moderate to advanced kayaking skills\, safety and tripping.
URL:https://rec2connect.org/event/kayaking-advanced-ages-8-3/
LOCATION:Coe Lake\, 85 South Rocky River Dr.\, Berea\, OH\, 44017\, United States
CATEGORIES:Kayaking
ORGANIZER;CN="Rec2Connect":MAILTO:scheduling@rec2connect.org
END:VEVENT
BEGIN:VEVENT
DTSTART;TZID=America/New_York:20250904T173000
DTEND;TZID=America/New_York:20250904T190000
DTSTAMP:20260424T195544
CREATED:20250726T131459Z
LAST-MODIFIED:20250726T131459Z
UID:10007642-1757007000-1757012400@rec2connect.org
SUMMARY:Kayaking (Long) Ages 7+
DESCRIPTION:Focusing on entry-level and moderate kayaking skills.  Build upon problem solving and social skills with opportunities to learn more advanced paddle strokes.
URL:https://rec2connect.org/event/kayaking-long-ages-7/2025-09-04/
LOCATION:Coe Lake\, 85 South Rocky River Dr.\, Berea\, OH\, 44017\, United States
CATEGORIES:Kayaking
ORGANIZER;CN="Rec2Connect":MAILTO:scheduling@rec2connect.org
END:VEVENT
BEGIN:VEVENT
DTSTART;TZID=America/New_York:20250904T160000
DTEND;TZID=America/New_York:20250904T170000
DTSTAMP:20260424T195544
CREATED:20250725T170212Z
LAST-MODIFIED:20250725T170732Z
UID:10007603-1757001600-1757005200@rec2connect.org
SUMMARY:Kayaking (Short) Ages 7+
DESCRIPTION:Focusing on entry-level and moderate kayaking skills.  Build upon problem solving and social skills with opportunities to learn more advanced paddle strokes.
URL:https://rec2connect.org/event/kayaking-at-coe-lake-ages-7/2025-09-04/
LOCATION:Coe Lake\, 85 South Rocky River Dr.\, Berea\, OH\, 44017\, United States
CATEGORIES:Kayaking
ORGANIZER;CN="Rec2Connect":MAILTO:scheduling@rec2connect.org
END:VEVENT
BEGIN:VEVENT
DTSTART;TZID=America/New_York:20250828T173000
DTEND;TZID=America/New_York:20250828T190000
DTSTAMP:20260424T195544
CREATED:20250726T131459Z
LAST-MODIFIED:20250726T131459Z
UID:10007641-1756402200-1756407600@rec2connect.org
SUMMARY:Kayaking (Long) Ages 7+
DESCRIPTION:Focusing on entry-level and moderate kayaking skills.  Build upon problem solving and social skills with opportunities to learn more advanced paddle strokes.
URL:https://rec2connect.org/event/kayaking-long-ages-7/2025-08-28/
LOCATION:Coe Lake\, 85 South Rocky River Dr.\, Berea\, OH\, 44017\, United States
CATEGORIES:Kayaking
ORGANIZER;CN="Rec2Connect":MAILTO:scheduling@rec2connect.org
END:VEVENT
BEGIN:VEVENT
DTSTART;TZID=America/New_York:20250828T160000
DTEND;TZID=America/New_York:20250828T170000
DTSTAMP:20260424T195544
CREATED:20250725T170212Z
LAST-MODIFIED:20250725T170732Z
UID:10007602-1756396800-1756400400@rec2connect.org
SUMMARY:Kayaking (Short) Ages 7+
DESCRIPTION:Focusing on entry-level and moderate kayaking skills.  Build upon problem solving and social skills with opportunities to learn more advanced paddle strokes.
URL:https://rec2connect.org/event/kayaking-at-coe-lake-ages-7/2025-08-28/
LOCATION:Coe Lake\, 85 South Rocky River Dr.\, Berea\, OH\, 44017\, United States
CATEGORIES:Kayaking
ORGANIZER;CN="Rec2Connect":MAILTO:scheduling@rec2connect.org
END:VEVENT
BEGIN:VEVENT
DTSTART;TZID=America/New_York:20250822T181500
DTEND;TZID=America/New_York:20250822T201500
DTSTAMP:20260424T195544
CREATED:20250726T125834Z
LAST-MODIFIED:20250726T125834Z
UID:10007623-1755886500-1755893700@rec2connect.org
SUMMARY:Family Kayaking Ages 7+
DESCRIPTION:Beginner level kayak program for families.  Focus on entry-level kayaking skills\, safety and lake exploration.
URL:https://rec2connect.org/event/family-kayaking-ages-7-2/
LOCATION:Coe Lake\, 85 South Rocky River Dr.\, Berea\, OH\, 44017\, United States
CATEGORIES:Kayaking
ORGANIZER;CN="Rec2Connect":MAILTO:scheduling@rec2connect.org
END:VEVENT
BEGIN:VEVENT
DTSTART;TZID=America/New_York:20250821T173000
DTEND;TZID=America/New_York:20250821T190000
DTSTAMP:20260424T195544
CREATED:20250726T131459Z
LAST-MODIFIED:20250726T131459Z
UID:10007640-1755797400-1755802800@rec2connect.org
SUMMARY:Kayaking (Long) Ages 7+
DESCRIPTION:Focusing on entry-level and moderate kayaking skills.  Build upon problem solving and social skills with opportunities to learn more advanced paddle strokes.
URL:https://rec2connect.org/event/kayaking-long-ages-7/2025-08-21/
LOCATION:Coe Lake\, 85 South Rocky River Dr.\, Berea\, OH\, 44017\, United States
CATEGORIES:Kayaking
ORGANIZER;CN="Rec2Connect":MAILTO:scheduling@rec2connect.org
END:VEVENT
BEGIN:VEVENT
DTSTART;TZID=America/New_York:20250821T160000
DTEND;TZID=America/New_York:20250821T170000
DTSTAMP:20260424T195544
CREATED:20250725T170212Z
LAST-MODIFIED:20250725T170732Z
UID:10007601-1755792000-1755795600@rec2connect.org
SUMMARY:Kayaking (Short) Ages 7+
DESCRIPTION:Focusing on entry-level and moderate kayaking skills.  Build upon problem solving and social skills with opportunities to learn more advanced paddle strokes.
URL:https://rec2connect.org/event/kayaking-at-coe-lake-ages-7/2025-08-21/
LOCATION:Coe Lake\, 85 South Rocky River Dr.\, Berea\, OH\, 44017\, United States
CATEGORIES:Kayaking
ORGANIZER;CN="Rec2Connect":MAILTO:scheduling@rec2connect.org
END:VEVENT
BEGIN:VEVENT
DTSTART;TZID=America/New_York:20250814T173000
DTEND;TZID=America/New_York:20250814T190000
DTSTAMP:20260424T195544
CREATED:20250726T131459Z
LAST-MODIFIED:20250726T131459Z
UID:10007639-1755192600-1755198000@rec2connect.org
SUMMARY:Kayaking (Long) Ages 7+
DESCRIPTION:Focusing on entry-level and moderate kayaking skills.  Build upon problem solving and social skills with opportunities to learn more advanced paddle strokes.
URL:https://rec2connect.org/event/kayaking-long-ages-7/2025-08-14/
LOCATION:Coe Lake\, 85 South Rocky River Dr.\, Berea\, OH\, 44017\, United States
CATEGORIES:Kayaking
ORGANIZER;CN="Rec2Connect":MAILTO:scheduling@rec2connect.org
END:VEVENT
BEGIN:VEVENT
DTSTART;TZID=America/New_York:20250814T160000
DTEND;TZID=America/New_York:20250814T170000
DTSTAMP:20260424T195544
CREATED:20250725T170212Z
LAST-MODIFIED:20250725T170732Z
UID:10007600-1755187200-1755190800@rec2connect.org
SUMMARY:Kayaking (Short) Ages 7+
DESCRIPTION:Focusing on entry-level and moderate kayaking skills.  Build upon problem solving and social skills with opportunities to learn more advanced paddle strokes.
URL:https://rec2connect.org/event/kayaking-at-coe-lake-ages-7/2025-08-14/
LOCATION:Coe Lake\, 85 South Rocky River Dr.\, Berea\, OH\, 44017\, United States
CATEGORIES:Kayaking
ORGANIZER;CN="Rec2Connect":MAILTO:scheduling@rec2connect.org
END:VEVENT
BEGIN:VEVENT
DTSTART;TZID=America/New_York:20250807T173000
DTEND;TZID=America/New_York:20250807T190000
DTSTAMP:20260424T195544
CREATED:20250726T131459Z
LAST-MODIFIED:20250726T131459Z
UID:10007638-1754587800-1754593200@rec2connect.org
SUMMARY:Kayaking (Long) Ages 7+
DESCRIPTION:Focusing on entry-level and moderate kayaking skills.  Build upon problem solving and social skills with opportunities to learn more advanced paddle strokes.
URL:https://rec2connect.org/event/kayaking-long-ages-7/2025-08-07/
LOCATION:Coe Lake\, 85 South Rocky River Dr.\, Berea\, OH\, 44017\, United States
CATEGORIES:Kayaking
ORGANIZER;CN="Rec2Connect":MAILTO:scheduling@rec2connect.org
END:VEVENT
BEGIN:VEVENT
DTSTART;TZID=America/New_York:20250807T160000
DTEND;TZID=America/New_York:20250807T170000
DTSTAMP:20260424T195544
CREATED:20250725T170212Z
LAST-MODIFIED:20250725T170732Z
UID:10007599-1754582400-1754586000@rec2connect.org
SUMMARY:Kayaking (Short) Ages 7+
DESCRIPTION:Focusing on entry-level and moderate kayaking skills.  Build upon problem solving and social skills with opportunities to learn more advanced paddle strokes.
URL:https://rec2connect.org/event/kayaking-at-coe-lake-ages-7/2025-08-07/
LOCATION:Coe Lake\, 85 South Rocky River Dr.\, Berea\, OH\, 44017\, United States
CATEGORIES:Kayaking
ORGANIZER;CN="Rec2Connect":MAILTO:scheduling@rec2connect.org
END:VEVENT
BEGIN:VEVENT
DTSTART;TZID=America/New_York:20250731T173000
DTEND;TZID=America/New_York:20250731T190000
DTSTAMP:20260424T195544
CREATED:20250726T131459Z
LAST-MODIFIED:20250726T131459Z
UID:10007637-1753983000-1753988400@rec2connect.org
SUMMARY:Kayaking (Long) Ages 7+
DESCRIPTION:Focusing on entry-level and moderate kayaking skills.  Build upon problem solving and social skills with opportunities to learn more advanced paddle strokes.
URL:https://rec2connect.org/event/kayaking-long-ages-7/2025-07-31/
LOCATION:Coe Lake\, 85 South Rocky River Dr.\, Berea\, OH\, 44017\, United States
CATEGORIES:Kayaking
ORGANIZER;CN="Rec2Connect":MAILTO:scheduling@rec2connect.org
END:VEVENT
BEGIN:VEVENT
DTSTART;TZID=America/New_York:20250731T160000
DTEND;TZID=America/New_York:20250731T170000
DTSTAMP:20260424T195544
CREATED:20250725T170212Z
LAST-MODIFIED:20250725T170732Z
UID:10007598-1753977600-1753981200@rec2connect.org
SUMMARY:Kayaking (Short) Ages 7+
DESCRIPTION:Focusing on entry-level and moderate kayaking skills.  Build upon problem solving and social skills with opportunities to learn more advanced paddle strokes.
URL:https://rec2connect.org/event/kayaking-at-coe-lake-ages-7/2025-07-31/
LOCATION:Coe Lake\, 85 South Rocky River Dr.\, Berea\, OH\, 44017\, United States
CATEGORIES:Kayaking
ORGANIZER;CN="Rec2Connect":MAILTO:scheduling@rec2connect.org
END:VEVENT
BEGIN:VEVENT
DTSTART;TZID=America/New_York:20250724T173000
DTEND;TZID=America/New_York:20250724T190000
DTSTAMP:20260424T195544
CREATED:20250726T131459Z
LAST-MODIFIED:20250726T131459Z
UID:10007636-1753378200-1753383600@rec2connect.org
SUMMARY:Kayaking (Long) Ages 7+
DESCRIPTION:Focusing on entry-level and moderate kayaking skills.  Build upon problem solving and social skills with opportunities to learn more advanced paddle strokes.
URL:https://rec2connect.org/event/kayaking-long-ages-7/2025-07-24/
LOCATION:Coe Lake\, 85 South Rocky River Dr.\, Berea\, OH\, 44017\, United States
CATEGORIES:Kayaking
ORGANIZER;CN="Rec2Connect":MAILTO:scheduling@rec2connect.org
END:VEVENT
BEGIN:VEVENT
DTSTART;TZID=America/New_York:20250724T160000
DTEND;TZID=America/New_York:20250724T170000
DTSTAMP:20260424T195544
CREATED:20250725T170212Z
LAST-MODIFIED:20250725T170732Z
UID:10007597-1753372800-1753376400@rec2connect.org
SUMMARY:Kayaking (Short) Ages 7+
DESCRIPTION:Focusing on entry-level and moderate kayaking skills.  Build upon problem solving and social skills with opportunities to learn more advanced paddle strokes.
URL:https://rec2connect.org/event/kayaking-at-coe-lake-ages-7/2025-07-24/
LOCATION:Coe Lake\, 85 South Rocky River Dr.\, Berea\, OH\, 44017\, United States
CATEGORIES:Kayaking
ORGANIZER;CN="Rec2Connect":MAILTO:scheduling@rec2connect.org
END:VEVENT
END:VCALENDAR