BEGIN:VCALENDAR
VERSION:2.0
PRODID:-//Rec2Connect - ECPv6.15.20//NONSGML v1.0//EN
CALSCALE:GREGORIAN
METHOD:PUBLISH
X-ORIGINAL-URL:https://rec2connect.org
X-WR-CALDESC:Events for Rec2Connect
REFRESH-INTERVAL;VALUE=DURATION:PT1H
X-Robots-Tag:noindex
X-PUBLISHED-TTL:PT1H
BEGIN:VTIMEZONE
TZID:America/New_York
BEGIN:DAYLIGHT
TZOFFSETFROM:-0500
TZOFFSETTO:-0400
TZNAME:EDT
DTSTART:20240310T070000
END:DAYLIGHT
BEGIN:STANDARD
TZOFFSETFROM:-0400
TZOFFSETTO:-0500
TZNAME:EST
DTSTART:20241103T060000
END:STANDARD
BEGIN:DAYLIGHT
TZOFFSETFROM:-0500
TZOFFSETTO:-0400
TZNAME:EDT
DTSTART:20250309T070000
END:DAYLIGHT
BEGIN:STANDARD
TZOFFSETFROM:-0400
TZOFFSETTO:-0500
TZNAME:EST
DTSTART:20251102T060000
END:STANDARD
BEGIN:DAYLIGHT
TZOFFSETFROM:-0500
TZOFFSETTO:-0400
TZNAME:EDT
DTSTART:20260308T070000
END:DAYLIGHT
BEGIN:STANDARD
TZOFFSETFROM:-0400
TZOFFSETTO:-0500
TZNAME:EST
DTSTART:20261101T060000
END:STANDARD
BEGIN:DAYLIGHT
TZOFFSETFROM:-0500
TZOFFSETTO:-0400
TZNAME:EDT
DTSTART:20270314T070000
END:DAYLIGHT
BEGIN:STANDARD
TZOFFSETFROM:-0400
TZOFFSETTO:-0500
TZNAME:EST
DTSTART:20271107T060000
END:STANDARD
END:VTIMEZONE
BEGIN:VEVENT
DTSTART;TZID=America/New_York:20260216T190000
DTEND;TZID=America/New_York:20260216T200000
DTSTAMP:20260424T215408
CREATED:20250725T010255Z
LAST-MODIFIED:20260221T022852Z
UID:10006780-1771268400-1771272000@rec2connect.org
SUMMARY:Razorsharks practice
DESCRIPTION:We work on swim stroke development\, increasing endurance\, and competing with our team \nNOTE: Drop-in or Monthly packages available!  Please inquire at registration.
URL:https://rec2connect.org/event/razorsharks-practice-12/2026-02-16/
LOCATION:Beachwood High School\, 25100 Fairmount Blvd\, Beachwood\, OH\, 44122\, United States
CATEGORIES:Razorsharks Swim Team
ATTACH;FMTTYPE=image/png:https://rec2connect.org/wp-content/uploads/2025/07/Razorsharks.png
ORGANIZER;CN="Rec2Connect":MAILTO:scheduling@rec2connect.org
END:VEVENT
BEGIN:VEVENT
DTSTART;TZID=America/New_York:20260216T180000
DTEND;TZID=America/New_York:20260216T190000
DTSTAMP:20260424T215408
CREATED:20250725T010120Z
LAST-MODIFIED:20260221T022934Z
UID:10006516-1771264800-1771268400@rec2connect.org
SUMMARY:Razorsharks practice
DESCRIPTION:We work on swim stroke development\, increasing endurance\, and competing with our team \nNOTE: Drop-in or Monthly packages available!  Please inquire at registration.
URL:https://rec2connect.org/event/razorsharks-practice-11/2026-02-16/
LOCATION:Beachwood High School\, 25100 Fairmount Blvd\, Beachwood\, OH\, 44122\, United States
CATEGORIES:Razorsharks Swim Team
ATTACH;FMTTYPE=image/png:https://rec2connect.org/wp-content/uploads/2025/07/Razorsharks.png
ORGANIZER;CN="Rec2Connect":MAILTO:scheduling@rec2connect.org
END:VEVENT
BEGIN:VEVENT
DTSTART;TZID=America/New_York:20260216T170000
DTEND;TZID=America/New_York:20260216T180000
DTSTAMP:20260424T215408
CREATED:20250720T130304Z
LAST-MODIFIED:20260221T023022Z
UID:10003358-1771261200-1771264800@rec2connect.org
SUMMARY:Razorsharks Practice
DESCRIPTION:We work on swim stroke development\, increasing endurance\, and competing with our team \nNOTE: Drop-in or Monthly packages available!  Please inquire at registration.
URL:https://rec2connect.org/event/razorsharks-practice-10/2026-02-16/
LOCATION:Beachwood High School\, 25100 Fairmount Blvd\, Beachwood\, OH\, 44122\, United States
CATEGORIES:Razorsharks Swim Team
ATTACH;FMTTYPE=image/png:https://rec2connect.org/wp-content/uploads/2025/07/Events_Razorsharks.png
ORGANIZER;CN="Rec2Connect":MAILTO:scheduling@rec2connect.org
END:VEVENT
BEGIN:VEVENT
DTSTART;TZID=America/New_York:20260215T120000
DTEND;TZID=America/New_York:20260215T130000
DTSTAMP:20260424T215408
CREATED:20250720T005629Z
LAST-MODIFIED:20260221T022728Z
UID:10004015-1771156800-1771160400@rec2connect.org
SUMMARY:Razorsharks Practice
DESCRIPTION:We work on swim stroke development\, increasing endurance\, and competing with our team \nNOTE: Drop-in or Monthly packages available!  Please inquire at registration.
URL:https://rec2connect.org/event/razorsharks-practice-6/2026-02-15/
LOCATION:Beachwood High School\, 25100 Fairmount Blvd\, Beachwood\, OH\, 44122\, United States
CATEGORIES:Razorsharks Swim Team
ATTACH;FMTTYPE=image/png:https://rec2connect.org/wp-content/uploads/2025/07/Events_Razorsharks.png
ORGANIZER;CN="Rec2Connect":MAILTO:scheduling@rec2connect.org
END:VEVENT
BEGIN:VEVENT
DTSTART;TZID=America/New_York:20260209T190000
DTEND;TZID=America/New_York:20260209T200000
DTSTAMP:20260424T215408
CREATED:20250725T010255Z
LAST-MODIFIED:20260221T022852Z
UID:10006779-1770663600-1770667200@rec2connect.org
SUMMARY:Razorsharks practice
DESCRIPTION:We work on swim stroke development\, increasing endurance\, and competing with our team \nNOTE: Drop-in or Monthly packages available!  Please inquire at registration.
URL:https://rec2connect.org/event/razorsharks-practice-12/2026-02-09/
LOCATION:Beachwood High School\, 25100 Fairmount Blvd\, Beachwood\, OH\, 44122\, United States
CATEGORIES:Razorsharks Swim Team
ATTACH;FMTTYPE=image/png:https://rec2connect.org/wp-content/uploads/2025/07/Razorsharks.png
ORGANIZER;CN="Rec2Connect":MAILTO:scheduling@rec2connect.org
END:VEVENT
BEGIN:VEVENT
DTSTART;TZID=America/New_York:20260209T180000
DTEND;TZID=America/New_York:20260209T190000
DTSTAMP:20260424T215408
CREATED:20250725T010120Z
LAST-MODIFIED:20260221T022934Z
UID:10006515-1770660000-1770663600@rec2connect.org
SUMMARY:Razorsharks practice
DESCRIPTION:We work on swim stroke development\, increasing endurance\, and competing with our team \nNOTE: Drop-in or Monthly packages available!  Please inquire at registration.
URL:https://rec2connect.org/event/razorsharks-practice-11/2026-02-09/
LOCATION:Beachwood High School\, 25100 Fairmount Blvd\, Beachwood\, OH\, 44122\, United States
CATEGORIES:Razorsharks Swim Team
ATTACH;FMTTYPE=image/png:https://rec2connect.org/wp-content/uploads/2025/07/Razorsharks.png
ORGANIZER;CN="Rec2Connect":MAILTO:scheduling@rec2connect.org
END:VEVENT
BEGIN:VEVENT
DTSTART;TZID=America/New_York:20260209T170000
DTEND;TZID=America/New_York:20260209T180000
DTSTAMP:20260424T215408
CREATED:20250720T130304Z
LAST-MODIFIED:20260221T023022Z
UID:10003357-1770656400-1770660000@rec2connect.org
SUMMARY:Razorsharks Practice
DESCRIPTION:We work on swim stroke development\, increasing endurance\, and competing with our team \nNOTE: Drop-in or Monthly packages available!  Please inquire at registration.
URL:https://rec2connect.org/event/razorsharks-practice-10/2026-02-09/
LOCATION:Beachwood High School\, 25100 Fairmount Blvd\, Beachwood\, OH\, 44122\, United States
CATEGORIES:Razorsharks Swim Team
ATTACH;FMTTYPE=image/png:https://rec2connect.org/wp-content/uploads/2025/07/Events_Razorsharks.png
ORGANIZER;CN="Rec2Connect":MAILTO:scheduling@rec2connect.org
END:VEVENT
BEGIN:VEVENT
DTSTART;TZID=America/New_York:20260208T120000
DTEND;TZID=America/New_York:20260208T130000
DTSTAMP:20260424T215408
CREATED:20250720T005629Z
LAST-MODIFIED:20260221T022728Z
UID:10004014-1770552000-1770555600@rec2connect.org
SUMMARY:Razorsharks Practice
DESCRIPTION:We work on swim stroke development\, increasing endurance\, and competing with our team \nNOTE: Drop-in or Monthly packages available!  Please inquire at registration.
URL:https://rec2connect.org/event/razorsharks-practice-6/2026-02-08/
LOCATION:Beachwood High School\, 25100 Fairmount Blvd\, Beachwood\, OH\, 44122\, United States
CATEGORIES:Razorsharks Swim Team
ATTACH;FMTTYPE=image/png:https://rec2connect.org/wp-content/uploads/2025/07/Events_Razorsharks.png
ORGANIZER;CN="Rec2Connect":MAILTO:scheduling@rec2connect.org
END:VEVENT
BEGIN:VEVENT
DTSTART;TZID=America/New_York:20260202T190000
DTEND;TZID=America/New_York:20260202T200000
DTSTAMP:20260424T215408
CREATED:20250725T010255Z
LAST-MODIFIED:20260221T022852Z
UID:10006778-1770058800-1770062400@rec2connect.org
SUMMARY:Razorsharks practice
DESCRIPTION:We work on swim stroke development\, increasing endurance\, and competing with our team \nNOTE: Drop-in or Monthly packages available!  Please inquire at registration.
URL:https://rec2connect.org/event/razorsharks-practice-12/2026-02-02/
LOCATION:Beachwood High School\, 25100 Fairmount Blvd\, Beachwood\, OH\, 44122\, United States
CATEGORIES:Razorsharks Swim Team
ATTACH;FMTTYPE=image/png:https://rec2connect.org/wp-content/uploads/2025/07/Razorsharks.png
ORGANIZER;CN="Rec2Connect":MAILTO:scheduling@rec2connect.org
END:VEVENT
BEGIN:VEVENT
DTSTART;TZID=America/New_York:20260202T180000
DTEND;TZID=America/New_York:20260202T190000
DTSTAMP:20260424T215408
CREATED:20250725T010120Z
LAST-MODIFIED:20260221T022934Z
UID:10006514-1770055200-1770058800@rec2connect.org
SUMMARY:Razorsharks practice
DESCRIPTION:We work on swim stroke development\, increasing endurance\, and competing with our team \nNOTE: Drop-in or Monthly packages available!  Please inquire at registration.
URL:https://rec2connect.org/event/razorsharks-practice-11/2026-02-02/
LOCATION:Beachwood High School\, 25100 Fairmount Blvd\, Beachwood\, OH\, 44122\, United States
CATEGORIES:Razorsharks Swim Team
ATTACH;FMTTYPE=image/png:https://rec2connect.org/wp-content/uploads/2025/07/Razorsharks.png
ORGANIZER;CN="Rec2Connect":MAILTO:scheduling@rec2connect.org
END:VEVENT
BEGIN:VEVENT
DTSTART;TZID=America/New_York:20260202T170000
DTEND;TZID=America/New_York:20260202T180000
DTSTAMP:20260424T215408
CREATED:20250720T130304Z
LAST-MODIFIED:20260221T023022Z
UID:10003356-1770051600-1770055200@rec2connect.org
SUMMARY:Razorsharks Practice
DESCRIPTION:We work on swim stroke development\, increasing endurance\, and competing with our team \nNOTE: Drop-in or Monthly packages available!  Please inquire at registration.
URL:https://rec2connect.org/event/razorsharks-practice-10/2026-02-02/
LOCATION:Beachwood High School\, 25100 Fairmount Blvd\, Beachwood\, OH\, 44122\, United States
CATEGORIES:Razorsharks Swim Team
ATTACH;FMTTYPE=image/png:https://rec2connect.org/wp-content/uploads/2025/07/Events_Razorsharks.png
ORGANIZER;CN="Rec2Connect":MAILTO:scheduling@rec2connect.org
END:VEVENT
BEGIN:VEVENT
DTSTART;TZID=America/New_York:20260201T120000
DTEND;TZID=America/New_York:20260201T130000
DTSTAMP:20260424T215408
CREATED:20250720T005629Z
LAST-MODIFIED:20260221T022728Z
UID:10004013-1769947200-1769950800@rec2connect.org
SUMMARY:Razorsharks Practice
DESCRIPTION:We work on swim stroke development\, increasing endurance\, and competing with our team \nNOTE: Drop-in or Monthly packages available!  Please inquire at registration.
URL:https://rec2connect.org/event/razorsharks-practice-6/2026-02-01/
LOCATION:Beachwood High School\, 25100 Fairmount Blvd\, Beachwood\, OH\, 44122\, United States
CATEGORIES:Razorsharks Swim Team
ATTACH;FMTTYPE=image/png:https://rec2connect.org/wp-content/uploads/2025/07/Events_Razorsharks.png
ORGANIZER;CN="Rec2Connect":MAILTO:scheduling@rec2connect.org
END:VEVENT
BEGIN:VEVENT
DTSTART;TZID=America/New_York:20260126T190000
DTEND;TZID=America/New_York:20260126T200000
DTSTAMP:20260424T215408
CREATED:20250725T010255Z
LAST-MODIFIED:20260221T022852Z
UID:10006777-1769454000-1769457600@rec2connect.org
SUMMARY:Razorsharks practice
DESCRIPTION:We work on swim stroke development\, increasing endurance\, and competing with our team \nNOTE: Drop-in or Monthly packages available!  Please inquire at registration.
URL:https://rec2connect.org/event/razorsharks-practice-12/2026-01-26/
LOCATION:Beachwood High School\, 25100 Fairmount Blvd\, Beachwood\, OH\, 44122\, United States
CATEGORIES:Razorsharks Swim Team
ATTACH;FMTTYPE=image/png:https://rec2connect.org/wp-content/uploads/2025/07/Razorsharks.png
ORGANIZER;CN="Rec2Connect":MAILTO:scheduling@rec2connect.org
END:VEVENT
BEGIN:VEVENT
DTSTART;TZID=America/New_York:20260126T180000
DTEND;TZID=America/New_York:20260126T190000
DTSTAMP:20260424T215408
CREATED:20250725T010120Z
LAST-MODIFIED:20260221T022934Z
UID:10006513-1769450400-1769454000@rec2connect.org
SUMMARY:Razorsharks practice
DESCRIPTION:We work on swim stroke development\, increasing endurance\, and competing with our team \nNOTE: Drop-in or Monthly packages available!  Please inquire at registration.
URL:https://rec2connect.org/event/razorsharks-practice-11/2026-01-26/
LOCATION:Beachwood High School\, 25100 Fairmount Blvd\, Beachwood\, OH\, 44122\, United States
CATEGORIES:Razorsharks Swim Team
ATTACH;FMTTYPE=image/png:https://rec2connect.org/wp-content/uploads/2025/07/Razorsharks.png
ORGANIZER;CN="Rec2Connect":MAILTO:scheduling@rec2connect.org
END:VEVENT
BEGIN:VEVENT
DTSTART;TZID=America/New_York:20260126T170000
DTEND;TZID=America/New_York:20260126T180000
DTSTAMP:20260424T215408
CREATED:20250720T130304Z
LAST-MODIFIED:20260221T023022Z
UID:10003355-1769446800-1769450400@rec2connect.org
SUMMARY:Razorsharks Practice
DESCRIPTION:We work on swim stroke development\, increasing endurance\, and competing with our team \nNOTE: Drop-in or Monthly packages available!  Please inquire at registration.
URL:https://rec2connect.org/event/razorsharks-practice-10/2026-01-26/
LOCATION:Beachwood High School\, 25100 Fairmount Blvd\, Beachwood\, OH\, 44122\, United States
CATEGORIES:Razorsharks Swim Team
ATTACH;FMTTYPE=image/png:https://rec2connect.org/wp-content/uploads/2025/07/Events_Razorsharks.png
ORGANIZER;CN="Rec2Connect":MAILTO:scheduling@rec2connect.org
END:VEVENT
BEGIN:VEVENT
DTSTART;TZID=America/New_York:20260125T120000
DTEND;TZID=America/New_York:20260125T130000
DTSTAMP:20260424T215408
CREATED:20250720T005629Z
LAST-MODIFIED:20260221T022728Z
UID:10004012-1769342400-1769346000@rec2connect.org
SUMMARY:Razorsharks Practice
DESCRIPTION:We work on swim stroke development\, increasing endurance\, and competing with our team \nNOTE: Drop-in or Monthly packages available!  Please inquire at registration.
URL:https://rec2connect.org/event/razorsharks-practice-6/2026-01-25/
LOCATION:Beachwood High School\, 25100 Fairmount Blvd\, Beachwood\, OH\, 44122\, United States
CATEGORIES:Razorsharks Swim Team
ATTACH;FMTTYPE=image/png:https://rec2connect.org/wp-content/uploads/2025/07/Events_Razorsharks.png
ORGANIZER;CN="Rec2Connect":MAILTO:scheduling@rec2connect.org
END:VEVENT
BEGIN:VEVENT
DTSTART;TZID=America/New_York:20260119T190000
DTEND;TZID=America/New_York:20260119T200000
DTSTAMP:20260424T215408
CREATED:20250725T010255Z
LAST-MODIFIED:20260221T022852Z
UID:10006776-1768849200-1768852800@rec2connect.org
SUMMARY:Razorsharks practice
DESCRIPTION:We work on swim stroke development\, increasing endurance\, and competing with our team \nNOTE: Drop-in or Monthly packages available!  Please inquire at registration.
URL:https://rec2connect.org/event/razorsharks-practice-12/2026-01-19/
LOCATION:Beachwood High School\, 25100 Fairmount Blvd\, Beachwood\, OH\, 44122\, United States
CATEGORIES:Razorsharks Swim Team
ATTACH;FMTTYPE=image/png:https://rec2connect.org/wp-content/uploads/2025/07/Razorsharks.png
ORGANIZER;CN="Rec2Connect":MAILTO:scheduling@rec2connect.org
END:VEVENT
BEGIN:VEVENT
DTSTART;TZID=America/New_York:20260119T180000
DTEND;TZID=America/New_York:20260119T190000
DTSTAMP:20260424T215408
CREATED:20250725T010120Z
LAST-MODIFIED:20260221T022934Z
UID:10006512-1768845600-1768849200@rec2connect.org
SUMMARY:Razorsharks practice
DESCRIPTION:We work on swim stroke development\, increasing endurance\, and competing with our team \nNOTE: Drop-in or Monthly packages available!  Please inquire at registration.
URL:https://rec2connect.org/event/razorsharks-practice-11/2026-01-19/
LOCATION:Beachwood High School\, 25100 Fairmount Blvd\, Beachwood\, OH\, 44122\, United States
CATEGORIES:Razorsharks Swim Team
ATTACH;FMTTYPE=image/png:https://rec2connect.org/wp-content/uploads/2025/07/Razorsharks.png
ORGANIZER;CN="Rec2Connect":MAILTO:scheduling@rec2connect.org
END:VEVENT
BEGIN:VEVENT
DTSTART;TZID=America/New_York:20260119T170000
DTEND;TZID=America/New_York:20260119T180000
DTSTAMP:20260424T215408
CREATED:20250720T130304Z
LAST-MODIFIED:20260221T023022Z
UID:10003354-1768842000-1768845600@rec2connect.org
SUMMARY:Razorsharks Practice
DESCRIPTION:We work on swim stroke development\, increasing endurance\, and competing with our team \nNOTE: Drop-in or Monthly packages available!  Please inquire at registration.
URL:https://rec2connect.org/event/razorsharks-practice-10/2026-01-19/
LOCATION:Beachwood High School\, 25100 Fairmount Blvd\, Beachwood\, OH\, 44122\, United States
CATEGORIES:Razorsharks Swim Team
ATTACH;FMTTYPE=image/png:https://rec2connect.org/wp-content/uploads/2025/07/Events_Razorsharks.png
ORGANIZER;CN="Rec2Connect":MAILTO:scheduling@rec2connect.org
END:VEVENT
BEGIN:VEVENT
DTSTART;TZID=America/New_York:20260118T120000
DTEND;TZID=America/New_York:20260118T130000
DTSTAMP:20260424T215408
CREATED:20250720T005629Z
LAST-MODIFIED:20260221T022728Z
UID:10004011-1768737600-1768741200@rec2connect.org
SUMMARY:Razorsharks Practice
DESCRIPTION:We work on swim stroke development\, increasing endurance\, and competing with our team \nNOTE: Drop-in or Monthly packages available!  Please inquire at registration.
URL:https://rec2connect.org/event/razorsharks-practice-6/2026-01-18/
LOCATION:Beachwood High School\, 25100 Fairmount Blvd\, Beachwood\, OH\, 44122\, United States
CATEGORIES:Razorsharks Swim Team
ATTACH;FMTTYPE=image/png:https://rec2connect.org/wp-content/uploads/2025/07/Events_Razorsharks.png
ORGANIZER;CN="Rec2Connect":MAILTO:scheduling@rec2connect.org
END:VEVENT
BEGIN:VEVENT
DTSTART;TZID=America/New_York:20260112T190000
DTEND;TZID=America/New_York:20260112T200000
DTSTAMP:20260424T215408
CREATED:20250725T010255Z
LAST-MODIFIED:20260221T022852Z
UID:10006775-1768244400-1768248000@rec2connect.org
SUMMARY:Razorsharks practice
DESCRIPTION:We work on swim stroke development\, increasing endurance\, and competing with our team \nNOTE: Drop-in or Monthly packages available!  Please inquire at registration.
URL:https://rec2connect.org/event/razorsharks-practice-12/2026-01-12/
LOCATION:Beachwood High School\, 25100 Fairmount Blvd\, Beachwood\, OH\, 44122\, United States
CATEGORIES:Razorsharks Swim Team
ATTACH;FMTTYPE=image/png:https://rec2connect.org/wp-content/uploads/2025/07/Razorsharks.png
ORGANIZER;CN="Rec2Connect":MAILTO:scheduling@rec2connect.org
END:VEVENT
BEGIN:VEVENT
DTSTART;TZID=America/New_York:20260112T180000
DTEND;TZID=America/New_York:20260112T190000
DTSTAMP:20260424T215408
CREATED:20250725T010120Z
LAST-MODIFIED:20260221T022934Z
UID:10006511-1768240800-1768244400@rec2connect.org
SUMMARY:Razorsharks practice
DESCRIPTION:We work on swim stroke development\, increasing endurance\, and competing with our team \nNOTE: Drop-in or Monthly packages available!  Please inquire at registration.
URL:https://rec2connect.org/event/razorsharks-practice-11/2026-01-12/
LOCATION:Beachwood High School\, 25100 Fairmount Blvd\, Beachwood\, OH\, 44122\, United States
CATEGORIES:Razorsharks Swim Team
ATTACH;FMTTYPE=image/png:https://rec2connect.org/wp-content/uploads/2025/07/Razorsharks.png
ORGANIZER;CN="Rec2Connect":MAILTO:scheduling@rec2connect.org
END:VEVENT
BEGIN:VEVENT
DTSTART;TZID=America/New_York:20260112T170000
DTEND;TZID=America/New_York:20260112T180000
DTSTAMP:20260424T215408
CREATED:20250720T130304Z
LAST-MODIFIED:20260221T023022Z
UID:10003353-1768237200-1768240800@rec2connect.org
SUMMARY:Razorsharks Practice
DESCRIPTION:We work on swim stroke development\, increasing endurance\, and competing with our team \nNOTE: Drop-in or Monthly packages available!  Please inquire at registration.
URL:https://rec2connect.org/event/razorsharks-practice-10/2026-01-12/
LOCATION:Beachwood High School\, 25100 Fairmount Blvd\, Beachwood\, OH\, 44122\, United States
CATEGORIES:Razorsharks Swim Team
ATTACH;FMTTYPE=image/png:https://rec2connect.org/wp-content/uploads/2025/07/Events_Razorsharks.png
ORGANIZER;CN="Rec2Connect":MAILTO:scheduling@rec2connect.org
END:VEVENT
BEGIN:VEVENT
DTSTART;TZID=America/New_York:20260111T120000
DTEND;TZID=America/New_York:20260111T130000
DTSTAMP:20260424T215408
CREATED:20250720T005629Z
LAST-MODIFIED:20260221T022728Z
UID:10004010-1768132800-1768136400@rec2connect.org
SUMMARY:Razorsharks Practice
DESCRIPTION:We work on swim stroke development\, increasing endurance\, and competing with our team \nNOTE: Drop-in or Monthly packages available!  Please inquire at registration.
URL:https://rec2connect.org/event/razorsharks-practice-6/2026-01-11/
LOCATION:Beachwood High School\, 25100 Fairmount Blvd\, Beachwood\, OH\, 44122\, United States
CATEGORIES:Razorsharks Swim Team
ATTACH;FMTTYPE=image/png:https://rec2connect.org/wp-content/uploads/2025/07/Events_Razorsharks.png
ORGANIZER;CN="Rec2Connect":MAILTO:scheduling@rec2connect.org
END:VEVENT
BEGIN:VEVENT
DTSTART;TZID=America/New_York:20260105T190000
DTEND;TZID=America/New_York:20260105T200000
DTSTAMP:20260424T215408
CREATED:20250725T010255Z
LAST-MODIFIED:20260221T022852Z
UID:10006774-1767639600-1767643200@rec2connect.org
SUMMARY:Razorsharks practice
DESCRIPTION:We work on swim stroke development\, increasing endurance\, and competing with our team \nNOTE: Drop-in or Monthly packages available!  Please inquire at registration.
URL:https://rec2connect.org/event/razorsharks-practice-12/2026-01-05/
LOCATION:Beachwood High School\, 25100 Fairmount Blvd\, Beachwood\, OH\, 44122\, United States
CATEGORIES:Razorsharks Swim Team
ATTACH;FMTTYPE=image/png:https://rec2connect.org/wp-content/uploads/2025/07/Razorsharks.png
ORGANIZER;CN="Rec2Connect":MAILTO:scheduling@rec2connect.org
END:VEVENT
BEGIN:VEVENT
DTSTART;TZID=America/New_York:20260105T180000
DTEND;TZID=America/New_York:20260105T190000
DTSTAMP:20260424T215408
CREATED:20250725T010120Z
LAST-MODIFIED:20260221T022934Z
UID:10006510-1767636000-1767639600@rec2connect.org
SUMMARY:Razorsharks practice
DESCRIPTION:We work on swim stroke development\, increasing endurance\, and competing with our team \nNOTE: Drop-in or Monthly packages available!  Please inquire at registration.
URL:https://rec2connect.org/event/razorsharks-practice-11/2026-01-05/
LOCATION:Beachwood High School\, 25100 Fairmount Blvd\, Beachwood\, OH\, 44122\, United States
CATEGORIES:Razorsharks Swim Team
ATTACH;FMTTYPE=image/png:https://rec2connect.org/wp-content/uploads/2025/07/Razorsharks.png
ORGANIZER;CN="Rec2Connect":MAILTO:scheduling@rec2connect.org
END:VEVENT
BEGIN:VEVENT
DTSTART;TZID=America/New_York:20260105T170000
DTEND;TZID=America/New_York:20260105T180000
DTSTAMP:20260424T215408
CREATED:20250720T130304Z
LAST-MODIFIED:20260221T023022Z
UID:10003352-1767632400-1767636000@rec2connect.org
SUMMARY:Razorsharks Practice
DESCRIPTION:We work on swim stroke development\, increasing endurance\, and competing with our team \nNOTE: Drop-in or Monthly packages available!  Please inquire at registration.
URL:https://rec2connect.org/event/razorsharks-practice-10/2026-01-05/
LOCATION:Beachwood High School\, 25100 Fairmount Blvd\, Beachwood\, OH\, 44122\, United States
CATEGORIES:Razorsharks Swim Team
ATTACH;FMTTYPE=image/png:https://rec2connect.org/wp-content/uploads/2025/07/Events_Razorsharks.png
ORGANIZER;CN="Rec2Connect":MAILTO:scheduling@rec2connect.org
END:VEVENT
BEGIN:VEVENT
DTSTART;TZID=America/New_York:20260104T120000
DTEND;TZID=America/New_York:20260104T130000
DTSTAMP:20260424T215408
CREATED:20250720T005629Z
LAST-MODIFIED:20260221T022728Z
UID:10004009-1767528000-1767531600@rec2connect.org
SUMMARY:Razorsharks Practice
DESCRIPTION:We work on swim stroke development\, increasing endurance\, and competing with our team \nNOTE: Drop-in or Monthly packages available!  Please inquire at registration.
URL:https://rec2connect.org/event/razorsharks-practice-6/2026-01-04/
LOCATION:Beachwood High School\, 25100 Fairmount Blvd\, Beachwood\, OH\, 44122\, United States
CATEGORIES:Razorsharks Swim Team
ATTACH;FMTTYPE=image/png:https://rec2connect.org/wp-content/uploads/2025/07/Events_Razorsharks.png
ORGANIZER;CN="Rec2Connect":MAILTO:scheduling@rec2connect.org
END:VEVENT
BEGIN:VEVENT
DTSTART;TZID=America/New_York:20251229T190000
DTEND;TZID=America/New_York:20251229T200000
DTSTAMP:20260424T215408
CREATED:20250725T010255Z
LAST-MODIFIED:20260221T022852Z
UID:10006773-1767034800-1767038400@rec2connect.org
SUMMARY:Razorsharks practice
DESCRIPTION:We work on swim stroke development\, increasing endurance\, and competing with our team \nNOTE: Drop-in or Monthly packages available!  Please inquire at registration.
URL:https://rec2connect.org/event/razorsharks-practice-12/2025-12-29/
LOCATION:Beachwood High School\, 25100 Fairmount Blvd\, Beachwood\, OH\, 44122\, United States
CATEGORIES:Razorsharks Swim Team
ATTACH;FMTTYPE=image/png:https://rec2connect.org/wp-content/uploads/2025/07/Razorsharks.png
ORGANIZER;CN="Rec2Connect":MAILTO:scheduling@rec2connect.org
END:VEVENT
BEGIN:VEVENT
DTSTART;TZID=America/New_York:20251229T180000
DTEND;TZID=America/New_York:20251229T190000
DTSTAMP:20260424T215408
CREATED:20250725T010120Z
LAST-MODIFIED:20260221T022934Z
UID:10006509-1767031200-1767034800@rec2connect.org
SUMMARY:Razorsharks practice
DESCRIPTION:We work on swim stroke development\, increasing endurance\, and competing with our team \nNOTE: Drop-in or Monthly packages available!  Please inquire at registration.
URL:https://rec2connect.org/event/razorsharks-practice-11/2025-12-29/
LOCATION:Beachwood High School\, 25100 Fairmount Blvd\, Beachwood\, OH\, 44122\, United States
CATEGORIES:Razorsharks Swim Team
ATTACH;FMTTYPE=image/png:https://rec2connect.org/wp-content/uploads/2025/07/Razorsharks.png
ORGANIZER;CN="Rec2Connect":MAILTO:scheduling@rec2connect.org
END:VEVENT
END:VCALENDAR