BEGIN:VCALENDAR
VERSION:2.0
PRODID:-//Rec2Connect - ECPv6.15.20//NONSGML v1.0//EN
CALSCALE:GREGORIAN
METHOD:PUBLISH
X-WR-CALNAME:Rec2Connect
X-ORIGINAL-URL:https://rec2connect.org
X-WR-CALDESC:Events for Rec2Connect
REFRESH-INTERVAL;VALUE=DURATION:PT1H
X-Robots-Tag:noindex
X-PUBLISHED-TTL:PT1H
BEGIN:VTIMEZONE
TZID:America/New_York
BEGIN:DAYLIGHT
TZOFFSETFROM:-0500
TZOFFSETTO:-0400
TZNAME:EDT
DTSTART:20260308T070000
END:DAYLIGHT
BEGIN:STANDARD
TZOFFSETFROM:-0400
TZOFFSETTO:-0500
TZNAME:EST
DTSTART:20261101T060000
END:STANDARD
BEGIN:DAYLIGHT
TZOFFSETFROM:-0500
TZOFFSETTO:-0400
TZNAME:EDT
DTSTART:20270314T070000
END:DAYLIGHT
BEGIN:STANDARD
TZOFFSETFROM:-0400
TZOFFSETTO:-0500
TZNAME:EST
DTSTART:20271107T060000
END:STANDARD
BEGIN:DAYLIGHT
TZOFFSETFROM:-0500
TZOFFSETTO:-0400
TZNAME:EDT
DTSTART:20280312T070000
END:DAYLIGHT
BEGIN:STANDARD
TZOFFSETFROM:-0400
TZOFFSETTO:-0500
TZNAME:EST
DTSTART:20281105T060000
END:STANDARD
END:VTIMEZONE
BEGIN:VEVENT
DTSTART;TZID=America/New_York:20270501T090000
DTEND;TZID=America/New_York:20270501T100000
DTSTAMP:20260425T103029
CREATED:20250720T005626Z
LAST-MODIFIED:20260221T023330Z
UID:10003816-1809162000-1809165600@rec2connect.org
SUMMARY:Razorsharks Practice
DESCRIPTION:We work on swim stroke development\, increasing endurance\, and competing with our team \nNOTE: Drop-in or Monthly packages available!  Please inquire at registration.
URL:https://rec2connect.org/event/razorsharks-practice/2027-05-01/
LOCATION:North Olmsted Recreation Center\, 26000 Lorain Rd\, North Olmsted\, OH\, 44070\, United States
CATEGORIES:Razorsharks Swim Team
ATTACH;FMTTYPE=image/png:https://rec2connect.org/wp-content/uploads/2025/07/Events_Razorsharks.png
ORGANIZER;CN="Rec2Connect":MAILTO:scheduling@rec2connect.org
END:VEVENT
BEGIN:VEVENT
DTSTART;TZID=America/New_York:20270502T120000
DTEND;TZID=America/New_York:20270502T130000
DTSTAMP:20260425T103029
CREATED:20250720T005629Z
LAST-MODIFIED:20260221T022728Z
UID:10004078-1809259200-1809262800@rec2connect.org
SUMMARY:Razorsharks Practice
DESCRIPTION:We work on swim stroke development\, increasing endurance\, and competing with our team \nNOTE: Drop-in or Monthly packages available!  Please inquire at registration.
URL:https://rec2connect.org/event/razorsharks-practice-6/2027-05-02/
LOCATION:Beachwood High School\, 25100 Fairmount Blvd\, Beachwood\, OH\, 44122\, United States
CATEGORIES:Razorsharks Swim Team
ATTACH;FMTTYPE=image/png:https://rec2connect.org/wp-content/uploads/2025/07/Events_Razorsharks.png
ORGANIZER;CN="Rec2Connect":MAILTO:scheduling@rec2connect.org
END:VEVENT
BEGIN:VEVENT
DTSTART;TZID=America/New_York:20270503T090000
DTEND;TZID=America/New_York:20270503T100000
DTSTAMP:20260425T103029
CREATED:20250720T130303Z
LAST-MODIFIED:20260221T022641Z
UID:10002897-1809334800-1809338400@rec2connect.org
SUMMARY:Razorsharks Masters Practice
DESCRIPTION:We work on swim stroke development\, increasing endurance\, and competing with our team \nNOTE: Drop-in or Monthly packages available!  Please inquire at registration.
URL:https://rec2connect.org/event/razorsharks-masters-practice/2027-05-03/
LOCATION:North Olmsted Recreation Center\, 26000 Lorain Rd\, North Olmsted\, OH\, 44070\, United States
CATEGORIES:Razorsharks Swim Team
ATTACH;FMTTYPE=image/png:https://rec2connect.org/wp-content/uploads/2025/07/Events_Razorsharks.png
ORGANIZER;CN="Rec2Connect":MAILTO:scheduling@rec2connect.org
END:VEVENT
BEGIN:VEVENT
DTSTART;TZID=America/New_York:20270503T170000
DTEND;TZID=America/New_York:20270503T180000
DTSTAMP:20260425T103029
CREATED:20250720T130304Z
LAST-MODIFIED:20260221T023022Z
UID:10003421-1809363600-1809367200@rec2connect.org
SUMMARY:Razorsharks Practice
DESCRIPTION:We work on swim stroke development\, increasing endurance\, and competing with our team \nNOTE: Drop-in or Monthly packages available!  Please inquire at registration.
URL:https://rec2connect.org/event/razorsharks-practice-10/2027-05-03/
LOCATION:Beachwood High School\, 25100 Fairmount Blvd\, Beachwood\, OH\, 44122\, United States
CATEGORIES:Razorsharks Swim Team
ATTACH;FMTTYPE=image/png:https://rec2connect.org/wp-content/uploads/2025/07/Events_Razorsharks.png
ORGANIZER;CN="Rec2Connect":MAILTO:scheduling@rec2connect.org
END:VEVENT
BEGIN:VEVENT
DTSTART;TZID=America/New_York:20270505T160000
DTEND;TZID=America/New_York:20270505T170000
DTSTAMP:20260425T103029
CREATED:20250720T130248Z
LAST-MODIFIED:20260221T023543Z
UID:10001583-1809532800-1809536400@rec2connect.org
SUMMARY:Razorsharks Practice
DESCRIPTION:We work on swim stroke development\, increasing endurance\, and competing with our team \nNOTE: Drop-in or Monthly packages available!  Please inquire at registration.
URL:https://rec2connect.org/event/razorsharks-practice-8/2027-05-05/
LOCATION:Seven Hills Parks and Rec Center\, 7777 Summit View Dr\, Seven HIlls\, OH\, 44131\, United States
CATEGORIES:Razorsharks Swim Team
ATTACH;FMTTYPE=image/png:https://rec2connect.org/wp-content/uploads/2025/07/Events_Razorsharks.png
ORGANIZER;CN="Rec2Connect":MAILTO:scheduling@rec2connect.org
END:VEVENT
BEGIN:VEVENT
DTSTART;TZID=America/New_York:20270505T170000
DTEND;TZID=America/New_York:20270505T180000
DTSTAMP:20260425T103029
CREATED:20250720T130248Z
LAST-MODIFIED:20260221T023449Z
UID:10001846-1809536400-1809540000@rec2connect.org
SUMMARY:Razorsharks Practice
DESCRIPTION:We work on swim stroke development\, increasing endurance\, and competing with our team \nNOTE: Drop-in or Monthly packages available!  Please inquire at registration.
URL:https://rec2connect.org/event/razorsharks-practice-9/2027-05-05/
LOCATION:Seven Hills Parks and Rec Center\, 7777 Summit View Dr\, Seven HIlls\, OH\, 44131\, United States
CATEGORIES:Razorsharks Swim Team
ATTACH;FMTTYPE=image/png:https://rec2connect.org/wp-content/uploads/2025/07/Events_Razorsharks.png
ORGANIZER;CN="Rec2Connect":MAILTO:scheduling@rec2connect.org
END:VEVENT
BEGIN:VEVENT
DTSTART;TZID=America/New_York:20270508T090000
DTEND;TZID=America/New_York:20270508T100000
DTSTAMP:20260425T103030
CREATED:20250720T005626Z
LAST-MODIFIED:20260221T023330Z
UID:10003817-1809766800-1809770400@rec2connect.org
SUMMARY:Razorsharks Practice
DESCRIPTION:We work on swim stroke development\, increasing endurance\, and competing with our team \nNOTE: Drop-in or Monthly packages available!  Please inquire at registration.
URL:https://rec2connect.org/event/razorsharks-practice/2027-05-08/
LOCATION:North Olmsted Recreation Center\, 26000 Lorain Rd\, North Olmsted\, OH\, 44070\, United States
CATEGORIES:Razorsharks Swim Team
ATTACH;FMTTYPE=image/png:https://rec2connect.org/wp-content/uploads/2025/07/Events_Razorsharks.png
ORGANIZER;CN="Rec2Connect":MAILTO:scheduling@rec2connect.org
END:VEVENT
BEGIN:VEVENT
DTSTART;TZID=America/New_York:20270509T120000
DTEND;TZID=America/New_York:20270509T130000
DTSTAMP:20260425T103030
CREATED:20250720T005629Z
LAST-MODIFIED:20260221T022728Z
UID:10004079-1809864000-1809867600@rec2connect.org
SUMMARY:Razorsharks Practice
DESCRIPTION:We work on swim stroke development\, increasing endurance\, and competing with our team \nNOTE: Drop-in or Monthly packages available!  Please inquire at registration.
URL:https://rec2connect.org/event/razorsharks-practice-6/2027-05-09/
LOCATION:Beachwood High School\, 25100 Fairmount Blvd\, Beachwood\, OH\, 44122\, United States
CATEGORIES:Razorsharks Swim Team
ATTACH;FMTTYPE=image/png:https://rec2connect.org/wp-content/uploads/2025/07/Events_Razorsharks.png
ORGANIZER;CN="Rec2Connect":MAILTO:scheduling@rec2connect.org
END:VEVENT
BEGIN:VEVENT
DTSTART;TZID=America/New_York:20270510T090000
DTEND;TZID=America/New_York:20270510T100000
DTSTAMP:20260425T103030
CREATED:20250720T130303Z
LAST-MODIFIED:20260221T022641Z
UID:10002898-1809939600-1809943200@rec2connect.org
SUMMARY:Razorsharks Masters Practice
DESCRIPTION:We work on swim stroke development\, increasing endurance\, and competing with our team \nNOTE: Drop-in or Monthly packages available!  Please inquire at registration.
URL:https://rec2connect.org/event/razorsharks-masters-practice/2027-05-10/
LOCATION:North Olmsted Recreation Center\, 26000 Lorain Rd\, North Olmsted\, OH\, 44070\, United States
CATEGORIES:Razorsharks Swim Team
ATTACH;FMTTYPE=image/png:https://rec2connect.org/wp-content/uploads/2025/07/Events_Razorsharks.png
ORGANIZER;CN="Rec2Connect":MAILTO:scheduling@rec2connect.org
END:VEVENT
BEGIN:VEVENT
DTSTART;TZID=America/New_York:20270510T170000
DTEND;TZID=America/New_York:20270510T180000
DTSTAMP:20260425T103030
CREATED:20250720T130304Z
LAST-MODIFIED:20260221T023022Z
UID:10003422-1809968400-1809972000@rec2connect.org
SUMMARY:Razorsharks Practice
DESCRIPTION:We work on swim stroke development\, increasing endurance\, and competing with our team \nNOTE: Drop-in or Monthly packages available!  Please inquire at registration.
URL:https://rec2connect.org/event/razorsharks-practice-10/2027-05-10/
LOCATION:Beachwood High School\, 25100 Fairmount Blvd\, Beachwood\, OH\, 44122\, United States
CATEGORIES:Razorsharks Swim Team
ATTACH;FMTTYPE=image/png:https://rec2connect.org/wp-content/uploads/2025/07/Events_Razorsharks.png
ORGANIZER;CN="Rec2Connect":MAILTO:scheduling@rec2connect.org
END:VEVENT
BEGIN:VEVENT
DTSTART;TZID=America/New_York:20270512T160000
DTEND;TZID=America/New_York:20270512T170000
DTSTAMP:20260425T103030
CREATED:20250720T130248Z
LAST-MODIFIED:20260221T023543Z
UID:10001584-1810137600-1810141200@rec2connect.org
SUMMARY:Razorsharks Practice
DESCRIPTION:We work on swim stroke development\, increasing endurance\, and competing with our team \nNOTE: Drop-in or Monthly packages available!  Please inquire at registration.
URL:https://rec2connect.org/event/razorsharks-practice-8/2027-05-12/
LOCATION:Seven Hills Parks and Rec Center\, 7777 Summit View Dr\, Seven HIlls\, OH\, 44131\, United States
CATEGORIES:Razorsharks Swim Team
ATTACH;FMTTYPE=image/png:https://rec2connect.org/wp-content/uploads/2025/07/Events_Razorsharks.png
ORGANIZER;CN="Rec2Connect":MAILTO:scheduling@rec2connect.org
END:VEVENT
BEGIN:VEVENT
DTSTART;TZID=America/New_York:20270512T170000
DTEND;TZID=America/New_York:20270512T180000
DTSTAMP:20260425T103030
CREATED:20250720T130248Z
LAST-MODIFIED:20260221T023449Z
UID:10001847-1810141200-1810144800@rec2connect.org
SUMMARY:Razorsharks Practice
DESCRIPTION:We work on swim stroke development\, increasing endurance\, and competing with our team \nNOTE: Drop-in or Monthly packages available!  Please inquire at registration.
URL:https://rec2connect.org/event/razorsharks-practice-9/2027-05-12/
LOCATION:Seven Hills Parks and Rec Center\, 7777 Summit View Dr\, Seven HIlls\, OH\, 44131\, United States
CATEGORIES:Razorsharks Swim Team
ATTACH;FMTTYPE=image/png:https://rec2connect.org/wp-content/uploads/2025/07/Events_Razorsharks.png
ORGANIZER;CN="Rec2Connect":MAILTO:scheduling@rec2connect.org
END:VEVENT
BEGIN:VEVENT
DTSTART;TZID=America/New_York:20270515T090000
DTEND;TZID=America/New_York:20270515T100000
DTSTAMP:20260425T103030
CREATED:20250720T005626Z
LAST-MODIFIED:20260221T023330Z
UID:10003818-1810371600-1810375200@rec2connect.org
SUMMARY:Razorsharks Practice
DESCRIPTION:We work on swim stroke development\, increasing endurance\, and competing with our team \nNOTE: Drop-in or Monthly packages available!  Please inquire at registration.
URL:https://rec2connect.org/event/razorsharks-practice/2027-05-15/
LOCATION:North Olmsted Recreation Center\, 26000 Lorain Rd\, North Olmsted\, OH\, 44070\, United States
CATEGORIES:Razorsharks Swim Team
ATTACH;FMTTYPE=image/png:https://rec2connect.org/wp-content/uploads/2025/07/Events_Razorsharks.png
ORGANIZER;CN="Rec2Connect":MAILTO:scheduling@rec2connect.org
END:VEVENT
BEGIN:VEVENT
DTSTART;TZID=America/New_York:20270516T120000
DTEND;TZID=America/New_York:20270516T130000
DTSTAMP:20260425T103030
CREATED:20250720T005629Z
LAST-MODIFIED:20260221T022728Z
UID:10004080-1810468800-1810472400@rec2connect.org
SUMMARY:Razorsharks Practice
DESCRIPTION:We work on swim stroke development\, increasing endurance\, and competing with our team \nNOTE: Drop-in or Monthly packages available!  Please inquire at registration.
URL:https://rec2connect.org/event/razorsharks-practice-6/2027-05-16/
LOCATION:Beachwood High School\, 25100 Fairmount Blvd\, Beachwood\, OH\, 44122\, United States
CATEGORIES:Razorsharks Swim Team
ATTACH;FMTTYPE=image/png:https://rec2connect.org/wp-content/uploads/2025/07/Events_Razorsharks.png
ORGANIZER;CN="Rec2Connect":MAILTO:scheduling@rec2connect.org
END:VEVENT
BEGIN:VEVENT
DTSTART;TZID=America/New_York:20270517T090000
DTEND;TZID=America/New_York:20270517T100000
DTSTAMP:20260425T103030
CREATED:20250720T130303Z
LAST-MODIFIED:20260221T022641Z
UID:10002899-1810544400-1810548000@rec2connect.org
SUMMARY:Razorsharks Masters Practice
DESCRIPTION:We work on swim stroke development\, increasing endurance\, and competing with our team \nNOTE: Drop-in or Monthly packages available!  Please inquire at registration.
URL:https://rec2connect.org/event/razorsharks-masters-practice/2027-05-17/
LOCATION:North Olmsted Recreation Center\, 26000 Lorain Rd\, North Olmsted\, OH\, 44070\, United States
CATEGORIES:Razorsharks Swim Team
ATTACH;FMTTYPE=image/png:https://rec2connect.org/wp-content/uploads/2025/07/Events_Razorsharks.png
ORGANIZER;CN="Rec2Connect":MAILTO:scheduling@rec2connect.org
END:VEVENT
BEGIN:VEVENT
DTSTART;TZID=America/New_York:20270517T170000
DTEND;TZID=America/New_York:20270517T180000
DTSTAMP:20260425T103030
CREATED:20250720T130304Z
LAST-MODIFIED:20260221T023022Z
UID:10003423-1810573200-1810576800@rec2connect.org
SUMMARY:Razorsharks Practice
DESCRIPTION:We work on swim stroke development\, increasing endurance\, and competing with our team \nNOTE: Drop-in or Monthly packages available!  Please inquire at registration.
URL:https://rec2connect.org/event/razorsharks-practice-10/2027-05-17/
LOCATION:Beachwood High School\, 25100 Fairmount Blvd\, Beachwood\, OH\, 44122\, United States
CATEGORIES:Razorsharks Swim Team
ATTACH;FMTTYPE=image/png:https://rec2connect.org/wp-content/uploads/2025/07/Events_Razorsharks.png
ORGANIZER;CN="Rec2Connect":MAILTO:scheduling@rec2connect.org
END:VEVENT
BEGIN:VEVENT
DTSTART;TZID=America/New_York:20270519T160000
DTEND;TZID=America/New_York:20270519T170000
DTSTAMP:20260425T103030
CREATED:20250720T130248Z
LAST-MODIFIED:20260221T023543Z
UID:10001585-1810742400-1810746000@rec2connect.org
SUMMARY:Razorsharks Practice
DESCRIPTION:We work on swim stroke development\, increasing endurance\, and competing with our team \nNOTE: Drop-in or Monthly packages available!  Please inquire at registration.
URL:https://rec2connect.org/event/razorsharks-practice-8/2027-05-19/
LOCATION:Seven Hills Parks and Rec Center\, 7777 Summit View Dr\, Seven HIlls\, OH\, 44131\, United States
CATEGORIES:Razorsharks Swim Team
ATTACH;FMTTYPE=image/png:https://rec2connect.org/wp-content/uploads/2025/07/Events_Razorsharks.png
ORGANIZER;CN="Rec2Connect":MAILTO:scheduling@rec2connect.org
END:VEVENT
BEGIN:VEVENT
DTSTART;TZID=America/New_York:20270519T170000
DTEND;TZID=America/New_York:20270519T180000
DTSTAMP:20260425T103030
CREATED:20250720T130248Z
LAST-MODIFIED:20260221T023449Z
UID:10001848-1810746000-1810749600@rec2connect.org
SUMMARY:Razorsharks Practice
DESCRIPTION:We work on swim stroke development\, increasing endurance\, and competing with our team \nNOTE: Drop-in or Monthly packages available!  Please inquire at registration.
URL:https://rec2connect.org/event/razorsharks-practice-9/2027-05-19/
LOCATION:Seven Hills Parks and Rec Center\, 7777 Summit View Dr\, Seven HIlls\, OH\, 44131\, United States
CATEGORIES:Razorsharks Swim Team
ATTACH;FMTTYPE=image/png:https://rec2connect.org/wp-content/uploads/2025/07/Events_Razorsharks.png
ORGANIZER;CN="Rec2Connect":MAILTO:scheduling@rec2connect.org
END:VEVENT
BEGIN:VEVENT
DTSTART;TZID=America/New_York:20270522T090000
DTEND;TZID=America/New_York:20270522T100000
DTSTAMP:20260425T103030
CREATED:20250720T005626Z
LAST-MODIFIED:20260221T023330Z
UID:10003819-1810976400-1810980000@rec2connect.org
SUMMARY:Razorsharks Practice
DESCRIPTION:We work on swim stroke development\, increasing endurance\, and competing with our team \nNOTE: Drop-in or Monthly packages available!  Please inquire at registration.
URL:https://rec2connect.org/event/razorsharks-practice/2027-05-22/
LOCATION:North Olmsted Recreation Center\, 26000 Lorain Rd\, North Olmsted\, OH\, 44070\, United States
CATEGORIES:Razorsharks Swim Team
ATTACH;FMTTYPE=image/png:https://rec2connect.org/wp-content/uploads/2025/07/Events_Razorsharks.png
ORGANIZER;CN="Rec2Connect":MAILTO:scheduling@rec2connect.org
END:VEVENT
BEGIN:VEVENT
DTSTART;TZID=America/New_York:20270523T120000
DTEND;TZID=America/New_York:20270523T130000
DTSTAMP:20260425T103030
CREATED:20250720T005629Z
LAST-MODIFIED:20260221T022728Z
UID:10004081-1811073600-1811077200@rec2connect.org
SUMMARY:Razorsharks Practice
DESCRIPTION:We work on swim stroke development\, increasing endurance\, and competing with our team \nNOTE: Drop-in or Monthly packages available!  Please inquire at registration.
URL:https://rec2connect.org/event/razorsharks-practice-6/2027-05-23/
LOCATION:Beachwood High School\, 25100 Fairmount Blvd\, Beachwood\, OH\, 44122\, United States
CATEGORIES:Razorsharks Swim Team
ATTACH;FMTTYPE=image/png:https://rec2connect.org/wp-content/uploads/2025/07/Events_Razorsharks.png
ORGANIZER;CN="Rec2Connect":MAILTO:scheduling@rec2connect.org
END:VEVENT
BEGIN:VEVENT
DTSTART;TZID=America/New_York:20270524T090000
DTEND;TZID=America/New_York:20270524T100000
DTSTAMP:20260425T103030
CREATED:20250720T130303Z
LAST-MODIFIED:20260221T022641Z
UID:10002900-1811149200-1811152800@rec2connect.org
SUMMARY:Razorsharks Masters Practice
DESCRIPTION:We work on swim stroke development\, increasing endurance\, and competing with our team \nNOTE: Drop-in or Monthly packages available!  Please inquire at registration.
URL:https://rec2connect.org/event/razorsharks-masters-practice/2027-05-24/
LOCATION:North Olmsted Recreation Center\, 26000 Lorain Rd\, North Olmsted\, OH\, 44070\, United States
CATEGORIES:Razorsharks Swim Team
ATTACH;FMTTYPE=image/png:https://rec2connect.org/wp-content/uploads/2025/07/Events_Razorsharks.png
ORGANIZER;CN="Rec2Connect":MAILTO:scheduling@rec2connect.org
END:VEVENT
BEGIN:VEVENT
DTSTART;TZID=America/New_York:20270524T170000
DTEND;TZID=America/New_York:20270524T180000
DTSTAMP:20260425T103030
CREATED:20250720T130304Z
LAST-MODIFIED:20260221T023022Z
UID:10003424-1811178000-1811181600@rec2connect.org
SUMMARY:Razorsharks Practice
DESCRIPTION:We work on swim stroke development\, increasing endurance\, and competing with our team \nNOTE: Drop-in or Monthly packages available!  Please inquire at registration.
URL:https://rec2connect.org/event/razorsharks-practice-10/2027-05-24/
LOCATION:Beachwood High School\, 25100 Fairmount Blvd\, Beachwood\, OH\, 44122\, United States
CATEGORIES:Razorsharks Swim Team
ATTACH;FMTTYPE=image/png:https://rec2connect.org/wp-content/uploads/2025/07/Events_Razorsharks.png
ORGANIZER;CN="Rec2Connect":MAILTO:scheduling@rec2connect.org
END:VEVENT
BEGIN:VEVENT
DTSTART;TZID=America/New_York:20270526T160000
DTEND;TZID=America/New_York:20270526T170000
DTSTAMP:20260425T103030
CREATED:20250720T130248Z
LAST-MODIFIED:20260221T023543Z
UID:10001586-1811347200-1811350800@rec2connect.org
SUMMARY:Razorsharks Practice
DESCRIPTION:We work on swim stroke development\, increasing endurance\, and competing with our team \nNOTE: Drop-in or Monthly packages available!  Please inquire at registration.
URL:https://rec2connect.org/event/razorsharks-practice-8/2027-05-26/
LOCATION:Seven Hills Parks and Rec Center\, 7777 Summit View Dr\, Seven HIlls\, OH\, 44131\, United States
CATEGORIES:Razorsharks Swim Team
ATTACH;FMTTYPE=image/png:https://rec2connect.org/wp-content/uploads/2025/07/Events_Razorsharks.png
ORGANIZER;CN="Rec2Connect":MAILTO:scheduling@rec2connect.org
END:VEVENT
BEGIN:VEVENT
DTSTART;TZID=America/New_York:20270526T170000
DTEND;TZID=America/New_York:20270526T180000
DTSTAMP:20260425T103030
CREATED:20250720T130248Z
LAST-MODIFIED:20260221T023449Z
UID:10001849-1811350800-1811354400@rec2connect.org
SUMMARY:Razorsharks Practice
DESCRIPTION:We work on swim stroke development\, increasing endurance\, and competing with our team \nNOTE: Drop-in or Monthly packages available!  Please inquire at registration.
URL:https://rec2connect.org/event/razorsharks-practice-9/2027-05-26/
LOCATION:Seven Hills Parks and Rec Center\, 7777 Summit View Dr\, Seven HIlls\, OH\, 44131\, United States
CATEGORIES:Razorsharks Swim Team
ATTACH;FMTTYPE=image/png:https://rec2connect.org/wp-content/uploads/2025/07/Events_Razorsharks.png
ORGANIZER;CN="Rec2Connect":MAILTO:scheduling@rec2connect.org
END:VEVENT
BEGIN:VEVENT
DTSTART;TZID=America/New_York:20270529T090000
DTEND;TZID=America/New_York:20270529T100000
DTSTAMP:20260425T103030
CREATED:20250720T005626Z
LAST-MODIFIED:20260221T023330Z
UID:10003820-1811581200-1811584800@rec2connect.org
SUMMARY:Razorsharks Practice
DESCRIPTION:We work on swim stroke development\, increasing endurance\, and competing with our team \nNOTE: Drop-in or Monthly packages available!  Please inquire at registration.
URL:https://rec2connect.org/event/razorsharks-practice/2027-05-29/
LOCATION:North Olmsted Recreation Center\, 26000 Lorain Rd\, North Olmsted\, OH\, 44070\, United States
CATEGORIES:Razorsharks Swim Team
ATTACH;FMTTYPE=image/png:https://rec2connect.org/wp-content/uploads/2025/07/Events_Razorsharks.png
ORGANIZER;CN="Rec2Connect":MAILTO:scheduling@rec2connect.org
END:VEVENT
BEGIN:VEVENT
DTSTART;TZID=America/New_York:20270530T120000
DTEND;TZID=America/New_York:20270530T130000
DTSTAMP:20260425T103030
CREATED:20250720T005629Z
LAST-MODIFIED:20260221T022728Z
UID:10004082-1811678400-1811682000@rec2connect.org
SUMMARY:Razorsharks Practice
DESCRIPTION:We work on swim stroke development\, increasing endurance\, and competing with our team \nNOTE: Drop-in or Monthly packages available!  Please inquire at registration.
URL:https://rec2connect.org/event/razorsharks-practice-6/2027-05-30/
LOCATION:Beachwood High School\, 25100 Fairmount Blvd\, Beachwood\, OH\, 44122\, United States
CATEGORIES:Razorsharks Swim Team
ATTACH;FMTTYPE=image/png:https://rec2connect.org/wp-content/uploads/2025/07/Events_Razorsharks.png
ORGANIZER;CN="Rec2Connect":MAILTO:scheduling@rec2connect.org
END:VEVENT
BEGIN:VEVENT
DTSTART;TZID=America/New_York:20270531T090000
DTEND;TZID=America/New_York:20270531T100000
DTSTAMP:20260425T103030
CREATED:20250720T130303Z
LAST-MODIFIED:20260221T022641Z
UID:10002901-1811754000-1811757600@rec2connect.org
SUMMARY:Razorsharks Masters Practice
DESCRIPTION:We work on swim stroke development\, increasing endurance\, and competing with our team \nNOTE: Drop-in or Monthly packages available!  Please inquire at registration.
URL:https://rec2connect.org/event/razorsharks-masters-practice/2027-05-31/
LOCATION:North Olmsted Recreation Center\, 26000 Lorain Rd\, North Olmsted\, OH\, 44070\, United States
CATEGORIES:Razorsharks Swim Team
ATTACH;FMTTYPE=image/png:https://rec2connect.org/wp-content/uploads/2025/07/Events_Razorsharks.png
ORGANIZER;CN="Rec2Connect":MAILTO:scheduling@rec2connect.org
END:VEVENT
BEGIN:VEVENT
DTSTART;TZID=America/New_York:20270531T170000
DTEND;TZID=America/New_York:20270531T180000
DTSTAMP:20260425T103030
CREATED:20250720T130304Z
LAST-MODIFIED:20260221T023022Z
UID:10003425-1811782800-1811786400@rec2connect.org
SUMMARY:Razorsharks Practice
DESCRIPTION:We work on swim stroke development\, increasing endurance\, and competing with our team \nNOTE: Drop-in or Monthly packages available!  Please inquire at registration.
URL:https://rec2connect.org/event/razorsharks-practice-10/2027-05-31/
LOCATION:Beachwood High School\, 25100 Fairmount Blvd\, Beachwood\, OH\, 44122\, United States
CATEGORIES:Razorsharks Swim Team
ATTACH;FMTTYPE=image/png:https://rec2connect.org/wp-content/uploads/2025/07/Events_Razorsharks.png
ORGANIZER;CN="Rec2Connect":MAILTO:scheduling@rec2connect.org
END:VEVENT
END:VCALENDAR