BEGIN:VCALENDAR
VERSION:2.0
PRODID:-//Rec2Connect - ECPv6.15.20//NONSGML v1.0//EN
CALSCALE:GREGORIAN
METHOD:PUBLISH
X-ORIGINAL-URL:https://rec2connect.org
X-WR-CALDESC:Events for Rec2Connect
REFRESH-INTERVAL;VALUE=DURATION:PT1H
X-Robots-Tag:noindex
X-PUBLISHED-TTL:PT1H
BEGIN:VTIMEZONE
TZID:America/New_York
BEGIN:DAYLIGHT
TZOFFSETFROM:-0500
TZOFFSETTO:-0400
TZNAME:EDT
DTSTART:20260308T070000
END:DAYLIGHT
BEGIN:STANDARD
TZOFFSETFROM:-0400
TZOFFSETTO:-0500
TZNAME:EST
DTSTART:20261101T060000
END:STANDARD
BEGIN:DAYLIGHT
TZOFFSETFROM:-0500
TZOFFSETTO:-0400
TZNAME:EDT
DTSTART:20270314T070000
END:DAYLIGHT
BEGIN:STANDARD
TZOFFSETFROM:-0400
TZOFFSETTO:-0500
TZNAME:EST
DTSTART:20271107T060000
END:STANDARD
BEGIN:DAYLIGHT
TZOFFSETFROM:-0500
TZOFFSETTO:-0400
TZNAME:EDT
DTSTART:20280312T070000
END:DAYLIGHT
BEGIN:STANDARD
TZOFFSETFROM:-0400
TZOFFSETTO:-0500
TZNAME:EST
DTSTART:20281105T060000
END:STANDARD
END:VTIMEZONE
BEGIN:VEVENT
DTSTART;TZID=America/New_York:20270201T090000
DTEND;TZID=America/New_York:20270201T100000
DTSTAMP:20260425T062422
CREATED:20250720T130303Z
LAST-MODIFIED:20260221T022641Z
UID:10002884-1801472400-1801476000@rec2connect.org
SUMMARY:Razorsharks Masters Practice
DESCRIPTION:We work on swim stroke development\, increasing endurance\, and competing with our team \nNOTE: Drop-in or Monthly packages available!  Please inquire at registration.
URL:https://rec2connect.org/event/razorsharks-masters-practice/2027-02-01/
LOCATION:North Olmsted Recreation Center\, 26000 Lorain Rd\, North Olmsted\, OH\, 44070\, United States
CATEGORIES:Razorsharks Swim Team
ATTACH;FMTTYPE=image/png:https://rec2connect.org/wp-content/uploads/2025/07/Events_Razorsharks.png
ORGANIZER;CN="Rec2Connect":MAILTO:scheduling@rec2connect.org
END:VEVENT
BEGIN:VEVENT
DTSTART;TZID=America/New_York:20270201T170000
DTEND;TZID=America/New_York:20270201T180000
DTSTAMP:20260425T062422
CREATED:20250720T130304Z
LAST-MODIFIED:20260221T023022Z
UID:10003408-1801501200-1801504800@rec2connect.org
SUMMARY:Razorsharks Practice
DESCRIPTION:We work on swim stroke development\, increasing endurance\, and competing with our team \nNOTE: Drop-in or Monthly packages available!  Please inquire at registration.
URL:https://rec2connect.org/event/razorsharks-practice-10/2027-02-01/
LOCATION:Beachwood High School\, 25100 Fairmount Blvd\, Beachwood\, OH\, 44122\, United States
CATEGORIES:Razorsharks Swim Team
ATTACH;FMTTYPE=image/png:https://rec2connect.org/wp-content/uploads/2025/07/Events_Razorsharks.png
ORGANIZER;CN="Rec2Connect":MAILTO:scheduling@rec2connect.org
END:VEVENT
BEGIN:VEVENT
DTSTART;TZID=America/New_York:20270203T160000
DTEND;TZID=America/New_York:20270203T170000
DTSTAMP:20260425T062422
CREATED:20250720T130248Z
LAST-MODIFIED:20260221T023543Z
UID:10001570-1801670400-1801674000@rec2connect.org
SUMMARY:Razorsharks Practice
DESCRIPTION:We work on swim stroke development\, increasing endurance\, and competing with our team \nNOTE: Drop-in or Monthly packages available!  Please inquire at registration.
URL:https://rec2connect.org/event/razorsharks-practice-8/2027-02-03/
LOCATION:Seven Hills Parks and Rec Center\, 7777 Summit View Dr\, Seven HIlls\, OH\, 44131\, United States
CATEGORIES:Razorsharks Swim Team
ATTACH;FMTTYPE=image/png:https://rec2connect.org/wp-content/uploads/2025/07/Events_Razorsharks.png
ORGANIZER;CN="Rec2Connect":MAILTO:scheduling@rec2connect.org
END:VEVENT
BEGIN:VEVENT
DTSTART;TZID=America/New_York:20270203T170000
DTEND;TZID=America/New_York:20270203T180000
DTSTAMP:20260425T062422
CREATED:20250720T130248Z
LAST-MODIFIED:20260221T023449Z
UID:10001833-1801674000-1801677600@rec2connect.org
SUMMARY:Razorsharks Practice
DESCRIPTION:We work on swim stroke development\, increasing endurance\, and competing with our team \nNOTE: Drop-in or Monthly packages available!  Please inquire at registration.
URL:https://rec2connect.org/event/razorsharks-practice-9/2027-02-03/
LOCATION:Seven Hills Parks and Rec Center\, 7777 Summit View Dr\, Seven HIlls\, OH\, 44131\, United States
CATEGORIES:Razorsharks Swim Team
ATTACH;FMTTYPE=image/png:https://rec2connect.org/wp-content/uploads/2025/07/Events_Razorsharks.png
ORGANIZER;CN="Rec2Connect":MAILTO:scheduling@rec2connect.org
END:VEVENT
BEGIN:VEVENT
DTSTART;TZID=America/New_York:20270206T090000
DTEND;TZID=America/New_York:20270206T100000
DTSTAMP:20260425T062422
CREATED:20250720T005626Z
LAST-MODIFIED:20260221T023330Z
UID:10003804-1801904400-1801908000@rec2connect.org
SUMMARY:Razorsharks Practice
DESCRIPTION:We work on swim stroke development\, increasing endurance\, and competing with our team \nNOTE: Drop-in or Monthly packages available!  Please inquire at registration.
URL:https://rec2connect.org/event/razorsharks-practice/2027-02-06/
LOCATION:North Olmsted Recreation Center\, 26000 Lorain Rd\, North Olmsted\, OH\, 44070\, United States
CATEGORIES:Razorsharks Swim Team
ATTACH;FMTTYPE=image/png:https://rec2connect.org/wp-content/uploads/2025/07/Events_Razorsharks.png
ORGANIZER;CN="Rec2Connect":MAILTO:scheduling@rec2connect.org
END:VEVENT
BEGIN:VEVENT
DTSTART;TZID=America/New_York:20270207T120000
DTEND;TZID=America/New_York:20270207T130000
DTSTAMP:20260425T062422
CREATED:20250720T005629Z
LAST-MODIFIED:20260221T022728Z
UID:10004066-1802001600-1802005200@rec2connect.org
SUMMARY:Razorsharks Practice
DESCRIPTION:We work on swim stroke development\, increasing endurance\, and competing with our team \nNOTE: Drop-in or Monthly packages available!  Please inquire at registration.
URL:https://rec2connect.org/event/razorsharks-practice-6/2027-02-07/
LOCATION:Beachwood High School\, 25100 Fairmount Blvd\, Beachwood\, OH\, 44122\, United States
CATEGORIES:Razorsharks Swim Team
ATTACH;FMTTYPE=image/png:https://rec2connect.org/wp-content/uploads/2025/07/Events_Razorsharks.png
ORGANIZER;CN="Rec2Connect":MAILTO:scheduling@rec2connect.org
END:VEVENT
BEGIN:VEVENT
DTSTART;TZID=America/New_York:20270208T090000
DTEND;TZID=America/New_York:20270208T100000
DTSTAMP:20260425T062422
CREATED:20250720T130303Z
LAST-MODIFIED:20260221T022641Z
UID:10002885-1802077200-1802080800@rec2connect.org
SUMMARY:Razorsharks Masters Practice
DESCRIPTION:We work on swim stroke development\, increasing endurance\, and competing with our team \nNOTE: Drop-in or Monthly packages available!  Please inquire at registration.
URL:https://rec2connect.org/event/razorsharks-masters-practice/2027-02-08/
LOCATION:North Olmsted Recreation Center\, 26000 Lorain Rd\, North Olmsted\, OH\, 44070\, United States
CATEGORIES:Razorsharks Swim Team
ATTACH;FMTTYPE=image/png:https://rec2connect.org/wp-content/uploads/2025/07/Events_Razorsharks.png
ORGANIZER;CN="Rec2Connect":MAILTO:scheduling@rec2connect.org
END:VEVENT
BEGIN:VEVENT
DTSTART;TZID=America/New_York:20270208T170000
DTEND;TZID=America/New_York:20270208T180000
DTSTAMP:20260425T062423
CREATED:20250720T130304Z
LAST-MODIFIED:20260221T023022Z
UID:10003409-1802106000-1802109600@rec2connect.org
SUMMARY:Razorsharks Practice
DESCRIPTION:We work on swim stroke development\, increasing endurance\, and competing with our team \nNOTE: Drop-in or Monthly packages available!  Please inquire at registration.
URL:https://rec2connect.org/event/razorsharks-practice-10/2027-02-08/
LOCATION:Beachwood High School\, 25100 Fairmount Blvd\, Beachwood\, OH\, 44122\, United States
CATEGORIES:Razorsharks Swim Team
ATTACH;FMTTYPE=image/png:https://rec2connect.org/wp-content/uploads/2025/07/Events_Razorsharks.png
ORGANIZER;CN="Rec2Connect":MAILTO:scheduling@rec2connect.org
END:VEVENT
BEGIN:VEVENT
DTSTART;TZID=America/New_York:20270210T160000
DTEND;TZID=America/New_York:20270210T170000
DTSTAMP:20260425T062423
CREATED:20250720T130248Z
LAST-MODIFIED:20260221T023543Z
UID:10001571-1802275200-1802278800@rec2connect.org
SUMMARY:Razorsharks Practice
DESCRIPTION:We work on swim stroke development\, increasing endurance\, and competing with our team \nNOTE: Drop-in or Monthly packages available!  Please inquire at registration.
URL:https://rec2connect.org/event/razorsharks-practice-8/2027-02-10/
LOCATION:Seven Hills Parks and Rec Center\, 7777 Summit View Dr\, Seven HIlls\, OH\, 44131\, United States
CATEGORIES:Razorsharks Swim Team
ATTACH;FMTTYPE=image/png:https://rec2connect.org/wp-content/uploads/2025/07/Events_Razorsharks.png
ORGANIZER;CN="Rec2Connect":MAILTO:scheduling@rec2connect.org
END:VEVENT
BEGIN:VEVENT
DTSTART;TZID=America/New_York:20270210T170000
DTEND;TZID=America/New_York:20270210T180000
DTSTAMP:20260425T062423
CREATED:20250720T130248Z
LAST-MODIFIED:20260221T023449Z
UID:10001834-1802278800-1802282400@rec2connect.org
SUMMARY:Razorsharks Practice
DESCRIPTION:We work on swim stroke development\, increasing endurance\, and competing with our team \nNOTE: Drop-in or Monthly packages available!  Please inquire at registration.
URL:https://rec2connect.org/event/razorsharks-practice-9/2027-02-10/
LOCATION:Seven Hills Parks and Rec Center\, 7777 Summit View Dr\, Seven HIlls\, OH\, 44131\, United States
CATEGORIES:Razorsharks Swim Team
ATTACH;FMTTYPE=image/png:https://rec2connect.org/wp-content/uploads/2025/07/Events_Razorsharks.png
ORGANIZER;CN="Rec2Connect":MAILTO:scheduling@rec2connect.org
END:VEVENT
BEGIN:VEVENT
DTSTART;TZID=America/New_York:20270213T090000
DTEND;TZID=America/New_York:20270213T100000
DTSTAMP:20260425T062423
CREATED:20250720T005626Z
LAST-MODIFIED:20260221T023330Z
UID:10003805-1802509200-1802512800@rec2connect.org
SUMMARY:Razorsharks Practice
DESCRIPTION:We work on swim stroke development\, increasing endurance\, and competing with our team \nNOTE: Drop-in or Monthly packages available!  Please inquire at registration.
URL:https://rec2connect.org/event/razorsharks-practice/2027-02-13/
LOCATION:North Olmsted Recreation Center\, 26000 Lorain Rd\, North Olmsted\, OH\, 44070\, United States
CATEGORIES:Razorsharks Swim Team
ATTACH;FMTTYPE=image/png:https://rec2connect.org/wp-content/uploads/2025/07/Events_Razorsharks.png
ORGANIZER;CN="Rec2Connect":MAILTO:scheduling@rec2connect.org
END:VEVENT
BEGIN:VEVENT
DTSTART;TZID=America/New_York:20270214T120000
DTEND;TZID=America/New_York:20270214T130000
DTSTAMP:20260425T062423
CREATED:20250720T005629Z
LAST-MODIFIED:20260221T022728Z
UID:10004067-1802606400-1802610000@rec2connect.org
SUMMARY:Razorsharks Practice
DESCRIPTION:We work on swim stroke development\, increasing endurance\, and competing with our team \nNOTE: Drop-in or Monthly packages available!  Please inquire at registration.
URL:https://rec2connect.org/event/razorsharks-practice-6/2027-02-14/
LOCATION:Beachwood High School\, 25100 Fairmount Blvd\, Beachwood\, OH\, 44122\, United States
CATEGORIES:Razorsharks Swim Team
ATTACH;FMTTYPE=image/png:https://rec2connect.org/wp-content/uploads/2025/07/Events_Razorsharks.png
ORGANIZER;CN="Rec2Connect":MAILTO:scheduling@rec2connect.org
END:VEVENT
BEGIN:VEVENT
DTSTART;TZID=America/New_York:20270215T090000
DTEND;TZID=America/New_York:20270215T100000
DTSTAMP:20260425T062423
CREATED:20250720T130303Z
LAST-MODIFIED:20260221T022641Z
UID:10002886-1802682000-1802685600@rec2connect.org
SUMMARY:Razorsharks Masters Practice
DESCRIPTION:We work on swim stroke development\, increasing endurance\, and competing with our team \nNOTE: Drop-in or Monthly packages available!  Please inquire at registration.
URL:https://rec2connect.org/event/razorsharks-masters-practice/2027-02-15/
LOCATION:North Olmsted Recreation Center\, 26000 Lorain Rd\, North Olmsted\, OH\, 44070\, United States
CATEGORIES:Razorsharks Swim Team
ATTACH;FMTTYPE=image/png:https://rec2connect.org/wp-content/uploads/2025/07/Events_Razorsharks.png
ORGANIZER;CN="Rec2Connect":MAILTO:scheduling@rec2connect.org
END:VEVENT
BEGIN:VEVENT
DTSTART;TZID=America/New_York:20270215T170000
DTEND;TZID=America/New_York:20270215T180000
DTSTAMP:20260425T062423
CREATED:20250720T130304Z
LAST-MODIFIED:20260221T023022Z
UID:10003410-1802710800-1802714400@rec2connect.org
SUMMARY:Razorsharks Practice
DESCRIPTION:We work on swim stroke development\, increasing endurance\, and competing with our team \nNOTE: Drop-in or Monthly packages available!  Please inquire at registration.
URL:https://rec2connect.org/event/razorsharks-practice-10/2027-02-15/
LOCATION:Beachwood High School\, 25100 Fairmount Blvd\, Beachwood\, OH\, 44122\, United States
CATEGORIES:Razorsharks Swim Team
ATTACH;FMTTYPE=image/png:https://rec2connect.org/wp-content/uploads/2025/07/Events_Razorsharks.png
ORGANIZER;CN="Rec2Connect":MAILTO:scheduling@rec2connect.org
END:VEVENT
BEGIN:VEVENT
DTSTART;TZID=America/New_York:20270217T160000
DTEND;TZID=America/New_York:20270217T170000
DTSTAMP:20260425T062423
CREATED:20250720T130248Z
LAST-MODIFIED:20260221T023543Z
UID:10001572-1802880000-1802883600@rec2connect.org
SUMMARY:Razorsharks Practice
DESCRIPTION:We work on swim stroke development\, increasing endurance\, and competing with our team \nNOTE: Drop-in or Monthly packages available!  Please inquire at registration.
URL:https://rec2connect.org/event/razorsharks-practice-8/2027-02-17/
LOCATION:Seven Hills Parks and Rec Center\, 7777 Summit View Dr\, Seven HIlls\, OH\, 44131\, United States
CATEGORIES:Razorsharks Swim Team
ATTACH;FMTTYPE=image/png:https://rec2connect.org/wp-content/uploads/2025/07/Events_Razorsharks.png
ORGANIZER;CN="Rec2Connect":MAILTO:scheduling@rec2connect.org
END:VEVENT
BEGIN:VEVENT
DTSTART;TZID=America/New_York:20270217T170000
DTEND;TZID=America/New_York:20270217T180000
DTSTAMP:20260425T062423
CREATED:20250720T130248Z
LAST-MODIFIED:20260221T023449Z
UID:10001835-1802883600-1802887200@rec2connect.org
SUMMARY:Razorsharks Practice
DESCRIPTION:We work on swim stroke development\, increasing endurance\, and competing with our team \nNOTE: Drop-in or Monthly packages available!  Please inquire at registration.
URL:https://rec2connect.org/event/razorsharks-practice-9/2027-02-17/
LOCATION:Seven Hills Parks and Rec Center\, 7777 Summit View Dr\, Seven HIlls\, OH\, 44131\, United States
CATEGORIES:Razorsharks Swim Team
ATTACH;FMTTYPE=image/png:https://rec2connect.org/wp-content/uploads/2025/07/Events_Razorsharks.png
ORGANIZER;CN="Rec2Connect":MAILTO:scheduling@rec2connect.org
END:VEVENT
BEGIN:VEVENT
DTSTART;TZID=America/New_York:20270220T090000
DTEND;TZID=America/New_York:20270220T100000
DTSTAMP:20260425T062423
CREATED:20250720T005626Z
LAST-MODIFIED:20260221T023330Z
UID:10003806-1803114000-1803117600@rec2connect.org
SUMMARY:Razorsharks Practice
DESCRIPTION:We work on swim stroke development\, increasing endurance\, and competing with our team \nNOTE: Drop-in or Monthly packages available!  Please inquire at registration.
URL:https://rec2connect.org/event/razorsharks-practice/2027-02-20/
LOCATION:North Olmsted Recreation Center\, 26000 Lorain Rd\, North Olmsted\, OH\, 44070\, United States
CATEGORIES:Razorsharks Swim Team
ATTACH;FMTTYPE=image/png:https://rec2connect.org/wp-content/uploads/2025/07/Events_Razorsharks.png
ORGANIZER;CN="Rec2Connect":MAILTO:scheduling@rec2connect.org
END:VEVENT
BEGIN:VEVENT
DTSTART;TZID=America/New_York:20270221T120000
DTEND;TZID=America/New_York:20270221T130000
DTSTAMP:20260425T062423
CREATED:20250720T005629Z
LAST-MODIFIED:20260221T022728Z
UID:10004068-1803211200-1803214800@rec2connect.org
SUMMARY:Razorsharks Practice
DESCRIPTION:We work on swim stroke development\, increasing endurance\, and competing with our team \nNOTE: Drop-in or Monthly packages available!  Please inquire at registration.
URL:https://rec2connect.org/event/razorsharks-practice-6/2027-02-21/
LOCATION:Beachwood High School\, 25100 Fairmount Blvd\, Beachwood\, OH\, 44122\, United States
CATEGORIES:Razorsharks Swim Team
ATTACH;FMTTYPE=image/png:https://rec2connect.org/wp-content/uploads/2025/07/Events_Razorsharks.png
ORGANIZER;CN="Rec2Connect":MAILTO:scheduling@rec2connect.org
END:VEVENT
BEGIN:VEVENT
DTSTART;TZID=America/New_York:20270222T090000
DTEND;TZID=America/New_York:20270222T100000
DTSTAMP:20260425T062423
CREATED:20250720T130303Z
LAST-MODIFIED:20260221T022641Z
UID:10002887-1803286800-1803290400@rec2connect.org
SUMMARY:Razorsharks Masters Practice
DESCRIPTION:We work on swim stroke development\, increasing endurance\, and competing with our team \nNOTE: Drop-in or Monthly packages available!  Please inquire at registration.
URL:https://rec2connect.org/event/razorsharks-masters-practice/2027-02-22/
LOCATION:North Olmsted Recreation Center\, 26000 Lorain Rd\, North Olmsted\, OH\, 44070\, United States
CATEGORIES:Razorsharks Swim Team
ATTACH;FMTTYPE=image/png:https://rec2connect.org/wp-content/uploads/2025/07/Events_Razorsharks.png
ORGANIZER;CN="Rec2Connect":MAILTO:scheduling@rec2connect.org
END:VEVENT
BEGIN:VEVENT
DTSTART;TZID=America/New_York:20270222T170000
DTEND;TZID=America/New_York:20270222T180000
DTSTAMP:20260425T062423
CREATED:20250720T130304Z
LAST-MODIFIED:20260221T023022Z
UID:10003411-1803315600-1803319200@rec2connect.org
SUMMARY:Razorsharks Practice
DESCRIPTION:We work on swim stroke development\, increasing endurance\, and competing with our team \nNOTE: Drop-in or Monthly packages available!  Please inquire at registration.
URL:https://rec2connect.org/event/razorsharks-practice-10/2027-02-22/
LOCATION:Beachwood High School\, 25100 Fairmount Blvd\, Beachwood\, OH\, 44122\, United States
CATEGORIES:Razorsharks Swim Team
ATTACH;FMTTYPE=image/png:https://rec2connect.org/wp-content/uploads/2025/07/Events_Razorsharks.png
ORGANIZER;CN="Rec2Connect":MAILTO:scheduling@rec2connect.org
END:VEVENT
BEGIN:VEVENT
DTSTART;TZID=America/New_York:20270224T160000
DTEND;TZID=America/New_York:20270224T170000
DTSTAMP:20260425T062423
CREATED:20250720T130248Z
LAST-MODIFIED:20260221T023543Z
UID:10001573-1803484800-1803488400@rec2connect.org
SUMMARY:Razorsharks Practice
DESCRIPTION:We work on swim stroke development\, increasing endurance\, and competing with our team \nNOTE: Drop-in or Monthly packages available!  Please inquire at registration.
URL:https://rec2connect.org/event/razorsharks-practice-8/2027-02-24/
LOCATION:Seven Hills Parks and Rec Center\, 7777 Summit View Dr\, Seven HIlls\, OH\, 44131\, United States
CATEGORIES:Razorsharks Swim Team
ATTACH;FMTTYPE=image/png:https://rec2connect.org/wp-content/uploads/2025/07/Events_Razorsharks.png
ORGANIZER;CN="Rec2Connect":MAILTO:scheduling@rec2connect.org
END:VEVENT
BEGIN:VEVENT
DTSTART;TZID=America/New_York:20270224T170000
DTEND;TZID=America/New_York:20270224T180000
DTSTAMP:20260425T062423
CREATED:20250720T130248Z
LAST-MODIFIED:20260221T023449Z
UID:10001836-1803488400-1803492000@rec2connect.org
SUMMARY:Razorsharks Practice
DESCRIPTION:We work on swim stroke development\, increasing endurance\, and competing with our team \nNOTE: Drop-in or Monthly packages available!  Please inquire at registration.
URL:https://rec2connect.org/event/razorsharks-practice-9/2027-02-24/
LOCATION:Seven Hills Parks and Rec Center\, 7777 Summit View Dr\, Seven HIlls\, OH\, 44131\, United States
CATEGORIES:Razorsharks Swim Team
ATTACH;FMTTYPE=image/png:https://rec2connect.org/wp-content/uploads/2025/07/Events_Razorsharks.png
ORGANIZER;CN="Rec2Connect":MAILTO:scheduling@rec2connect.org
END:VEVENT
BEGIN:VEVENT
DTSTART;TZID=America/New_York:20270227T090000
DTEND;TZID=America/New_York:20270227T100000
DTSTAMP:20260425T062423
CREATED:20250720T005626Z
LAST-MODIFIED:20260221T023330Z
UID:10003807-1803718800-1803722400@rec2connect.org
SUMMARY:Razorsharks Practice
DESCRIPTION:We work on swim stroke development\, increasing endurance\, and competing with our team \nNOTE: Drop-in or Monthly packages available!  Please inquire at registration.
URL:https://rec2connect.org/event/razorsharks-practice/2027-02-27/
LOCATION:North Olmsted Recreation Center\, 26000 Lorain Rd\, North Olmsted\, OH\, 44070\, United States
CATEGORIES:Razorsharks Swim Team
ATTACH;FMTTYPE=image/png:https://rec2connect.org/wp-content/uploads/2025/07/Events_Razorsharks.png
ORGANIZER;CN="Rec2Connect":MAILTO:scheduling@rec2connect.org
END:VEVENT
BEGIN:VEVENT
DTSTART;TZID=America/New_York:20270228T120000
DTEND;TZID=America/New_York:20270228T130000
DTSTAMP:20260425T062423
CREATED:20250720T005629Z
LAST-MODIFIED:20260221T022728Z
UID:10004069-1803816000-1803819600@rec2connect.org
SUMMARY:Razorsharks Practice
DESCRIPTION:We work on swim stroke development\, increasing endurance\, and competing with our team \nNOTE: Drop-in or Monthly packages available!  Please inquire at registration.
URL:https://rec2connect.org/event/razorsharks-practice-6/2027-02-28/
LOCATION:Beachwood High School\, 25100 Fairmount Blvd\, Beachwood\, OH\, 44122\, United States
CATEGORIES:Razorsharks Swim Team
ATTACH;FMTTYPE=image/png:https://rec2connect.org/wp-content/uploads/2025/07/Events_Razorsharks.png
ORGANIZER;CN="Rec2Connect":MAILTO:scheduling@rec2connect.org
END:VEVENT
END:VCALENDAR