BEGIN:VCALENDAR
VERSION:2.0
PRODID:-//Rec2Connect - ECPv6.15.20//NONSGML v1.0//EN
CALSCALE:GREGORIAN
METHOD:PUBLISH
X-WR-CALNAME:Rec2Connect
X-ORIGINAL-URL:https://rec2connect.org
X-WR-CALDESC:Events for Rec2Connect
REFRESH-INTERVAL;VALUE=DURATION:PT1H
X-Robots-Tag:noindex
X-PUBLISHED-TTL:PT1H
BEGIN:VTIMEZONE
TZID:America/New_York
BEGIN:DAYLIGHT
TZOFFSETFROM:-0500
TZOFFSETTO:-0400
TZNAME:EDT
DTSTART:20260308T070000
END:DAYLIGHT
BEGIN:STANDARD
TZOFFSETFROM:-0400
TZOFFSETTO:-0500
TZNAME:EST
DTSTART:20261101T060000
END:STANDARD
BEGIN:DAYLIGHT
TZOFFSETFROM:-0500
TZOFFSETTO:-0400
TZNAME:EDT
DTSTART:20270314T070000
END:DAYLIGHT
BEGIN:STANDARD
TZOFFSETFROM:-0400
TZOFFSETTO:-0500
TZNAME:EST
DTSTART:20271107T060000
END:STANDARD
BEGIN:DAYLIGHT
TZOFFSETFROM:-0500
TZOFFSETTO:-0400
TZNAME:EDT
DTSTART:20280312T070000
END:DAYLIGHT
BEGIN:STANDARD
TZOFFSETFROM:-0400
TZOFFSETTO:-0500
TZNAME:EST
DTSTART:20281105T060000
END:STANDARD
END:VTIMEZONE
BEGIN:VEVENT
DTSTART;TZID=America/New_York:20270703T090000
DTEND;TZID=America/New_York:20270703T100000
DTSTAMP:20260425T124854
CREATED:20250720T005626Z
LAST-MODIFIED:20260221T023330Z
UID:10003825-1814605200-1814608800@rec2connect.org
SUMMARY:Razorsharks Practice
DESCRIPTION:We work on swim stroke development\, increasing endurance\, and competing with our team \nNOTE: Drop-in or Monthly packages available!  Please inquire at registration.
URL:https://rec2connect.org/event/razorsharks-practice/2027-07-03/
LOCATION:North Olmsted Recreation Center\, 26000 Lorain Rd\, North Olmsted\, OH\, 44070\, United States
CATEGORIES:Razorsharks Swim Team
ATTACH;FMTTYPE=image/png:https://rec2connect.org/wp-content/uploads/2025/07/Events_Razorsharks.png
ORGANIZER;CN="Rec2Connect":MAILTO:scheduling@rec2connect.org
END:VEVENT
BEGIN:VEVENT
DTSTART;TZID=America/New_York:20270704T120000
DTEND;TZID=America/New_York:20270704T130000
DTSTAMP:20260425T124854
CREATED:20250720T005629Z
LAST-MODIFIED:20260221T022728Z
UID:10004087-1814702400-1814706000@rec2connect.org
SUMMARY:Razorsharks Practice
DESCRIPTION:We work on swim stroke development\, increasing endurance\, and competing with our team \nNOTE: Drop-in or Monthly packages available!  Please inquire at registration.
URL:https://rec2connect.org/event/razorsharks-practice-6/2027-07-04/
LOCATION:Beachwood High School\, 25100 Fairmount Blvd\, Beachwood\, OH\, 44122\, United States
CATEGORIES:Razorsharks Swim Team
ATTACH;FMTTYPE=image/png:https://rec2connect.org/wp-content/uploads/2025/07/Events_Razorsharks.png
ORGANIZER;CN="Rec2Connect":MAILTO:scheduling@rec2connect.org
END:VEVENT
BEGIN:VEVENT
DTSTART;TZID=America/New_York:20270705T090000
DTEND;TZID=America/New_York:20270705T100000
DTSTAMP:20260425T124854
CREATED:20250720T130303Z
LAST-MODIFIED:20260221T022641Z
UID:10002906-1814778000-1814781600@rec2connect.org
SUMMARY:Razorsharks Masters Practice
DESCRIPTION:We work on swim stroke development\, increasing endurance\, and competing with our team \nNOTE: Drop-in or Monthly packages available!  Please inquire at registration.
URL:https://rec2connect.org/event/razorsharks-masters-practice/2027-07-05/
LOCATION:North Olmsted Recreation Center\, 26000 Lorain Rd\, North Olmsted\, OH\, 44070\, United States
CATEGORIES:Razorsharks Swim Team
ATTACH;FMTTYPE=image/png:https://rec2connect.org/wp-content/uploads/2025/07/Events_Razorsharks.png
ORGANIZER;CN="Rec2Connect":MAILTO:scheduling@rec2connect.org
END:VEVENT
BEGIN:VEVENT
DTSTART;TZID=America/New_York:20270705T170000
DTEND;TZID=America/New_York:20270705T180000
DTSTAMP:20260425T124854
CREATED:20250720T130304Z
LAST-MODIFIED:20260221T023022Z
UID:10003430-1814806800-1814810400@rec2connect.org
SUMMARY:Razorsharks Practice
DESCRIPTION:We work on swim stroke development\, increasing endurance\, and competing with our team \nNOTE: Drop-in or Monthly packages available!  Please inquire at registration.
URL:https://rec2connect.org/event/razorsharks-practice-10/2027-07-05/
LOCATION:Beachwood High School\, 25100 Fairmount Blvd\, Beachwood\, OH\, 44122\, United States
CATEGORIES:Razorsharks Swim Team
ATTACH;FMTTYPE=image/png:https://rec2connect.org/wp-content/uploads/2025/07/Events_Razorsharks.png
ORGANIZER;CN="Rec2Connect":MAILTO:scheduling@rec2connect.org
END:VEVENT
BEGIN:VEVENT
DTSTART;TZID=America/New_York:20270707T160000
DTEND;TZID=America/New_York:20270707T170000
DTSTAMP:20260425T124854
CREATED:20250720T130248Z
LAST-MODIFIED:20260221T023543Z
UID:10001592-1814976000-1814979600@rec2connect.org
SUMMARY:Razorsharks Practice
DESCRIPTION:We work on swim stroke development\, increasing endurance\, and competing with our team \nNOTE: Drop-in or Monthly packages available!  Please inquire at registration.
URL:https://rec2connect.org/event/razorsharks-practice-8/2027-07-07/
LOCATION:Seven Hills Parks and Rec Center\, 7777 Summit View Dr\, Seven HIlls\, OH\, 44131\, United States
CATEGORIES:Razorsharks Swim Team
ATTACH;FMTTYPE=image/png:https://rec2connect.org/wp-content/uploads/2025/07/Events_Razorsharks.png
ORGANIZER;CN="Rec2Connect":MAILTO:scheduling@rec2connect.org
END:VEVENT
BEGIN:VEVENT
DTSTART;TZID=America/New_York:20270707T170000
DTEND;TZID=America/New_York:20270707T180000
DTSTAMP:20260425T124854
CREATED:20250720T130248Z
LAST-MODIFIED:20260221T023449Z
UID:10001855-1814979600-1814983200@rec2connect.org
SUMMARY:Razorsharks Practice
DESCRIPTION:We work on swim stroke development\, increasing endurance\, and competing with our team \nNOTE: Drop-in or Monthly packages available!  Please inquire at registration.
URL:https://rec2connect.org/event/razorsharks-practice-9/2027-07-07/
LOCATION:Seven Hills Parks and Rec Center\, 7777 Summit View Dr\, Seven HIlls\, OH\, 44131\, United States
CATEGORIES:Razorsharks Swim Team
ATTACH;FMTTYPE=image/png:https://rec2connect.org/wp-content/uploads/2025/07/Events_Razorsharks.png
ORGANIZER;CN="Rec2Connect":MAILTO:scheduling@rec2connect.org
END:VEVENT
BEGIN:VEVENT
DTSTART;TZID=America/New_York:20270710T090000
DTEND;TZID=America/New_York:20270710T100000
DTSTAMP:20260425T124854
CREATED:20250720T005626Z
LAST-MODIFIED:20260221T023330Z
UID:10003826-1815210000-1815213600@rec2connect.org
SUMMARY:Razorsharks Practice
DESCRIPTION:We work on swim stroke development\, increasing endurance\, and competing with our team \nNOTE: Drop-in or Monthly packages available!  Please inquire at registration.
URL:https://rec2connect.org/event/razorsharks-practice/2027-07-10/
LOCATION:North Olmsted Recreation Center\, 26000 Lorain Rd\, North Olmsted\, OH\, 44070\, United States
CATEGORIES:Razorsharks Swim Team
ATTACH;FMTTYPE=image/png:https://rec2connect.org/wp-content/uploads/2025/07/Events_Razorsharks.png
ORGANIZER;CN="Rec2Connect":MAILTO:scheduling@rec2connect.org
END:VEVENT
BEGIN:VEVENT
DTSTART;TZID=America/New_York:20270711T120000
DTEND;TZID=America/New_York:20270711T130000
DTSTAMP:20260425T124854
CREATED:20250720T005629Z
LAST-MODIFIED:20260221T022728Z
UID:10004088-1815307200-1815310800@rec2connect.org
SUMMARY:Razorsharks Practice
DESCRIPTION:We work on swim stroke development\, increasing endurance\, and competing with our team \nNOTE: Drop-in or Monthly packages available!  Please inquire at registration.
URL:https://rec2connect.org/event/razorsharks-practice-6/2027-07-11/
LOCATION:Beachwood High School\, 25100 Fairmount Blvd\, Beachwood\, OH\, 44122\, United States
CATEGORIES:Razorsharks Swim Team
ATTACH;FMTTYPE=image/png:https://rec2connect.org/wp-content/uploads/2025/07/Events_Razorsharks.png
ORGANIZER;CN="Rec2Connect":MAILTO:scheduling@rec2connect.org
END:VEVENT
BEGIN:VEVENT
DTSTART;TZID=America/New_York:20270712T090000
DTEND;TZID=America/New_York:20270712T100000
DTSTAMP:20260425T124854
CREATED:20250720T130303Z
LAST-MODIFIED:20260221T022641Z
UID:10002907-1815382800-1815386400@rec2connect.org
SUMMARY:Razorsharks Masters Practice
DESCRIPTION:We work on swim stroke development\, increasing endurance\, and competing with our team \nNOTE: Drop-in or Monthly packages available!  Please inquire at registration.
URL:https://rec2connect.org/event/razorsharks-masters-practice/2027-07-12/
LOCATION:North Olmsted Recreation Center\, 26000 Lorain Rd\, North Olmsted\, OH\, 44070\, United States
CATEGORIES:Razorsharks Swim Team
ATTACH;FMTTYPE=image/png:https://rec2connect.org/wp-content/uploads/2025/07/Events_Razorsharks.png
ORGANIZER;CN="Rec2Connect":MAILTO:scheduling@rec2connect.org
END:VEVENT
BEGIN:VEVENT
DTSTART;TZID=America/New_York:20270712T170000
DTEND;TZID=America/New_York:20270712T180000
DTSTAMP:20260425T124854
CREATED:20250720T130304Z
LAST-MODIFIED:20260221T023022Z
UID:10003431-1815411600-1815415200@rec2connect.org
SUMMARY:Razorsharks Practice
DESCRIPTION:We work on swim stroke development\, increasing endurance\, and competing with our team \nNOTE: Drop-in or Monthly packages available!  Please inquire at registration.
URL:https://rec2connect.org/event/razorsharks-practice-10/2027-07-12/
LOCATION:Beachwood High School\, 25100 Fairmount Blvd\, Beachwood\, OH\, 44122\, United States
CATEGORIES:Razorsharks Swim Team
ATTACH;FMTTYPE=image/png:https://rec2connect.org/wp-content/uploads/2025/07/Events_Razorsharks.png
ORGANIZER;CN="Rec2Connect":MAILTO:scheduling@rec2connect.org
END:VEVENT
BEGIN:VEVENT
DTSTART;TZID=America/New_York:20270714T160000
DTEND;TZID=America/New_York:20270714T170000
DTSTAMP:20260425T124854
CREATED:20250720T130248Z
LAST-MODIFIED:20260221T023543Z
UID:10001593-1815580800-1815584400@rec2connect.org
SUMMARY:Razorsharks Practice
DESCRIPTION:We work on swim stroke development\, increasing endurance\, and competing with our team \nNOTE: Drop-in or Monthly packages available!  Please inquire at registration.
URL:https://rec2connect.org/event/razorsharks-practice-8/2027-07-14/
LOCATION:Seven Hills Parks and Rec Center\, 7777 Summit View Dr\, Seven HIlls\, OH\, 44131\, United States
CATEGORIES:Razorsharks Swim Team
ATTACH;FMTTYPE=image/png:https://rec2connect.org/wp-content/uploads/2025/07/Events_Razorsharks.png
ORGANIZER;CN="Rec2Connect":MAILTO:scheduling@rec2connect.org
END:VEVENT
BEGIN:VEVENT
DTSTART;TZID=America/New_York:20270714T170000
DTEND;TZID=America/New_York:20270714T180000
DTSTAMP:20260425T124854
CREATED:20250720T130248Z
LAST-MODIFIED:20260221T023449Z
UID:10001856-1815584400-1815588000@rec2connect.org
SUMMARY:Razorsharks Practice
DESCRIPTION:We work on swim stroke development\, increasing endurance\, and competing with our team \nNOTE: Drop-in or Monthly packages available!  Please inquire at registration.
URL:https://rec2connect.org/event/razorsharks-practice-9/2027-07-14/
LOCATION:Seven Hills Parks and Rec Center\, 7777 Summit View Dr\, Seven HIlls\, OH\, 44131\, United States
CATEGORIES:Razorsharks Swim Team
ATTACH;FMTTYPE=image/png:https://rec2connect.org/wp-content/uploads/2025/07/Events_Razorsharks.png
ORGANIZER;CN="Rec2Connect":MAILTO:scheduling@rec2connect.org
END:VEVENT
BEGIN:VEVENT
DTSTART;TZID=America/New_York:20270717T090000
DTEND;TZID=America/New_York:20270717T100000
DTSTAMP:20260425T124854
CREATED:20250720T005626Z
LAST-MODIFIED:20260221T023330Z
UID:10003827-1815814800-1815818400@rec2connect.org
SUMMARY:Razorsharks Practice
DESCRIPTION:We work on swim stroke development\, increasing endurance\, and competing with our team \nNOTE: Drop-in or Monthly packages available!  Please inquire at registration.
URL:https://rec2connect.org/event/razorsharks-practice/2027-07-17/
LOCATION:North Olmsted Recreation Center\, 26000 Lorain Rd\, North Olmsted\, OH\, 44070\, United States
CATEGORIES:Razorsharks Swim Team
ATTACH;FMTTYPE=image/png:https://rec2connect.org/wp-content/uploads/2025/07/Events_Razorsharks.png
ORGANIZER;CN="Rec2Connect":MAILTO:scheduling@rec2connect.org
END:VEVENT
BEGIN:VEVENT
DTSTART;TZID=America/New_York:20270718T120000
DTEND;TZID=America/New_York:20270718T130000
DTSTAMP:20260425T124854
CREATED:20250720T005629Z
LAST-MODIFIED:20260221T022728Z
UID:10004089-1815912000-1815915600@rec2connect.org
SUMMARY:Razorsharks Practice
DESCRIPTION:We work on swim stroke development\, increasing endurance\, and competing with our team \nNOTE: Drop-in or Monthly packages available!  Please inquire at registration.
URL:https://rec2connect.org/event/razorsharks-practice-6/2027-07-18/
LOCATION:Beachwood High School\, 25100 Fairmount Blvd\, Beachwood\, OH\, 44122\, United States
CATEGORIES:Razorsharks Swim Team
ATTACH;FMTTYPE=image/png:https://rec2connect.org/wp-content/uploads/2025/07/Events_Razorsharks.png
ORGANIZER;CN="Rec2Connect":MAILTO:scheduling@rec2connect.org
END:VEVENT
BEGIN:VEVENT
DTSTART;TZID=America/New_York:20270719T090000
DTEND;TZID=America/New_York:20270719T100000
DTSTAMP:20260425T124854
CREATED:20250720T130303Z
LAST-MODIFIED:20260221T022641Z
UID:10002908-1815987600-1815991200@rec2connect.org
SUMMARY:Razorsharks Masters Practice
DESCRIPTION:We work on swim stroke development\, increasing endurance\, and competing with our team \nNOTE: Drop-in or Monthly packages available!  Please inquire at registration.
URL:https://rec2connect.org/event/razorsharks-masters-practice/2027-07-19/
LOCATION:North Olmsted Recreation Center\, 26000 Lorain Rd\, North Olmsted\, OH\, 44070\, United States
CATEGORIES:Razorsharks Swim Team
ATTACH;FMTTYPE=image/png:https://rec2connect.org/wp-content/uploads/2025/07/Events_Razorsharks.png
ORGANIZER;CN="Rec2Connect":MAILTO:scheduling@rec2connect.org
END:VEVENT
BEGIN:VEVENT
DTSTART;TZID=America/New_York:20270719T170000
DTEND;TZID=America/New_York:20270719T180000
DTSTAMP:20260425T124854
CREATED:20250720T130304Z
LAST-MODIFIED:20260221T023022Z
UID:10003432-1816016400-1816020000@rec2connect.org
SUMMARY:Razorsharks Practice
DESCRIPTION:We work on swim stroke development\, increasing endurance\, and competing with our team \nNOTE: Drop-in or Monthly packages available!  Please inquire at registration.
URL:https://rec2connect.org/event/razorsharks-practice-10/2027-07-19/
LOCATION:Beachwood High School\, 25100 Fairmount Blvd\, Beachwood\, OH\, 44122\, United States
CATEGORIES:Razorsharks Swim Team
ATTACH;FMTTYPE=image/png:https://rec2connect.org/wp-content/uploads/2025/07/Events_Razorsharks.png
ORGANIZER;CN="Rec2Connect":MAILTO:scheduling@rec2connect.org
END:VEVENT
BEGIN:VEVENT
DTSTART;TZID=America/New_York:20270721T160000
DTEND;TZID=America/New_York:20270721T170000
DTSTAMP:20260425T124854
CREATED:20250720T130248Z
LAST-MODIFIED:20260221T023543Z
UID:10001594-1816185600-1816189200@rec2connect.org
SUMMARY:Razorsharks Practice
DESCRIPTION:We work on swim stroke development\, increasing endurance\, and competing with our team \nNOTE: Drop-in or Monthly packages available!  Please inquire at registration.
URL:https://rec2connect.org/event/razorsharks-practice-8/2027-07-21/
LOCATION:Seven Hills Parks and Rec Center\, 7777 Summit View Dr\, Seven HIlls\, OH\, 44131\, United States
CATEGORIES:Razorsharks Swim Team
ATTACH;FMTTYPE=image/png:https://rec2connect.org/wp-content/uploads/2025/07/Events_Razorsharks.png
ORGANIZER;CN="Rec2Connect":MAILTO:scheduling@rec2connect.org
END:VEVENT
BEGIN:VEVENT
DTSTART;TZID=America/New_York:20270721T170000
DTEND;TZID=America/New_York:20270721T180000
DTSTAMP:20260425T124854
CREATED:20250720T130248Z
LAST-MODIFIED:20260221T023449Z
UID:10001857-1816189200-1816192800@rec2connect.org
SUMMARY:Razorsharks Practice
DESCRIPTION:We work on swim stroke development\, increasing endurance\, and competing with our team \nNOTE: Drop-in or Monthly packages available!  Please inquire at registration.
URL:https://rec2connect.org/event/razorsharks-practice-9/2027-07-21/
LOCATION:Seven Hills Parks and Rec Center\, 7777 Summit View Dr\, Seven HIlls\, OH\, 44131\, United States
CATEGORIES:Razorsharks Swim Team
ATTACH;FMTTYPE=image/png:https://rec2connect.org/wp-content/uploads/2025/07/Events_Razorsharks.png
ORGANIZER;CN="Rec2Connect":MAILTO:scheduling@rec2connect.org
END:VEVENT
BEGIN:VEVENT
DTSTART;TZID=America/New_York:20270724T090000
DTEND;TZID=America/New_York:20270724T100000
DTSTAMP:20260425T124854
CREATED:20250720T005626Z
LAST-MODIFIED:20260221T023330Z
UID:10003828-1816419600-1816423200@rec2connect.org
SUMMARY:Razorsharks Practice
DESCRIPTION:We work on swim stroke development\, increasing endurance\, and competing with our team \nNOTE: Drop-in or Monthly packages available!  Please inquire at registration.
URL:https://rec2connect.org/event/razorsharks-practice/2027-07-24/
LOCATION:North Olmsted Recreation Center\, 26000 Lorain Rd\, North Olmsted\, OH\, 44070\, United States
CATEGORIES:Razorsharks Swim Team
ATTACH;FMTTYPE=image/png:https://rec2connect.org/wp-content/uploads/2025/07/Events_Razorsharks.png
ORGANIZER;CN="Rec2Connect":MAILTO:scheduling@rec2connect.org
END:VEVENT
BEGIN:VEVENT
DTSTART;TZID=America/New_York:20270725T120000
DTEND;TZID=America/New_York:20270725T130000
DTSTAMP:20260425T124854
CREATED:20250720T005629Z
LAST-MODIFIED:20260221T022728Z
UID:10004090-1816516800-1816520400@rec2connect.org
SUMMARY:Razorsharks Practice
DESCRIPTION:We work on swim stroke development\, increasing endurance\, and competing with our team \nNOTE: Drop-in or Monthly packages available!  Please inquire at registration.
URL:https://rec2connect.org/event/razorsharks-practice-6/2027-07-25/
LOCATION:Beachwood High School\, 25100 Fairmount Blvd\, Beachwood\, OH\, 44122\, United States
CATEGORIES:Razorsharks Swim Team
ATTACH;FMTTYPE=image/png:https://rec2connect.org/wp-content/uploads/2025/07/Events_Razorsharks.png
ORGANIZER;CN="Rec2Connect":MAILTO:scheduling@rec2connect.org
END:VEVENT
BEGIN:VEVENT
DTSTART;TZID=America/New_York:20270726T090000
DTEND;TZID=America/New_York:20270726T100000
DTSTAMP:20260425T124854
CREATED:20250720T130303Z
LAST-MODIFIED:20260221T022641Z
UID:10002909-1816592400-1816596000@rec2connect.org
SUMMARY:Razorsharks Masters Practice
DESCRIPTION:We work on swim stroke development\, increasing endurance\, and competing with our team \nNOTE: Drop-in or Monthly packages available!  Please inquire at registration.
URL:https://rec2connect.org/event/razorsharks-masters-practice/2027-07-26/
LOCATION:North Olmsted Recreation Center\, 26000 Lorain Rd\, North Olmsted\, OH\, 44070\, United States
CATEGORIES:Razorsharks Swim Team
ATTACH;FMTTYPE=image/png:https://rec2connect.org/wp-content/uploads/2025/07/Events_Razorsharks.png
ORGANIZER;CN="Rec2Connect":MAILTO:scheduling@rec2connect.org
END:VEVENT
BEGIN:VEVENT
DTSTART;TZID=America/New_York:20270726T170000
DTEND;TZID=America/New_York:20270726T180000
DTSTAMP:20260425T124854
CREATED:20250720T130304Z
LAST-MODIFIED:20260221T023022Z
UID:10003433-1816621200-1816624800@rec2connect.org
SUMMARY:Razorsharks Practice
DESCRIPTION:We work on swim stroke development\, increasing endurance\, and competing with our team \nNOTE: Drop-in or Monthly packages available!  Please inquire at registration.
URL:https://rec2connect.org/event/razorsharks-practice-10/2027-07-26/
LOCATION:Beachwood High School\, 25100 Fairmount Blvd\, Beachwood\, OH\, 44122\, United States
CATEGORIES:Razorsharks Swim Team
ATTACH;FMTTYPE=image/png:https://rec2connect.org/wp-content/uploads/2025/07/Events_Razorsharks.png
ORGANIZER;CN="Rec2Connect":MAILTO:scheduling@rec2connect.org
END:VEVENT
BEGIN:VEVENT
DTSTART;TZID=America/New_York:20270728T160000
DTEND;TZID=America/New_York:20270728T170000
DTSTAMP:20260425T124854
CREATED:20250720T130248Z
LAST-MODIFIED:20260221T023543Z
UID:10001595-1816790400-1816794000@rec2connect.org
SUMMARY:Razorsharks Practice
DESCRIPTION:We work on swim stroke development\, increasing endurance\, and competing with our team \nNOTE: Drop-in or Monthly packages available!  Please inquire at registration.
URL:https://rec2connect.org/event/razorsharks-practice-8/2027-07-28/
LOCATION:Seven Hills Parks and Rec Center\, 7777 Summit View Dr\, Seven HIlls\, OH\, 44131\, United States
CATEGORIES:Razorsharks Swim Team
ATTACH;FMTTYPE=image/png:https://rec2connect.org/wp-content/uploads/2025/07/Events_Razorsharks.png
ORGANIZER;CN="Rec2Connect":MAILTO:scheduling@rec2connect.org
END:VEVENT
BEGIN:VEVENT
DTSTART;TZID=America/New_York:20270728T170000
DTEND;TZID=America/New_York:20270728T180000
DTSTAMP:20260425T124854
CREATED:20250720T130248Z
LAST-MODIFIED:20260221T023449Z
UID:10001858-1816794000-1816797600@rec2connect.org
SUMMARY:Razorsharks Practice
DESCRIPTION:We work on swim stroke development\, increasing endurance\, and competing with our team \nNOTE: Drop-in or Monthly packages available!  Please inquire at registration.
URL:https://rec2connect.org/event/razorsharks-practice-9/2027-07-28/
LOCATION:Seven Hills Parks and Rec Center\, 7777 Summit View Dr\, Seven HIlls\, OH\, 44131\, United States
CATEGORIES:Razorsharks Swim Team
ATTACH;FMTTYPE=image/png:https://rec2connect.org/wp-content/uploads/2025/07/Events_Razorsharks.png
ORGANIZER;CN="Rec2Connect":MAILTO:scheduling@rec2connect.org
END:VEVENT
BEGIN:VEVENT
DTSTART;TZID=America/New_York:20270731T090000
DTEND;TZID=America/New_York:20270731T100000
DTSTAMP:20260425T124854
CREATED:20250720T005626Z
LAST-MODIFIED:20260221T023330Z
UID:10003829-1817024400-1817028000@rec2connect.org
SUMMARY:Razorsharks Practice
DESCRIPTION:We work on swim stroke development\, increasing endurance\, and competing with our team \nNOTE: Drop-in or Monthly packages available!  Please inquire at registration.
URL:https://rec2connect.org/event/razorsharks-practice/2027-07-31/
LOCATION:North Olmsted Recreation Center\, 26000 Lorain Rd\, North Olmsted\, OH\, 44070\, United States
CATEGORIES:Razorsharks Swim Team
ATTACH;FMTTYPE=image/png:https://rec2connect.org/wp-content/uploads/2025/07/Events_Razorsharks.png
ORGANIZER;CN="Rec2Connect":MAILTO:scheduling@rec2connect.org
END:VEVENT
END:VCALENDAR