BEGIN:VCALENDAR
VERSION:2.0
PRODID:-//Rec2Connect - ECPv6.15.20//NONSGML v1.0//EN
CALSCALE:GREGORIAN
METHOD:PUBLISH
X-ORIGINAL-URL:https://rec2connect.org
X-WR-CALDESC:Events for Rec2Connect
REFRESH-INTERVAL;VALUE=DURATION:PT1H
X-Robots-Tag:noindex
X-PUBLISHED-TTL:PT1H
BEGIN:VTIMEZONE
TZID:America/New_York
BEGIN:DAYLIGHT
TZOFFSETFROM:-0500
TZOFFSETTO:-0400
TZNAME:EDT
DTSTART:20260308T070000
END:DAYLIGHT
BEGIN:STANDARD
TZOFFSETFROM:-0400
TZOFFSETTO:-0500
TZNAME:EST
DTSTART:20261101T060000
END:STANDARD
BEGIN:DAYLIGHT
TZOFFSETFROM:-0500
TZOFFSETTO:-0400
TZNAME:EDT
DTSTART:20270314T070000
END:DAYLIGHT
BEGIN:STANDARD
TZOFFSETFROM:-0400
TZOFFSETTO:-0500
TZNAME:EST
DTSTART:20271107T060000
END:STANDARD
BEGIN:DAYLIGHT
TZOFFSETFROM:-0500
TZOFFSETTO:-0400
TZNAME:EDT
DTSTART:20280312T070000
END:DAYLIGHT
BEGIN:STANDARD
TZOFFSETFROM:-0400
TZOFFSETTO:-0500
TZNAME:EST
DTSTART:20281105T060000
END:STANDARD
END:VTIMEZONE
BEGIN:VEVENT
DTSTART;TZID=America/New_York:20270504T170000
DTEND;TZID=America/New_York:20270504T180000
DTSTAMP:20260425T090433
CREATED:20250720T130247Z
LAST-MODIFIED:20260226T220853Z
UID:10001190-1809450000-1809453600@rec2connect.org
SUMMARY:Fit Friends
DESCRIPTION:Structured full body workouts and social interaction \nNOTE:  There is a $5 discount for private pay!
URL:https://rec2connect.org/event/fit-friends/2027-05-04/
LOCATION:Seven Hills Parks and Rec Center\, 7777 Summit View Dr\, Seven HIlls\, OH\, 44131\, United States
CATEGORIES:Fit Friends
ATTACH;FMTTYPE=image/png:https://rec2connect.org/wp-content/uploads/2025/07/Events_FitFriends.png
ORGANIZER;CN="Rec2Connect":MAILTO:scheduling@rec2connect.org
END:VEVENT
BEGIN:VEVENT
DTSTART;TZID=America/New_York:20270506T183000
DTEND;TZID=America/New_York:20270506T193000
DTSTAMP:20260425T090433
CREATED:20250720T130303Z
LAST-MODIFIED:20260226T220341Z
UID:10002635-1809628200-1809631800@rec2connect.org
SUMMARY:Fit Friends
DESCRIPTION:Structured full body workouts and social interaction \nNOTE:  There is a $5 discount for private pay!
URL:https://rec2connect.org/event/fit-friends-2/2027-05-06/
LOCATION:Gemini Center (Fairview)\, 21225 Lorain Rd\, Cleveland\, OH\, 44126\, United States
CATEGORIES:Fit Friends
ATTACH;FMTTYPE=image/png:https://rec2connect.org/wp-content/uploads/2025/07/Events_FitFriends.png
ORGANIZER;CN="Rec2Connect":MAILTO:scheduling@rec2connect.org
END:VEVENT
BEGIN:VEVENT
DTSTART;TZID=America/New_York:20270511T170000
DTEND;TZID=America/New_York:20270511T180000
DTSTAMP:20260425T090433
CREATED:20250720T130247Z
LAST-MODIFIED:20260226T220853Z
UID:10001191-1810054800-1810058400@rec2connect.org
SUMMARY:Fit Friends
DESCRIPTION:Structured full body workouts and social interaction \nNOTE:  There is a $5 discount for private pay!
URL:https://rec2connect.org/event/fit-friends/2027-05-11/
LOCATION:Seven Hills Parks and Rec Center\, 7777 Summit View Dr\, Seven HIlls\, OH\, 44131\, United States
CATEGORIES:Fit Friends
ATTACH;FMTTYPE=image/png:https://rec2connect.org/wp-content/uploads/2025/07/Events_FitFriends.png
ORGANIZER;CN="Rec2Connect":MAILTO:scheduling@rec2connect.org
END:VEVENT
BEGIN:VEVENT
DTSTART;TZID=America/New_York:20270513T183000
DTEND;TZID=America/New_York:20270513T193000
DTSTAMP:20260425T090433
CREATED:20250720T130303Z
LAST-MODIFIED:20260226T220341Z
UID:10002636-1810233000-1810236600@rec2connect.org
SUMMARY:Fit Friends
DESCRIPTION:Structured full body workouts and social interaction \nNOTE:  There is a $5 discount for private pay!
URL:https://rec2connect.org/event/fit-friends-2/2027-05-13/
LOCATION:Gemini Center (Fairview)\, 21225 Lorain Rd\, Cleveland\, OH\, 44126\, United States
CATEGORIES:Fit Friends
ATTACH;FMTTYPE=image/png:https://rec2connect.org/wp-content/uploads/2025/07/Events_FitFriends.png
ORGANIZER;CN="Rec2Connect":MAILTO:scheduling@rec2connect.org
END:VEVENT
BEGIN:VEVENT
DTSTART;TZID=America/New_York:20270518T170000
DTEND;TZID=America/New_York:20270518T180000
DTSTAMP:20260425T090433
CREATED:20250720T130247Z
LAST-MODIFIED:20260226T220853Z
UID:10001192-1810659600-1810663200@rec2connect.org
SUMMARY:Fit Friends
DESCRIPTION:Structured full body workouts and social interaction \nNOTE:  There is a $5 discount for private pay!
URL:https://rec2connect.org/event/fit-friends/2027-05-18/
LOCATION:Seven Hills Parks and Rec Center\, 7777 Summit View Dr\, Seven HIlls\, OH\, 44131\, United States
CATEGORIES:Fit Friends
ATTACH;FMTTYPE=image/png:https://rec2connect.org/wp-content/uploads/2025/07/Events_FitFriends.png
ORGANIZER;CN="Rec2Connect":MAILTO:scheduling@rec2connect.org
END:VEVENT
BEGIN:VEVENT
DTSTART;TZID=America/New_York:20270520T183000
DTEND;TZID=America/New_York:20270520T193000
DTSTAMP:20260425T090433
CREATED:20250720T130303Z
LAST-MODIFIED:20260226T220341Z
UID:10002637-1810837800-1810841400@rec2connect.org
SUMMARY:Fit Friends
DESCRIPTION:Structured full body workouts and social interaction \nNOTE:  There is a $5 discount for private pay!
URL:https://rec2connect.org/event/fit-friends-2/2027-05-20/
LOCATION:Gemini Center (Fairview)\, 21225 Lorain Rd\, Cleveland\, OH\, 44126\, United States
CATEGORIES:Fit Friends
ATTACH;FMTTYPE=image/png:https://rec2connect.org/wp-content/uploads/2025/07/Events_FitFriends.png
ORGANIZER;CN="Rec2Connect":MAILTO:scheduling@rec2connect.org
END:VEVENT
BEGIN:VEVENT
DTSTART;TZID=America/New_York:20270525T170000
DTEND;TZID=America/New_York:20270525T180000
DTSTAMP:20260425T090433
CREATED:20250720T130247Z
LAST-MODIFIED:20260226T220853Z
UID:10001193-1811264400-1811268000@rec2connect.org
SUMMARY:Fit Friends
DESCRIPTION:Structured full body workouts and social interaction \nNOTE:  There is a $5 discount for private pay!
URL:https://rec2connect.org/event/fit-friends/2027-05-25/
LOCATION:Seven Hills Parks and Rec Center\, 7777 Summit View Dr\, Seven HIlls\, OH\, 44131\, United States
CATEGORIES:Fit Friends
ATTACH;FMTTYPE=image/png:https://rec2connect.org/wp-content/uploads/2025/07/Events_FitFriends.png
ORGANIZER;CN="Rec2Connect":MAILTO:scheduling@rec2connect.org
END:VEVENT
BEGIN:VEVENT
DTSTART;TZID=America/New_York:20270527T183000
DTEND;TZID=America/New_York:20270527T193000
DTSTAMP:20260425T090433
CREATED:20250720T130303Z
LAST-MODIFIED:20260226T220341Z
UID:10002638-1811442600-1811446200@rec2connect.org
SUMMARY:Fit Friends
DESCRIPTION:Structured full body workouts and social interaction \nNOTE:  There is a $5 discount for private pay!
URL:https://rec2connect.org/event/fit-friends-2/2027-05-27/
LOCATION:Gemini Center (Fairview)\, 21225 Lorain Rd\, Cleveland\, OH\, 44126\, United States
CATEGORIES:Fit Friends
ATTACH;FMTTYPE=image/png:https://rec2connect.org/wp-content/uploads/2025/07/Events_FitFriends.png
ORGANIZER;CN="Rec2Connect":MAILTO:scheduling@rec2connect.org
END:VEVENT
END:VCALENDAR