BEGIN:VCALENDAR
VERSION:2.0
PRODID:-//Rec2Connect - ECPv6.15.20//NONSGML v1.0//EN
CALSCALE:GREGORIAN
METHOD:PUBLISH
X-WR-CALNAME:Rec2Connect
X-ORIGINAL-URL:https://rec2connect.org
X-WR-CALDESC:Events for Rec2Connect
REFRESH-INTERVAL;VALUE=DURATION:PT1H
X-Robots-Tag:noindex
X-PUBLISHED-TTL:PT1H
BEGIN:VTIMEZONE
TZID:America/New_York
BEGIN:DAYLIGHT
TZOFFSETFROM:-0500
TZOFFSETTO:-0400
TZNAME:EDT
DTSTART:20250309T070000
END:DAYLIGHT
BEGIN:STANDARD
TZOFFSETFROM:-0400
TZOFFSETTO:-0500
TZNAME:EST
DTSTART:20251102T060000
END:STANDARD
BEGIN:DAYLIGHT
TZOFFSETFROM:-0500
TZOFFSETTO:-0400
TZNAME:EDT
DTSTART:20260308T070000
END:DAYLIGHT
BEGIN:STANDARD
TZOFFSETFROM:-0400
TZOFFSETTO:-0500
TZNAME:EST
DTSTART:20261101T060000
END:STANDARD
BEGIN:DAYLIGHT
TZOFFSETFROM:-0500
TZOFFSETTO:-0400
TZNAME:EDT
DTSTART:20270314T070000
END:DAYLIGHT
BEGIN:STANDARD
TZOFFSETFROM:-0400
TZOFFSETTO:-0500
TZNAME:EST
DTSTART:20271107T060000
END:STANDARD
END:VTIMEZONE
BEGIN:VEVENT
DTSTART;TZID=America/New_York:20260611T133000
DTEND;TZID=America/New_York:20260611T153000
DTSTAMP:20260424T161455
CREATED:20260416T223740Z
LAST-MODIFIED:20260418T172731Z
UID:10009413-1781184600-1781191800@rec2connect.org
SUMMARY:2026 Veteran Kayaking
DESCRIPTION:Focus on entry-level kayaking skills\, safety and lake exploration.\nNo cost for Veterans and Service Members with Disabilities\nThis program is made possible thanks to Move United!\nTo register\, please email vhaclewhcoaches@va.gov or wholehealthcleva@va.gov
URL:https://rec2connect.org/event/2026-veteran-kayaking-3/2026-06-11/
LOCATION:Coe Lake\, 85 South Rocky River Dr.\, Berea\, OH\, 44017\, United States
CATEGORIES:Kayaking,Outdoor Programs
ATTACH;FMTTYPE=image/png:https://rec2connect.org/wp-content/uploads/2025/07/Kayak-2.png
ORGANIZER;CN="Rec2Connect":MAILTO:scheduling@rec2connect.org
END:VEVENT
BEGIN:VEVENT
DTSTART;TZID=America/New_York:20260625T133000
DTEND;TZID=America/New_York:20260625T153000
DTSTAMP:20260424T161455
CREATED:20260416T223740Z
LAST-MODIFIED:20260418T172731Z
UID:10009414-1782394200-1782401400@rec2connect.org
SUMMARY:2026 Veteran Kayaking
DESCRIPTION:Focus on entry-level kayaking skills\, safety and lake exploration.\nNo cost for Veterans and Service Members with Disabilities\nThis program is made possible thanks to Move United!\nTo register\, please email vhaclewhcoaches@va.gov or wholehealthcleva@va.gov
URL:https://rec2connect.org/event/2026-veteran-kayaking-3/2026-06-25/
LOCATION:Coe Lake\, 85 South Rocky River Dr.\, Berea\, OH\, 44017\, United States
CATEGORIES:Kayaking,Outdoor Programs
ATTACH;FMTTYPE=image/png:https://rec2connect.org/wp-content/uploads/2025/07/Kayak-2.png
ORGANIZER;CN="Rec2Connect":MAILTO:scheduling@rec2connect.org
END:VEVENT
BEGIN:VEVENT
DTSTART;TZID=America/New_York:20260709T133000
DTEND;TZID=America/New_York:20260709T153000
DTSTAMP:20260424T161455
CREATED:20260416T223740Z
LAST-MODIFIED:20260418T172731Z
UID:10009415-1783603800-1783611000@rec2connect.org
SUMMARY:2026 Veteran Kayaking
DESCRIPTION:Focus on entry-level kayaking skills\, safety and lake exploration.\nNo cost for Veterans and Service Members with Disabilities\nThis program is made possible thanks to Move United!\nTo register\, please email vhaclewhcoaches@va.gov or wholehealthcleva@va.gov
URL:https://rec2connect.org/event/2026-veteran-kayaking-3/2026-07-09/
LOCATION:Coe Lake\, 85 South Rocky River Dr.\, Berea\, OH\, 44017\, United States
CATEGORIES:Kayaking,Outdoor Programs
ATTACH;FMTTYPE=image/png:https://rec2connect.org/wp-content/uploads/2025/07/Kayak-2.png
ORGANIZER;CN="Rec2Connect":MAILTO:scheduling@rec2connect.org
END:VEVENT
BEGIN:VEVENT
DTSTART;TZID=America/New_York:20260716T133000
DTEND;TZID=America/New_York:20260716T153000
DTSTAMP:20260424T161455
CREATED:20260416T223740Z
LAST-MODIFIED:20260418T172731Z
UID:10009416-1784208600-1784215800@rec2connect.org
SUMMARY:2026 Veteran Kayaking
DESCRIPTION:Focus on entry-level kayaking skills\, safety and lake exploration.\nNo cost for Veterans and Service Members with Disabilities\nThis program is made possible thanks to Move United!\nTo register\, please email vhaclewhcoaches@va.gov or wholehealthcleva@va.gov
URL:https://rec2connect.org/event/2026-veteran-kayaking-3/2026-07-16/
LOCATION:Coe Lake\, 85 South Rocky River Dr.\, Berea\, OH\, 44017\, United States
CATEGORIES:Kayaking,Outdoor Programs
ATTACH;FMTTYPE=image/png:https://rec2connect.org/wp-content/uploads/2025/07/Kayak-2.png
ORGANIZER;CN="Rec2Connect":MAILTO:scheduling@rec2connect.org
END:VEVENT
BEGIN:VEVENT
DTSTART;TZID=America/New_York:20260725T103000
DTEND;TZID=America/New_York:20260725T123000
DTSTAMP:20260424T161455
CREATED:20260417T194422Z
LAST-MODIFIED:20260418T172453Z
UID:10009423-1784975400-1784982600@rec2connect.org
SUMMARY:2026 Veteran Kayaking
DESCRIPTION:Focus on entry-level kayaking skills\, safety and lake exploration.\nNo cost for Veterans and Service Members with Disabilities\nThis program is made possible thanks to Move United!\nTo register\, please email vhaclewhcoaches@va.gov or wholehealthcleva@va.gov
URL:https://rec2connect.org/event/2026-veteran-kayaking-4/
LOCATION:Coe Lake\, 85 South Rocky River Dr.\, Berea\, OH\, 44017\, United States
CATEGORIES:Kayaking,Outdoor Programs
ATTACH;FMTTYPE=image/png:https://rec2connect.org/wp-content/uploads/2025/07/Kayak-2.png
ORGANIZER;CN="Rec2Connect":MAILTO:scheduling@rec2connect.org
END:VEVENT
BEGIN:VEVENT
DTSTART;TZID=America/New_York:20260730T133000
DTEND;TZID=America/New_York:20260730T153000
DTSTAMP:20260424T161455
CREATED:20260416T223740Z
LAST-MODIFIED:20260418T172731Z
UID:10009417-1785418200-1785425400@rec2connect.org
SUMMARY:2026 Veteran Kayaking
DESCRIPTION:Focus on entry-level kayaking skills\, safety and lake exploration.\nNo cost for Veterans and Service Members with Disabilities\nThis program is made possible thanks to Move United!\nTo register\, please email vhaclewhcoaches@va.gov or wholehealthcleva@va.gov
URL:https://rec2connect.org/event/2026-veteran-kayaking-3/2026-07-30/
LOCATION:Coe Lake\, 85 South Rocky River Dr.\, Berea\, OH\, 44017\, United States
CATEGORIES:Kayaking,Outdoor Programs
ATTACH;FMTTYPE=image/png:https://rec2connect.org/wp-content/uploads/2025/07/Kayak-2.png
ORGANIZER;CN="Rec2Connect":MAILTO:scheduling@rec2connect.org
END:VEVENT
BEGIN:VEVENT
DTSTART;TZID=America/New_York:20260806T133000
DTEND;TZID=America/New_York:20260806T153000
DTSTAMP:20260424T161455
CREATED:20260416T223740Z
LAST-MODIFIED:20260418T172731Z
UID:10009418-1786023000-1786030200@rec2connect.org
SUMMARY:2026 Veteran Kayaking
DESCRIPTION:Focus on entry-level kayaking skills\, safety and lake exploration.\nNo cost for Veterans and Service Members with Disabilities\nThis program is made possible thanks to Move United!\nTo register\, please email vhaclewhcoaches@va.gov or wholehealthcleva@va.gov
URL:https://rec2connect.org/event/2026-veteran-kayaking-3/2026-08-06/
LOCATION:Coe Lake\, 85 South Rocky River Dr.\, Berea\, OH\, 44017\, United States
CATEGORIES:Kayaking,Outdoor Programs
ATTACH;FMTTYPE=image/png:https://rec2connect.org/wp-content/uploads/2025/07/Kayak-2.png
ORGANIZER;CN="Rec2Connect":MAILTO:scheduling@rec2connect.org
END:VEVENT
BEGIN:VEVENT
DTSTART;TZID=America/New_York:20260813T133000
DTEND;TZID=America/New_York:20260813T153000
DTSTAMP:20260424T161455
CREATED:20260416T223740Z
LAST-MODIFIED:20260418T172731Z
UID:10009419-1786627800-1786635000@rec2connect.org
SUMMARY:2026 Veteran Kayaking
DESCRIPTION:Focus on entry-level kayaking skills\, safety and lake exploration.\nNo cost for Veterans and Service Members with Disabilities\nThis program is made possible thanks to Move United!\nTo register\, please email vhaclewhcoaches@va.gov or wholehealthcleva@va.gov
URL:https://rec2connect.org/event/2026-veteran-kayaking-3/2026-08-13/
LOCATION:Coe Lake\, 85 South Rocky River Dr.\, Berea\, OH\, 44017\, United States
CATEGORIES:Kayaking,Outdoor Programs
ATTACH;FMTTYPE=image/png:https://rec2connect.org/wp-content/uploads/2025/07/Kayak-2.png
ORGANIZER;CN="Rec2Connect":MAILTO:scheduling@rec2connect.org
END:VEVENT
BEGIN:VEVENT
DTSTART;TZID=America/New_York:20260814T184500
DTEND;TZID=America/New_York:20260814T204500
DTSTAMP:20260424T161455
CREATED:20260418T172221Z
LAST-MODIFIED:20260418T172548Z
UID:10009424-1786733100-1786740300@rec2connect.org
SUMMARY:2026 Veteran Kayaking
DESCRIPTION:Focus on entry-level kayaking skills\, safety and lake exploration.\nNo cost for Veterans and Service Members with Disabilities\nThis program is made possible thanks to Move United!\nTo register\, please email vhaclewhcoaches@va.gov or wholehealthcleva@va.gov
URL:https://rec2connect.org/event/2026-veteran-kayaking-5/
LOCATION:Coe Lake\, 85 South Rocky River Dr.\, Berea\, OH\, 44017\, United States
CATEGORIES:Kayaking,Outdoor Programs
ATTACH;FMTTYPE=image/png:https://rec2connect.org/wp-content/uploads/2025/07/Kayak-2.png
ORGANIZER;CN="Rec2Connect":MAILTO:scheduling@rec2connect.org
END:VEVENT
BEGIN:VEVENT
DTSTART;TZID=America/New_York:20260820T133000
DTEND;TZID=America/New_York:20260820T153000
DTSTAMP:20260424T161455
CREATED:20260416T223740Z
LAST-MODIFIED:20260418T172731Z
UID:10009420-1787232600-1787239800@rec2connect.org
SUMMARY:2026 Veteran Kayaking
DESCRIPTION:Focus on entry-level kayaking skills\, safety and lake exploration.\nNo cost for Veterans and Service Members with Disabilities\nThis program is made possible thanks to Move United!\nTo register\, please email vhaclewhcoaches@va.gov or wholehealthcleva@va.gov
URL:https://rec2connect.org/event/2026-veteran-kayaking-3/2026-08-20/
LOCATION:Coe Lake\, 85 South Rocky River Dr.\, Berea\, OH\, 44017\, United States
CATEGORIES:Kayaking,Outdoor Programs
ATTACH;FMTTYPE=image/png:https://rec2connect.org/wp-content/uploads/2025/07/Kayak-2.png
ORGANIZER;CN="Rec2Connect":MAILTO:scheduling@rec2connect.org
END:VEVENT
BEGIN:VEVENT
DTSTART;TZID=America/New_York:20260827T133000
DTEND;TZID=America/New_York:20260827T153000
DTSTAMP:20260424T161455
CREATED:20260416T223740Z
LAST-MODIFIED:20260418T172731Z
UID:10009421-1787837400-1787844600@rec2connect.org
SUMMARY:2026 Veteran Kayaking
DESCRIPTION:Focus on entry-level kayaking skills\, safety and lake exploration.\nNo cost for Veterans and Service Members with Disabilities\nThis program is made possible thanks to Move United!\nTo register\, please email vhaclewhcoaches@va.gov or wholehealthcleva@va.gov
URL:https://rec2connect.org/event/2026-veteran-kayaking-3/2026-08-27/
LOCATION:Coe Lake\, 85 South Rocky River Dr.\, Berea\, OH\, 44017\, United States
CATEGORIES:Kayaking,Outdoor Programs
ATTACH;FMTTYPE=image/png:https://rec2connect.org/wp-content/uploads/2025/07/Kayak-2.png
ORGANIZER;CN="Rec2Connect":MAILTO:scheduling@rec2connect.org
END:VEVENT
BEGIN:VEVENT
DTSTART;TZID=America/New_York:20260903T133000
DTEND;TZID=America/New_York:20260903T153000
DTSTAMP:20260424T161455
CREATED:20260416T223740Z
LAST-MODIFIED:20260418T172731Z
UID:10009422-1788442200-1788449400@rec2connect.org
SUMMARY:2026 Veteran Kayaking
DESCRIPTION:Focus on entry-level kayaking skills\, safety and lake exploration.\nNo cost for Veterans and Service Members with Disabilities\nThis program is made possible thanks to Move United!\nTo register\, please email vhaclewhcoaches@va.gov or wholehealthcleva@va.gov
URL:https://rec2connect.org/event/2026-veteran-kayaking-3/2026-09-03/
LOCATION:Coe Lake\, 85 South Rocky River Dr.\, Berea\, OH\, 44017\, United States
CATEGORIES:Kayaking,Outdoor Programs
ATTACH;FMTTYPE=image/png:https://rec2connect.org/wp-content/uploads/2025/07/Kayak-2.png
ORGANIZER;CN="Rec2Connect":MAILTO:scheduling@rec2connect.org
END:VEVENT
BEGIN:VEVENT
DTSTART;TZID=America/New_York:20260905T093000
DTEND;TZID=America/New_York:20260905T113000
DTSTAMP:20260424T161455
CREATED:20260418T172405Z
LAST-MODIFIED:20260418T172405Z
UID:10009425-1788600600-1788607800@rec2connect.org
SUMMARY:2026 Veteran Kayaking
DESCRIPTION:Focus on entry-level kayaking skills\, safety and lake exploration.\nNo cost for Veterans and Service Members with Disabilities\nThis program is made possible thanks to Move United!\nTo register\, please email vhaclewhcoaches@va.gov or wholehealthcleva@va.gov
URL:https://rec2connect.org/event/2026-veteran-kayaking-6/
LOCATION:Wallace Lake at Mill Stream Run Reservation\, 213 Prospect St.\, Berea\, OH\, 44017\, United States
CATEGORIES:Kayaking,Outdoor Programs
ATTACH;FMTTYPE=image/png:https://rec2connect.org/wp-content/uploads/2025/07/Kayak-2.png
ORGANIZER;CN="Rec2Connect":MAILTO:scheduling@rec2connect.org
END:VEVENT
END:VCALENDAR