BEGIN:VCALENDAR
VERSION:2.0
PRODID:-//Rec2Connect - ECPv6.15.20//NONSGML v1.0//EN
CALSCALE:GREGORIAN
METHOD:PUBLISH
X-WR-CALNAME:Rec2Connect
X-ORIGINAL-URL:https://rec2connect.org
X-WR-CALDESC:Events for Rec2Connect
REFRESH-INTERVAL;VALUE=DURATION:PT1H
X-Robots-Tag:noindex
X-PUBLISHED-TTL:PT1H
BEGIN:VTIMEZONE
TZID:America/New_York
BEGIN:DAYLIGHT
TZOFFSETFROM:-0500
TZOFFSETTO:-0400
TZNAME:EDT
DTSTART:20240310T070000
END:DAYLIGHT
BEGIN:STANDARD
TZOFFSETFROM:-0400
TZOFFSETTO:-0500
TZNAME:EST
DTSTART:20241103T060000
END:STANDARD
BEGIN:DAYLIGHT
TZOFFSETFROM:-0500
TZOFFSETTO:-0400
TZNAME:EDT
DTSTART:20250309T070000
END:DAYLIGHT
BEGIN:STANDARD
TZOFFSETFROM:-0400
TZOFFSETTO:-0500
TZNAME:EST
DTSTART:20251102T060000
END:STANDARD
BEGIN:DAYLIGHT
TZOFFSETFROM:-0500
TZOFFSETTO:-0400
TZNAME:EDT
DTSTART:20260308T070000
END:DAYLIGHT
BEGIN:STANDARD
TZOFFSETFROM:-0400
TZOFFSETTO:-0500
TZNAME:EST
DTSTART:20261101T060000
END:STANDARD
END:VTIMEZONE
BEGIN:VEVENT
DTSTART;TZID=America/New_York:20251001T160000
DTEND;TZID=America/New_York:20251001T170000
DTSTAMP:20260424T213213
CREATED:20250720T130248Z
LAST-MODIFIED:20260221T023543Z
UID:10001500-1759334400-1759338000@rec2connect.org
SUMMARY:Razorsharks Practice
DESCRIPTION:We work on swim stroke development\, increasing endurance\, and competing with our team \nNOTE: Drop-in or Monthly packages available!  Please inquire at registration.
URL:https://rec2connect.org/event/razorsharks-practice-8/2025-10-01/
LOCATION:Seven Hills Parks and Rec Center\, 7777 Summit View Dr\, Seven HIlls\, OH\, 44131\, United States
CATEGORIES:Razorsharks Swim Team
ATTACH;FMTTYPE=image/png:https://rec2connect.org/wp-content/uploads/2025/07/Events_Razorsharks.png
ORGANIZER;CN="Rec2Connect":MAILTO:scheduling@rec2connect.org
END:VEVENT
BEGIN:VEVENT
DTSTART;TZID=America/New_York:20251001T170000
DTEND;TZID=America/New_York:20251001T180000
DTSTAMP:20260424T213213
CREATED:20250720T130248Z
LAST-MODIFIED:20260221T023449Z
UID:10001763-1759338000-1759341600@rec2connect.org
SUMMARY:Razorsharks Practice
DESCRIPTION:We work on swim stroke development\, increasing endurance\, and competing with our team \nNOTE: Drop-in or Monthly packages available!  Please inquire at registration.
URL:https://rec2connect.org/event/razorsharks-practice-9/2025-10-01/
LOCATION:Seven Hills Parks and Rec Center\, 7777 Summit View Dr\, Seven HIlls\, OH\, 44131\, United States
CATEGORIES:Razorsharks Swim Team
ATTACH;FMTTYPE=image/png:https://rec2connect.org/wp-content/uploads/2025/07/Events_Razorsharks.png
ORGANIZER;CN="Rec2Connect":MAILTO:scheduling@rec2connect.org
END:VEVENT
BEGIN:VEVENT
DTSTART;TZID=America/New_York:20251001T171500
DTEND;TZID=America/New_York:20251001T181500
DTSTAMP:20260424T213213
CREATED:20250720T130249Z
LAST-MODIFIED:20260219T202327Z
UID:10007744-1759338900-1759342500@rec2connect.org
SUMMARY:West Hiking Club Ages 13+
DESCRIPTION:
URL:https://rec2connect.org/event/west-hiking-club-ages-13/2025-10-01/
LOCATION:Metroparks\, TBD\, Cleveland\, OH\, United States
CATEGORIES:Hiking
ATTACH;FMTTYPE=image/png:https://rec2connect.org/wp-content/uploads/2025/07/Events_HikingClub.png
ORGANIZER;CN="Rec2Connect":MAILTO:scheduling@rec2connect.org
END:VEVENT
BEGIN:VEVENT
DTSTART;TZID=America/New_York:20251002T163000
DTEND;TZID=America/New_York:20251002T171500
DTSTAMP:20260424T213213
CREATED:20250720T130249Z
LAST-MODIFIED:20260226T220634Z
UID:10002026-1759422600-1759425300@rec2connect.org
SUMMARY:Cardio Drumming
DESCRIPTION:This 45 minute weekly exercise class for teens and adults is led by a Recreation Therapist. Cardio drumming incorporates movement\, stretching\, music\, and rhythm together for an alternative cardiovascular workout. This class focuses on range of motion\, endurance\, strengthening\, flexibility\, coordination and body awareness. \nNOTE:  There is a $5 discount for private pay!
URL:https://rec2connect.org/event/cardio-drumming-18/2025-10-02/
LOCATION:Gemini Center (Fairview)\, 21225 Lorain Rd\, Cleveland\, OH\, 44126\, United States
CATEGORIES:Cardio Drumming
ATTACH;FMTTYPE=image/png:https://rec2connect.org/wp-content/uploads/2025/07/Events_CardioDrum.png
ORGANIZER;CN="Rec2Connect":MAILTO:scheduling@rec2connect.org
END:VEVENT
BEGIN:VEVENT
DTSTART;TZID=America/New_York:20251002T173000
DTEND;TZID=America/New_York:20251002T181500
DTSTAMP:20260424T213213
CREATED:20250720T130302Z
LAST-MODIFIED:20260226T220528Z
UID:10002289-1759426200-1759428900@rec2connect.org
SUMMARY:Pedal Power
DESCRIPTION:Indoor stationary bike riding class that will work on bike riding skills\, balance\, strength\, endurance and motor planning \nNOTE:  There is a $5 discount for private pay!
URL:https://rec2connect.org/event/pedal-power/2025-10-02/
LOCATION:Gemini Center (Fairview)\, 21225 Lorain Rd\, Cleveland\, OH\, 44126\, United States
CATEGORIES:Pedal Power
ATTACH;FMTTYPE=image/png:https://rec2connect.org/wp-content/uploads/2025/07/Events_PedalPower.png
ORGANIZER;CN="Rec2Connect":MAILTO:scheduling@rec2connect.org
END:VEVENT
BEGIN:VEVENT
DTSTART;TZID=America/New_York:20251002T183000
DTEND;TZID=America/New_York:20251002T193000
DTSTAMP:20260424T213213
CREATED:20250720T130303Z
LAST-MODIFIED:20260226T220341Z
UID:10002552-1759429800-1759433400@rec2connect.org
SUMMARY:Fit Friends
DESCRIPTION:Structured full body workouts and social interaction \nNOTE:  There is a $5 discount for private pay!
URL:https://rec2connect.org/event/fit-friends-2/2025-10-02/
LOCATION:Gemini Center (Fairview)\, 21225 Lorain Rd\, Cleveland\, OH\, 44126\, United States
CATEGORIES:Fit Friends
ATTACH;FMTTYPE=image/png:https://rec2connect.org/wp-content/uploads/2025/07/Events_FitFriends.png
ORGANIZER;CN="Rec2Connect":MAILTO:scheduling@rec2connect.org
END:VEVENT
BEGIN:VEVENT
DTSTART;TZID=America/New_York:20251004T090000
DTEND;TZID=America/New_York:20251004T100000
DTSTAMP:20260424T213213
CREATED:20250720T005626Z
LAST-MODIFIED:20260221T023330Z
UID:10003734-1759568400-1759572000@rec2connect.org
SUMMARY:Razorsharks Practice
DESCRIPTION:We work on swim stroke development\, increasing endurance\, and competing with our team \nNOTE: Drop-in or Monthly packages available!  Please inquire at registration.
URL:https://rec2connect.org/event/razorsharks-practice/2025-10-04/
LOCATION:North Olmsted Recreation Center\, 26000 Lorain Rd\, North Olmsted\, OH\, 44070\, United States
CATEGORIES:Razorsharks Swim Team
ATTACH;FMTTYPE=image/png:https://rec2connect.org/wp-content/uploads/2025/07/Events_Razorsharks.png
ORGANIZER;CN="Rec2Connect":MAILTO:scheduling@rec2connect.org
END:VEVENT
BEGIN:VEVENT
DTSTART;TZID=America/New_York:20251004T100000
DTEND;TZID=America/New_York:20251004T104500
DTSTAMP:20260424T213213
CREATED:20250720T005625Z
LAST-MODIFIED:20260226T220144Z
UID:10000568-1759572000-1759574700@rec2connect.org
SUMMARY:Cardio Drumming
DESCRIPTION:This 45 minute weekly exercise class for teens and adults is led by a Recreation Therapist. Cardio drumming incorporates movement\, stretching\, music\, and rhythm together for an alternative cardiovascular workout. This class focuses on range of motion\, endurance\, strengthening\, flexibility\, coordination and body awareness. \nNOTE:  There is a $5 discount for private pay!
URL:https://rec2connect.org/event/cardio-drumming/2025-10-04/
LOCATION:Seven Hills Parks and Rec Center\, 7777 Summit View Dr\, Seven HIlls\, OH\, 44131\, United States
CATEGORIES:Cardio Drumming
ATTACH;FMTTYPE=image/png:https://rec2connect.org/wp-content/uploads/2025/07/CardioDrum_01.png
ORGANIZER;CN="Rec2Connect":MAILTO:scheduling@rec2connect.org
END:VEVENT
BEGIN:VEVENT
DTSTART;TZID=America/New_York:20251004T100000
DTEND;TZID=America/New_York:20251004T110000
DTSTAMP:20260424T213213
CREATED:20250725T021134Z
LAST-MODIFIED:20260221T023236Z
UID:10007026-1759572000-1759575600@rec2connect.org
SUMMARY:Razorsharks practice
DESCRIPTION:We work on swim stroke development\, increasing endurance\, and competing with our team \nNOTE: Drop-in or Monthly packages available!  Please inquire at registration.
URL:https://rec2connect.org/event/razorsharks-practice-13/2025-10-04/
LOCATION:North Olmsted Recreation Center\, 26000 Lorain Rd\, North Olmsted\, OH\, 44070\, United States
CATEGORIES:Razorsharks Swim Team
ATTACH;FMTTYPE=image/png:https://rec2connect.org/wp-content/uploads/2025/07/Razorsharks.png
END:VEVENT
BEGIN:VEVENT
DTSTART;TZID=America/New_York:20251004T110000
DTEND;TZID=America/New_York:20251004T120000
DTSTAMP:20260424T213213
CREATED:20250725T021338Z
LAST-MODIFIED:20260221T023139Z
UID:10007290-1759575600-1759579200@rec2connect.org
SUMMARY:Razorsharks practice
DESCRIPTION:We work on swim stroke development\, increasing endurance\, and competing with our team \nNOTE: Drop-in or Monthly packages available!  Please inquire at registration.
URL:https://rec2connect.org/event/razorsharks-practice-14/2025-10-04/
LOCATION:North Olmsted Recreation Center\, 26000 Lorain Rd\, North Olmsted\, OH\, 44070\, United States
CATEGORIES:Razorsharks Swim Team
ATTACH;FMTTYPE=image/png:https://rec2connect.org/wp-content/uploads/2025/07/Razorsharks.png
END:VEVENT
BEGIN:VEVENT
DTSTART;TZID=America/New_York:20251004T124500
DTEND;TZID=America/New_York:20251004T144500
DTSTAMP:20260424T213213
CREATED:20250911T185744Z
LAST-MODIFIED:20250912T125414Z
UID:10008059-1759581900-1759589100@rec2connect.org
SUMMARY:Teen Social Club Game Time
DESCRIPTION:Teens Ages 13 – 17 have the opportunity to connect with others through table games\, video games and board games. \nRegistration deadline for new or first-time participants:  Sept 22 \nRegistration deadline for current participants:  Sept 30 \nTo enroll\, all participants must have an Ensora account and all forms completed.  Waitlists fill up quickly! \nTo register or create your Ensora account\, email scheduling@rec2connect.org with ‘October Teen Social Club’ as the subject line and the participant’s name in the email.
URL:https://rec2connect.org/event/teen-social-club-game-time-3/
LOCATION:Bedford Branch – Cuyahoga County Public Library\, 70 Columbus Rd.\, Bedford\, OH\, 44146\, United States
CATEGORIES:Social Events
ORGANIZER;CN="Rec2Connect":MAILTO:scheduling@rec2connect.org
END:VEVENT
BEGIN:VEVENT
DTSTART;TZID=America/New_York:20251004T150000
DTEND;TZID=America/New_York:20251004T170000
DTSTAMP:20260424T213213
CREATED:20250911T185334Z
LAST-MODIFIED:20250911T195159Z
UID:10008058-1759590000-1759597200@rec2connect.org
SUMMARY:Adult Social Club Game Night
DESCRIPTION:Adults Ages 18+ have the opportunity to connect with others through table games and board games. \nRegistration deadline for new or first-time participants:  Sept 22 \nRegistration deadline for current participants:  Sept 30 \nTo enroll\, all participants must have an Ensora account and all forms completed.  Waitlists fill up quickly! \nTo register or create your Ensora account\, email scheduling@rec2connect.org with ‘October ASC Game Night’ as the subject line and the participant’s name in the email. \nThis program is made possible by a grant from the Cuyahoga DD.
URL:https://rec2connect.org/event/adult-social-club-game-night-2/
LOCATION:Bedford Branch – Cuyahoga County Public Library\, 70 Columbus Rd.\, Bedford\, OH\, 44146\, United States
CATEGORIES:Adult Social Club,Social Events
ORGANIZER;CN="Rec2Connect":MAILTO:scheduling@rec2connect.org
END:VEVENT
BEGIN:VEVENT
DTSTART;TZID=America/New_York:20251005T120000
DTEND;TZID=America/New_York:20251005T130000
DTSTAMP:20260424T213213
CREATED:20250720T005629Z
LAST-MODIFIED:20260221T022728Z
UID:10003996-1759665600-1759669200@rec2connect.org
SUMMARY:Razorsharks Practice
DESCRIPTION:We work on swim stroke development\, increasing endurance\, and competing with our team \nNOTE: Drop-in or Monthly packages available!  Please inquire at registration.
URL:https://rec2connect.org/event/razorsharks-practice-6/2025-10-05/
LOCATION:Beachwood High School\, 25100 Fairmount Blvd\, Beachwood\, OH\, 44122\, United States
CATEGORIES:Razorsharks Swim Team
ATTACH;FMTTYPE=image/png:https://rec2connect.org/wp-content/uploads/2025/07/Events_Razorsharks.png
ORGANIZER;CN="Rec2Connect":MAILTO:scheduling@rec2connect.org
END:VEVENT
BEGIN:VEVENT
DTSTART;TZID=America/New_York:20251005T150000
DTEND;TZID=America/New_York:20251005T160000
DTSTAMP:20260424T213213
CREATED:20250720T130218Z
LAST-MODIFIED:20251010T172036Z
UID:10005044-1759676400-1759680000@rec2connect.org
SUMMARY:East Hiking Club Ages 13+
DESCRIPTION:
URL:https://rec2connect.org/event/east-hiking-club-ages-13/2025-10-05/
LOCATION:Metroparks\, TBD\, Cleveland\, OH\, United States
CATEGORIES:Hiking
ATTACH;FMTTYPE=image/png:https://rec2connect.org/wp-content/uploads/2025/07/Events_HikingClub.png
ORGANIZER;CN="Rec2Connect":MAILTO:scheduling@rec2connect.org
END:VEVENT
BEGIN:VEVENT
DTSTART;TZID=America/New_York:20251005T161500
DTEND;TZID=America/New_York:20251005T171500
DTSTAMP:20260424T213213
CREATED:20250720T130232Z
LAST-MODIFIED:20251010T171606Z
UID:10005964-1759680900-1759684500@rec2connect.org
SUMMARY:East Hiking Club Ages 7-12
DESCRIPTION:
URL:https://rec2connect.org/event/east-hiking-club-ages-7-12/2025-10-05/
LOCATION:Metroparks\, TBD\, Cleveland\, OH\, United States
CATEGORIES:Hiking
ATTACH;FMTTYPE=image/png:https://rec2connect.org/wp-content/uploads/2025/07/Events_HikingClub.png
ORGANIZER;CN="Rec2Connect":MAILTO:scheduling@rec2connect.org
END:VEVENT
BEGIN:VEVENT
DTSTART;TZID=America/New_York:20251006T090000
DTEND;TZID=America/New_York:20251006T100000
DTSTAMP:20260424T213213
CREATED:20250720T130303Z
LAST-MODIFIED:20260221T022641Z
UID:10002815-1759741200-1759744800@rec2connect.org
SUMMARY:Razorsharks Masters Practice
DESCRIPTION:We work on swim stroke development\, increasing endurance\, and competing with our team \nNOTE: Drop-in or Monthly packages available!  Please inquire at registration.
URL:https://rec2connect.org/event/razorsharks-masters-practice/2025-10-06/
LOCATION:North Olmsted Recreation Center\, 26000 Lorain Rd\, North Olmsted\, OH\, 44070\, United States
CATEGORIES:Razorsharks Swim Team
ATTACH;FMTTYPE=image/png:https://rec2connect.org/wp-content/uploads/2025/07/Events_Razorsharks.png
ORGANIZER;CN="Rec2Connect":MAILTO:scheduling@rec2connect.org
END:VEVENT
BEGIN:VEVENT
DTSTART;TZID=America/New_York:20251006T170000
DTEND;TZID=America/New_York:20251006T180000
DTSTAMP:20260424T213213
CREATED:20250720T130304Z
LAST-MODIFIED:20260221T023022Z
UID:10003339-1759770000-1759773600@rec2connect.org
SUMMARY:Razorsharks Practice
DESCRIPTION:We work on swim stroke development\, increasing endurance\, and competing with our team \nNOTE: Drop-in or Monthly packages available!  Please inquire at registration.
URL:https://rec2connect.org/event/razorsharks-practice-10/2025-10-06/
LOCATION:Beachwood High School\, 25100 Fairmount Blvd\, Beachwood\, OH\, 44122\, United States
CATEGORIES:Razorsharks Swim Team
ATTACH;FMTTYPE=image/png:https://rec2connect.org/wp-content/uploads/2025/07/Events_Razorsharks.png
ORGANIZER;CN="Rec2Connect":MAILTO:scheduling@rec2connect.org
END:VEVENT
BEGIN:VEVENT
DTSTART;TZID=America/New_York:20251006T180000
DTEND;TZID=America/New_York:20251006T190000
DTSTAMP:20260424T213213
CREATED:20250725T010120Z
LAST-MODIFIED:20260221T022934Z
UID:10006497-1759773600-1759777200@rec2connect.org
SUMMARY:Razorsharks practice
DESCRIPTION:We work on swim stroke development\, increasing endurance\, and competing with our team \nNOTE: Drop-in or Monthly packages available!  Please inquire at registration.
URL:https://rec2connect.org/event/razorsharks-practice-11/2025-10-06/
LOCATION:Beachwood High School\, 25100 Fairmount Blvd\, Beachwood\, OH\, 44122\, United States
CATEGORIES:Razorsharks Swim Team
ATTACH;FMTTYPE=image/png:https://rec2connect.org/wp-content/uploads/2025/07/Razorsharks.png
ORGANIZER;CN="Rec2Connect":MAILTO:scheduling@rec2connect.org
END:VEVENT
BEGIN:VEVENT
DTSTART;TZID=America/New_York:20251006T190000
DTEND;TZID=America/New_York:20251006T200000
DTSTAMP:20260424T213213
CREATED:20250725T010255Z
LAST-MODIFIED:20260221T022852Z
UID:10006761-1759777200-1759780800@rec2connect.org
SUMMARY:Razorsharks practice
DESCRIPTION:We work on swim stroke development\, increasing endurance\, and competing with our team \nNOTE: Drop-in or Monthly packages available!  Please inquire at registration.
URL:https://rec2connect.org/event/razorsharks-practice-12/2025-10-06/
LOCATION:Beachwood High School\, 25100 Fairmount Blvd\, Beachwood\, OH\, 44122\, United States
CATEGORIES:Razorsharks Swim Team
ATTACH;FMTTYPE=image/png:https://rec2connect.org/wp-content/uploads/2025/07/Razorsharks.png
ORGANIZER;CN="Rec2Connect":MAILTO:scheduling@rec2connect.org
END:VEVENT
BEGIN:VEVENT
DTSTART;TZID=America/New_York:20251007T170000
DTEND;TZID=America/New_York:20251007T180000
DTSTAMP:20260424T213213
CREATED:20250720T130247Z
LAST-MODIFIED:20260226T220853Z
UID:10001108-1759856400-1759860000@rec2connect.org
SUMMARY:Fit Friends
DESCRIPTION:Structured full body workouts and social interaction \nNOTE:  There is a $5 discount for private pay!
URL:https://rec2connect.org/event/fit-friends/2025-10-07/
LOCATION:Seven Hills Parks and Rec Center\, 7777 Summit View Dr\, Seven HIlls\, OH\, 44131\, United States
CATEGORIES:Fit Friends
ATTACH;FMTTYPE=image/png:https://rec2connect.org/wp-content/uploads/2025/07/Events_FitFriends.png
ORGANIZER;CN="Rec2Connect":MAILTO:scheduling@rec2connect.org
END:VEVENT
BEGIN:VEVENT
DTSTART;TZID=America/New_York:20251007T170000
DTEND;TZID=America/New_York:20251007T190000
DTSTAMP:20260424T213213
CREATED:20250720T133513Z
LAST-MODIFIED:20251105T215005Z
UID:10001363-1759856400-1759863600@rec2connect.org
SUMMARY:Rock Climbing - Shaker Rocks
DESCRIPTION:This is an entry-level program designed for individuals ages 7+ that meets every 2 weeks. \nWe learn climbing skills and climbing terms. Building upon and learning new skills weekly to promote socialization\, problem-solving\, physical activity\, and teamwork. \nPre-registration is required at least 48 hours in advance. \nTo enroll\, all participants must have an Ensora account and all forms completed. \nTo register or create your Ensora account\, please email scheduling@rec2connect.org \nEvent cost includes shoes and harness rental.
URL:https://rec2connect.org/event/rock-climbing-6/2025-10-07/
LOCATION:Shaker Rocks
CATEGORIES:Outdoor Programs,Rock Climbing
ATTACH;FMTTYPE=image/png:https://rec2connect.org/wp-content/uploads/2025/07/Events_RockClimbing.png
ORGANIZER;CN="Rec2Connect":MAILTO:scheduling@rec2connect.org
END:VEVENT
BEGIN:VEVENT
DTSTART;TZID=America/New_York:20251007T181500
DTEND;TZID=America/New_York:20251007T190000
DTSTAMP:20260424T213213
CREATED:20250719T054426Z
LAST-MODIFIED:20260226T220756Z
UID:10000831-1759860900-1759863600@rec2connect.org
SUMMARY:Cardio Drumming
DESCRIPTION:This 45 minute weekly exercise class for teens and adults is led by a Recreation Therapist. Cardio drumming incorporates movement\, stretching\, music\, and rhythm together for an alternative cardiovascular workout. This class focuses on range of motion\, endurance\, strengthening\, flexibility\, coordination and body awareness. \nNOTE:  There is a $5 discount for private pay!
URL:https://rec2connect.org/event/cardio-drumming-9/2025-10-07/
LOCATION:Seven Hills Parks and Rec Center\, 7777 Summit View Dr\, Seven HIlls\, OH\, 44131\, United States
CATEGORIES:Cardio Drumming
ATTACH;FMTTYPE=image/png:https://rec2connect.org/wp-content/uploads/2025/07/CardioDrum_01.png
ORGANIZER;CN="Rec2Connect":MAILTO:scheduling@rec2connect.org
END:VEVENT
BEGIN:VEVENT
DTSTART;TZID=America/New_York:20251008T160000
DTEND;TZID=America/New_York:20251008T170000
DTSTAMP:20260424T213213
CREATED:20250720T130248Z
LAST-MODIFIED:20260221T023543Z
UID:10001501-1759939200-1759942800@rec2connect.org
SUMMARY:Razorsharks Practice
DESCRIPTION:We work on swim stroke development\, increasing endurance\, and competing with our team \nNOTE: Drop-in or Monthly packages available!  Please inquire at registration.
URL:https://rec2connect.org/event/razorsharks-practice-8/2025-10-08/
LOCATION:Seven Hills Parks and Rec Center\, 7777 Summit View Dr\, Seven HIlls\, OH\, 44131\, United States
CATEGORIES:Razorsharks Swim Team
ATTACH;FMTTYPE=image/png:https://rec2connect.org/wp-content/uploads/2025/07/Events_Razorsharks.png
ORGANIZER;CN="Rec2Connect":MAILTO:scheduling@rec2connect.org
END:VEVENT
BEGIN:VEVENT
DTSTART;TZID=America/New_York:20251008T170000
DTEND;TZID=America/New_York:20251008T180000
DTSTAMP:20260424T213213
CREATED:20250720T130248Z
LAST-MODIFIED:20260221T023449Z
UID:10001764-1759942800-1759946400@rec2connect.org
SUMMARY:Razorsharks Practice
DESCRIPTION:We work on swim stroke development\, increasing endurance\, and competing with our team \nNOTE: Drop-in or Monthly packages available!  Please inquire at registration.
URL:https://rec2connect.org/event/razorsharks-practice-9/2025-10-08/
LOCATION:Seven Hills Parks and Rec Center\, 7777 Summit View Dr\, Seven HIlls\, OH\, 44131\, United States
CATEGORIES:Razorsharks Swim Team
ATTACH;FMTTYPE=image/png:https://rec2connect.org/wp-content/uploads/2025/07/Events_Razorsharks.png
ORGANIZER;CN="Rec2Connect":MAILTO:scheduling@rec2connect.org
END:VEVENT
BEGIN:VEVENT
DTSTART;TZID=America/New_York:20251008T171500
DTEND;TZID=America/New_York:20251008T181500
DTSTAMP:20260424T213213
CREATED:20250720T130249Z
LAST-MODIFIED:20260219T202327Z
UID:10007745-1759943700-1759947300@rec2connect.org
SUMMARY:West Hiking Club Ages 13+
DESCRIPTION:
URL:https://rec2connect.org/event/west-hiking-club-ages-13/2025-10-08/
LOCATION:Metroparks\, TBD\, Cleveland\, OH\, United States
CATEGORIES:Hiking
ATTACH;FMTTYPE=image/png:https://rec2connect.org/wp-content/uploads/2025/07/Events_HikingClub.png
ORGANIZER;CN="Rec2Connect":MAILTO:scheduling@rec2connect.org
END:VEVENT
BEGIN:VEVENT
DTSTART;TZID=America/New_York:20251009T163000
DTEND;TZID=America/New_York:20251009T171500
DTSTAMP:20260424T213213
CREATED:20250720T130249Z
LAST-MODIFIED:20260226T220634Z
UID:10002027-1760027400-1760030100@rec2connect.org
SUMMARY:Cardio Drumming
DESCRIPTION:This 45 minute weekly exercise class for teens and adults is led by a Recreation Therapist. Cardio drumming incorporates movement\, stretching\, music\, and rhythm together for an alternative cardiovascular workout. This class focuses on range of motion\, endurance\, strengthening\, flexibility\, coordination and body awareness. \nNOTE:  There is a $5 discount for private pay!
URL:https://rec2connect.org/event/cardio-drumming-18/2025-10-09/
LOCATION:Gemini Center (Fairview)\, 21225 Lorain Rd\, Cleveland\, OH\, 44126\, United States
CATEGORIES:Cardio Drumming
ATTACH;FMTTYPE=image/png:https://rec2connect.org/wp-content/uploads/2025/07/Events_CardioDrum.png
ORGANIZER;CN="Rec2Connect":MAILTO:scheduling@rec2connect.org
END:VEVENT
BEGIN:VEVENT
DTSTART;TZID=America/New_York:20251009T173000
DTEND;TZID=America/New_York:20251009T181500
DTSTAMP:20260424T213213
CREATED:20250720T130302Z
LAST-MODIFIED:20260226T220528Z
UID:10002290-1760031000-1760033700@rec2connect.org
SUMMARY:Pedal Power
DESCRIPTION:Indoor stationary bike riding class that will work on bike riding skills\, balance\, strength\, endurance and motor planning \nNOTE:  There is a $5 discount for private pay!
URL:https://rec2connect.org/event/pedal-power/2025-10-09/
LOCATION:Gemini Center (Fairview)\, 21225 Lorain Rd\, Cleveland\, OH\, 44126\, United States
CATEGORIES:Pedal Power
ATTACH;FMTTYPE=image/png:https://rec2connect.org/wp-content/uploads/2025/07/Events_PedalPower.png
ORGANIZER;CN="Rec2Connect":MAILTO:scheduling@rec2connect.org
END:VEVENT
BEGIN:VEVENT
DTSTART;TZID=America/New_York:20251009T183000
DTEND;TZID=America/New_York:20251009T193000
DTSTAMP:20260424T213213
CREATED:20250720T130303Z
LAST-MODIFIED:20260226T220341Z
UID:10002553-1760034600-1760038200@rec2connect.org
SUMMARY:Fit Friends
DESCRIPTION:Structured full body workouts and social interaction \nNOTE:  There is a $5 discount for private pay!
URL:https://rec2connect.org/event/fit-friends-2/2025-10-09/
LOCATION:Gemini Center (Fairview)\, 21225 Lorain Rd\, Cleveland\, OH\, 44126\, United States
CATEGORIES:Fit Friends
ATTACH;FMTTYPE=image/png:https://rec2connect.org/wp-content/uploads/2025/07/Events_FitFriends.png
ORGANIZER;CN="Rec2Connect":MAILTO:scheduling@rec2connect.org
END:VEVENT
BEGIN:VEVENT
DTSTART;TZID=America/New_York:20251011T090000
DTEND;TZID=America/New_York:20251011T100000
DTSTAMP:20260424T213213
CREATED:20250720T005626Z
LAST-MODIFIED:20260221T023330Z
UID:10003735-1760173200-1760176800@rec2connect.org
SUMMARY:Razorsharks Practice
DESCRIPTION:We work on swim stroke development\, increasing endurance\, and competing with our team \nNOTE: Drop-in or Monthly packages available!  Please inquire at registration.
URL:https://rec2connect.org/event/razorsharks-practice/2025-10-11/
LOCATION:North Olmsted Recreation Center\, 26000 Lorain Rd\, North Olmsted\, OH\, 44070\, United States
CATEGORIES:Razorsharks Swim Team
ATTACH;FMTTYPE=image/png:https://rec2connect.org/wp-content/uploads/2025/07/Events_Razorsharks.png
ORGANIZER;CN="Rec2Connect":MAILTO:scheduling@rec2connect.org
END:VEVENT
BEGIN:VEVENT
DTSTART;TZID=America/New_York:20251011T100000
DTEND;TZID=America/New_York:20251011T104500
DTSTAMP:20260424T213213
CREATED:20250720T005625Z
LAST-MODIFIED:20260226T220144Z
UID:10000569-1760176800-1760179500@rec2connect.org
SUMMARY:Cardio Drumming
DESCRIPTION:This 45 minute weekly exercise class for teens and adults is led by a Recreation Therapist. Cardio drumming incorporates movement\, stretching\, music\, and rhythm together for an alternative cardiovascular workout. This class focuses on range of motion\, endurance\, strengthening\, flexibility\, coordination and body awareness. \nNOTE:  There is a $5 discount for private pay!
URL:https://rec2connect.org/event/cardio-drumming/2025-10-11/
LOCATION:Seven Hills Parks and Rec Center\, 7777 Summit View Dr\, Seven HIlls\, OH\, 44131\, United States
CATEGORIES:Cardio Drumming
ATTACH;FMTTYPE=image/png:https://rec2connect.org/wp-content/uploads/2025/07/CardioDrum_01.png
ORGANIZER;CN="Rec2Connect":MAILTO:scheduling@rec2connect.org
END:VEVENT
END:VCALENDAR