BEGIN:VCALENDAR
VERSION:2.0
PRODID:-//Rec2Connect - ECPv6.15.20//NONSGML v1.0//EN
CALSCALE:GREGORIAN
METHOD:PUBLISH
X-WR-CALNAME:Rec2Connect
X-ORIGINAL-URL:https://rec2connect.org
X-WR-CALDESC:Events for Rec2Connect
REFRESH-INTERVAL;VALUE=DURATION:PT1H
X-Robots-Tag:noindex
X-PUBLISHED-TTL:PT1H
BEGIN:VTIMEZONE
TZID:America/New_York
BEGIN:DAYLIGHT
TZOFFSETFROM:-0500
TZOFFSETTO:-0400
TZNAME:EDT
DTSTART:20240310T070000
END:DAYLIGHT
BEGIN:STANDARD
TZOFFSETFROM:-0400
TZOFFSETTO:-0500
TZNAME:EST
DTSTART:20241103T060000
END:STANDARD
BEGIN:DAYLIGHT
TZOFFSETFROM:-0500
TZOFFSETTO:-0400
TZNAME:EDT
DTSTART:20250309T070000
END:DAYLIGHT
BEGIN:STANDARD
TZOFFSETFROM:-0400
TZOFFSETTO:-0500
TZNAME:EST
DTSTART:20251102T060000
END:STANDARD
BEGIN:DAYLIGHT
TZOFFSETFROM:-0500
TZOFFSETTO:-0400
TZNAME:EDT
DTSTART:20260308T070000
END:DAYLIGHT
BEGIN:STANDARD
TZOFFSETFROM:-0400
TZOFFSETTO:-0500
TZNAME:EST
DTSTART:20261101T060000
END:STANDARD
END:VTIMEZONE
BEGIN:VEVENT
DTSTART;TZID=America/New_York:20251206T150000
DTEND;TZID=America/New_York:20251206T170000
DTSTAMP:20260424T231712
CREATED:20251106T001903Z
LAST-MODIFIED:20251106T001903Z
UID:10008371-1765033200-1765040400@rec2connect.org
SUMMARY:December Adult Social Club Game Night
DESCRIPTION:Adults Ages 18+ have the opportunity to connect with others through table games and board games. \nWear your favorite cozy sweaters\, fun socks\, or snowflakes to embrace the Winter season! \nLight refreshments will be available \nRegistration deadline for new or first-time participants:  Nov. 24 \nRegistration deadline for current participants:  Dec. 2 \nTo enroll\, all participants must have an Ensora account and all forms completed.  Waitlists fill up quickly! \nTo register or create your Ensora account\, email scheduling@rec2connect.org with ‘December ASC Game Night’ as the subject line and the participant’s name in the email. \nThis program is made possible by a grant from the Cuyahoga DD.
URL:https://rec2connect.org/event/december-adult-social-club-game-night/
LOCATION:Rec2Connect Corporate Offices\, 6200 Oak Tree Blvd.\, Independence\, OH\, 44131\, United States
CATEGORIES:Adult Social Club,Social Events
ORGANIZER;CN="Rec2Connect":MAILTO:scheduling@rec2connect.org
END:VEVENT
END:VCALENDAR