BEGIN:VCALENDAR
VERSION:2.0
PRODID:-//Rec2Connect - ECPv6.15.20//NONSGML v1.0//EN
CALSCALE:GREGORIAN
METHOD:PUBLISH
X-WR-CALNAME:Rec2Connect
X-ORIGINAL-URL:https://rec2connect.org
X-WR-CALDESC:Events for Rec2Connect
REFRESH-INTERVAL;VALUE=DURATION:PT1H
X-Robots-Tag:noindex
X-PUBLISHED-TTL:PT1H
BEGIN:VTIMEZONE
TZID:America/New_York
BEGIN:DAYLIGHT
TZOFFSETFROM:-0500
TZOFFSETTO:-0400
TZNAME:EDT
DTSTART:20240310T070000
END:DAYLIGHT
BEGIN:STANDARD
TZOFFSETFROM:-0400
TZOFFSETTO:-0500
TZNAME:EST
DTSTART:20241103T060000
END:STANDARD
BEGIN:DAYLIGHT
TZOFFSETFROM:-0500
TZOFFSETTO:-0400
TZNAME:EDT
DTSTART:20250309T070000
END:DAYLIGHT
BEGIN:STANDARD
TZOFFSETFROM:-0400
TZOFFSETTO:-0500
TZNAME:EST
DTSTART:20251102T060000
END:STANDARD
BEGIN:DAYLIGHT
TZOFFSETFROM:-0500
TZOFFSETTO:-0400
TZNAME:EDT
DTSTART:20260308T070000
END:DAYLIGHT
BEGIN:STANDARD
TZOFFSETFROM:-0400
TZOFFSETTO:-0500
TZNAME:EST
DTSTART:20261101T060000
END:STANDARD
END:VTIMEZONE
BEGIN:VEVENT
DTSTART;TZID=America/New_York:20250701T170000
DTEND;TZID=America/New_York:20250701T190000
DTSTAMP:20260425T062524
CREATED:20250719T054614Z
LAST-MODIFIED:20250722T194612Z
UID:10003591-1751389200-1751396400@rec2connect.org
SUMMARY:Rock Climbing
DESCRIPTION:This is an entry-level course that meets monthly. We learn climbing skills and climbing terms. Building upon and learning new skills weekly to promote socialization\, problem-solving\, physical activity\, and teamwork.
URL:https://rec2connect.org/event/rock-climbing-3/2025-07-01/
LOCATION:Shaker Rocks
CATEGORIES:Rock Climbing
ATTACH;FMTTYPE=image/png:https://rec2connect.org/wp-content/uploads/2025/07/Events_RockClimbing.png
ORGANIZER;CN="Rec2Connect":MAILTO:scheduling@rec2connect.org
END:VEVENT
BEGIN:VEVENT
DTSTART;TZID=America/New_York:20250701T170000
DTEND;TZID=America/New_York:20250701T190000
DTSTAMP:20260425T062524
CREATED:20250720T133513Z
LAST-MODIFIED:20251105T215005Z
UID:10001359-1751389200-1751396400@rec2connect.org
SUMMARY:Rock Climbing - Shaker Rocks
DESCRIPTION:This is an entry-level program designed for individuals ages 7+ that meets every 2 weeks. \nWe learn climbing skills and climbing terms. Building upon and learning new skills weekly to promote socialization\, problem-solving\, physical activity\, and teamwork. \nPre-registration is required at least 48 hours in advance. \nTo enroll\, all participants must have an Ensora account and all forms completed. \nTo register or create your Ensora account\, please email scheduling@rec2connect.org \nEvent cost includes shoes and harness rental.
URL:https://rec2connect.org/event/rock-climbing-6/2025-07-01/
LOCATION:Shaker Rocks
CATEGORIES:Outdoor Programs,Rock Climbing
ATTACH;FMTTYPE=image/png:https://rec2connect.org/wp-content/uploads/2025/07/Events_RockClimbing.png
ORGANIZER;CN="Rec2Connect":MAILTO:scheduling@rec2connect.org
END:VEVENT
END:VCALENDAR