BEGIN:VCALENDAR
VERSION:2.0
PRODID:-//Rec2Connect - ECPv6.15.20//NONSGML v1.0//EN
CALSCALE:GREGORIAN
METHOD:PUBLISH
X-ORIGINAL-URL:https://rec2connect.org
X-WR-CALDESC:Events for Rec2Connect
REFRESH-INTERVAL;VALUE=DURATION:PT1H
X-Robots-Tag:noindex
X-PUBLISHED-TTL:PT1H
BEGIN:VTIMEZONE
TZID:America/New_York
BEGIN:DAYLIGHT
TZOFFSETFROM:-0500
TZOFFSETTO:-0400
TZNAME:EDT
DTSTART:20240310T070000
END:DAYLIGHT
BEGIN:STANDARD
TZOFFSETFROM:-0400
TZOFFSETTO:-0500
TZNAME:EST
DTSTART:20241103T060000
END:STANDARD
BEGIN:DAYLIGHT
TZOFFSETFROM:-0500
TZOFFSETTO:-0400
TZNAME:EDT
DTSTART:20250309T070000
END:DAYLIGHT
BEGIN:STANDARD
TZOFFSETFROM:-0400
TZOFFSETTO:-0500
TZNAME:EST
DTSTART:20251102T060000
END:STANDARD
BEGIN:DAYLIGHT
TZOFFSETFROM:-0500
TZOFFSETTO:-0400
TZNAME:EDT
DTSTART:20260308T070000
END:DAYLIGHT
BEGIN:STANDARD
TZOFFSETFROM:-0400
TZOFFSETTO:-0500
TZNAME:EST
DTSTART:20261101T060000
END:STANDARD
END:VTIMEZONE
BEGIN:VEVENT
DTSTART;TZID=America/New_York:20250828T160000
DTEND;TZID=America/New_York:20250828T170000
DTSTAMP:20260425T073054
CREATED:20250725T170212Z
LAST-MODIFIED:20250725T170732Z
UID:10007602-1756396800-1756400400@rec2connect.org
SUMMARY:Kayaking (Short) Ages 7+
DESCRIPTION:Focusing on entry-level and moderate kayaking skills.  Build upon problem solving and social skills with opportunities to learn more advanced paddle strokes.
URL:https://rec2connect.org/event/kayaking-at-coe-lake-ages-7/2025-08-28/
LOCATION:Coe Lake\, 85 South Rocky River Dr.\, Berea\, OH\, 44017\, United States
CATEGORIES:Kayaking
ORGANIZER;CN="Rec2Connect":MAILTO:scheduling@rec2connect.org
END:VEVENT
BEGIN:VEVENT
DTSTART;TZID=America/New_York:20250828T173000
DTEND;TZID=America/New_York:20250828T190000
DTSTAMP:20260425T073054
CREATED:20250726T131459Z
LAST-MODIFIED:20250726T131459Z
UID:10007641-1756402200-1756407600@rec2connect.org
SUMMARY:Kayaking (Long) Ages 7+
DESCRIPTION:Focusing on entry-level and moderate kayaking skills.  Build upon problem solving and social skills with opportunities to learn more advanced paddle strokes.
URL:https://rec2connect.org/event/kayaking-long-ages-7/2025-08-28/
LOCATION:Coe Lake\, 85 South Rocky River Dr.\, Berea\, OH\, 44017\, United States
CATEGORIES:Kayaking
ORGANIZER;CN="Rec2Connect":MAILTO:scheduling@rec2connect.org
END:VEVENT
END:VCALENDAR