BEGIN:VCALENDAR
VERSION:2.0
PRODID:-//Rec2Connect - ECPv6.15.20//NONSGML v1.0//EN
CALSCALE:GREGORIAN
METHOD:PUBLISH
X-WR-CALNAME:Rec2Connect
X-ORIGINAL-URL:https://rec2connect.org
X-WR-CALDESC:Events for Rec2Connect
REFRESH-INTERVAL;VALUE=DURATION:PT1H
X-Robots-Tag:noindex
X-PUBLISHED-TTL:PT1H
BEGIN:VTIMEZONE
TZID:America/New_York
BEGIN:DAYLIGHT
TZOFFSETFROM:-0500
TZOFFSETTO:-0400
TZNAME:EDT
DTSTART:20250309T070000
END:DAYLIGHT
BEGIN:STANDARD
TZOFFSETFROM:-0400
TZOFFSETTO:-0500
TZNAME:EST
DTSTART:20251102T060000
END:STANDARD
BEGIN:DAYLIGHT
TZOFFSETFROM:-0500
TZOFFSETTO:-0400
TZNAME:EDT
DTSTART:20260308T070000
END:DAYLIGHT
BEGIN:STANDARD
TZOFFSETFROM:-0400
TZOFFSETTO:-0500
TZNAME:EST
DTSTART:20261101T060000
END:STANDARD
BEGIN:DAYLIGHT
TZOFFSETFROM:-0500
TZOFFSETTO:-0400
TZNAME:EDT
DTSTART:20270314T070000
END:DAYLIGHT
BEGIN:STANDARD
TZOFFSETFROM:-0400
TZOFFSETTO:-0500
TZNAME:EST
DTSTART:20271107T060000
END:STANDARD
END:VTIMEZONE
BEGIN:VEVENT
DTSTART;TZID=America/New_York:20260806T133000
DTEND;TZID=America/New_York:20260806T153000
DTSTAMP:20260425T002106
CREATED:20260416T223740Z
LAST-MODIFIED:20260418T172731Z
UID:10009418-1786023000-1786030200@rec2connect.org
SUMMARY:2026 Veteran Kayaking
DESCRIPTION:Focus on entry-level kayaking skills\, safety and lake exploration.\nNo cost for Veterans and Service Members with Disabilities\nThis program is made possible thanks to Move United!\nTo register\, please email vhaclewhcoaches@va.gov or wholehealthcleva@va.gov
URL:https://rec2connect.org/event/2026-veteran-kayaking-3/2026-08-06/
LOCATION:Coe Lake\, 85 South Rocky River Dr.\, Berea\, OH\, 44017\, United States
CATEGORIES:Kayaking,Outdoor Programs
ATTACH;FMTTYPE=image/png:https://rec2connect.org/wp-content/uploads/2025/07/Kayak-2.png
ORGANIZER;CN="Rec2Connect":MAILTO:scheduling@rec2connect.org
END:VEVENT
BEGIN:VEVENT
DTSTART;TZID=America/New_York:20260806T160000
DTEND;TZID=America/New_York:20260806T170000
DTSTAMP:20260425T002106
CREATED:20260311T172557Z
LAST-MODIFIED:20260311T172824Z
UID:10009326-1786032000-1786035600@rec2connect.org
SUMMARY:2026 Adapted Kayaking (Short)
DESCRIPTION:Focusing on entry-level and moderate kayaking skills.  Build upon problem solving and social skills with opportunities to learn more advanced paddle strokes.\nLimited to 5 sessions per participant.  Waitlist available.\n$5 Discount with private pay.\nPre-registration is required at least 24 hours in advance.\nTo Enroll\, all participants must have an Ensora account and all forms completed.\nTo register\, please email scheduling@rec2connect.org
URL:https://rec2connect.org/event/2026-adapted-kayaking-short/2026-08-06/
LOCATION:Coe Lake\, 85 South Rocky River Dr.\, Berea\, OH\, 44017\, United States
CATEGORIES:Kayaking,Outdoor Programs
ATTACH;FMTTYPE=image/png:https://rec2connect.org/wp-content/uploads/2025/07/Kayak-2.png
ORGANIZER;CN="Rec2Connect":MAILTO:scheduling@rec2connect.org
END:VEVENT
BEGIN:VEVENT
DTSTART;TZID=America/New_York:20260806T173000
DTEND;TZID=America/New_York:20260806T190000
DTSTAMP:20260425T002106
CREATED:20260311T172708Z
LAST-MODIFIED:20260311T172708Z
UID:10009335-1786037400-1786042800@rec2connect.org
SUMMARY:2026 Adapted Kayaking (Long)
DESCRIPTION:Focusing on entry-level and moderate kayaking skills.  Build upon problem solving and social skills with opportunities to learn more advanced paddle strokes.\nLimited to 5 sessions per participant.  Waitlist available.\n$5 Discount with private pay.\nPre-registration is required at least 24 hours in advance.\nTo Enroll\, all participants must have an Ensora account and all forms completed.\nTo register\, please email scheduling@rec2connect.org
URL:https://rec2connect.org/event/2026-adapted-kayaking-long/2026-08-06/
LOCATION:Coe Lake\, 85 South Rocky River Dr.\, Berea\, OH\, 44017\, United States
CATEGORIES:Kayaking,Outdoor Programs
ATTACH;FMTTYPE=image/png:https://rec2connect.org/wp-content/uploads/2025/07/Kayak-2.png
ORGANIZER;CN="Rec2Connect":MAILTO:scheduling@rec2connect.org
END:VEVENT
BEGIN:VEVENT
DTSTART;TZID=America/New_York:20260808T100000
DTEND;TZID=America/New_York:20260808T113000
DTSTAMP:20260425T002106
CREATED:20260416T202345Z
LAST-MODIFIED:20260416T202345Z
UID:10009358-1786183200-1786188600@rec2connect.org
SUMMARY:2026 Adapted Kayaking (Long)
DESCRIPTION:Focusing on entry-level and moderate kayaking skills.  Build upon problem solving and social skills with opportunities to learn more advanced paddle strokes.\nLimited to 5 sessions per participant.  Waitlist available.\n$5 Discount with private pay.\nPre-registration is required at least 24 hours in advance.\nTo Enroll\, all participants must have an Ensora account and all forms completed.\nTo register\, please email scheduling@rec2connect.org
URL:https://rec2connect.org/event/2026-adapted-kayaking-long-4/
LOCATION:Punderson State Park\, 11755 Kinsman Rd.\, Newbury Township\, OH\, 44065\, United States
CATEGORIES:Kayaking,Outdoor Programs
ATTACH;FMTTYPE=image/png:https://rec2connect.org/wp-content/uploads/2025/07/Kayak-2.png
ORGANIZER;CN="Rec2Connect":MAILTO:scheduling@rec2connect.org
END:VEVENT
BEGIN:VEVENT
DTSTART;TZID=America/New_York:20260808T120000
DTEND;TZID=America/New_York:20260808T133000
DTSTAMP:20260425T002106
CREATED:20260416T202517Z
LAST-MODIFIED:20260416T202517Z
UID:10009359-1786190400-1786195800@rec2connect.org
SUMMARY:2026 Adapted Kayaking (Long)
DESCRIPTION:Focusing on entry-level and moderate kayaking skills.  Build upon problem solving and social skills with opportunities to learn more advanced paddle strokes.\nLimited to 5 sessions per participant.  Waitlist available.\n$5 Discount with private pay.\nPre-registration is required at least 24 hours in advance.\nTo Enroll\, all participants must have an Ensora account and all forms completed.\nTo register\, please email scheduling@rec2connect.org
URL:https://rec2connect.org/event/2026-adapted-kayaking-long-5/
LOCATION:Punderson State Park\, 11755 Kinsman Rd.\, Newbury Township\, OH\, 44065\, United States
CATEGORIES:Kayaking,Outdoor Programs
ATTACH;FMTTYPE=image/png:https://rec2connect.org/wp-content/uploads/2025/07/Kayak-2.png
ORGANIZER;CN="Rec2Connect":MAILTO:scheduling@rec2connect.org
END:VEVENT
BEGIN:VEVENT
DTSTART;TZID=America/New_York:20260813T133000
DTEND;TZID=America/New_York:20260813T153000
DTSTAMP:20260425T002106
CREATED:20260416T223740Z
LAST-MODIFIED:20260418T172731Z
UID:10009419-1786627800-1786635000@rec2connect.org
SUMMARY:2026 Veteran Kayaking
DESCRIPTION:Focus on entry-level kayaking skills\, safety and lake exploration.\nNo cost for Veterans and Service Members with Disabilities\nThis program is made possible thanks to Move United!\nTo register\, please email vhaclewhcoaches@va.gov or wholehealthcleva@va.gov
URL:https://rec2connect.org/event/2026-veteran-kayaking-3/2026-08-13/
LOCATION:Coe Lake\, 85 South Rocky River Dr.\, Berea\, OH\, 44017\, United States
CATEGORIES:Kayaking,Outdoor Programs
ATTACH;FMTTYPE=image/png:https://rec2connect.org/wp-content/uploads/2025/07/Kayak-2.png
ORGANIZER;CN="Rec2Connect":MAILTO:scheduling@rec2connect.org
END:VEVENT
BEGIN:VEVENT
DTSTART;TZID=America/New_York:20260813T160000
DTEND;TZID=America/New_York:20260813T170000
DTSTAMP:20260425T002106
CREATED:20260311T172557Z
LAST-MODIFIED:20260311T172824Z
UID:10009327-1786636800-1786640400@rec2connect.org
SUMMARY:2026 Adapted Kayaking (Short)
DESCRIPTION:Focusing on entry-level and moderate kayaking skills.  Build upon problem solving and social skills with opportunities to learn more advanced paddle strokes.\nLimited to 5 sessions per participant.  Waitlist available.\n$5 Discount with private pay.\nPre-registration is required at least 24 hours in advance.\nTo Enroll\, all participants must have an Ensora account and all forms completed.\nTo register\, please email scheduling@rec2connect.org
URL:https://rec2connect.org/event/2026-adapted-kayaking-short/2026-08-13/
LOCATION:Coe Lake\, 85 South Rocky River Dr.\, Berea\, OH\, 44017\, United States
CATEGORIES:Kayaking,Outdoor Programs
ATTACH;FMTTYPE=image/png:https://rec2connect.org/wp-content/uploads/2025/07/Kayak-2.png
ORGANIZER;CN="Rec2Connect":MAILTO:scheduling@rec2connect.org
END:VEVENT
BEGIN:VEVENT
DTSTART;TZID=America/New_York:20260813T173000
DTEND;TZID=America/New_York:20260813T190000
DTSTAMP:20260425T002106
CREATED:20260311T172708Z
LAST-MODIFIED:20260311T172708Z
UID:10009336-1786642200-1786647600@rec2connect.org
SUMMARY:2026 Adapted Kayaking (Long)
DESCRIPTION:Focusing on entry-level and moderate kayaking skills.  Build upon problem solving and social skills with opportunities to learn more advanced paddle strokes.\nLimited to 5 sessions per participant.  Waitlist available.\n$5 Discount with private pay.\nPre-registration is required at least 24 hours in advance.\nTo Enroll\, all participants must have an Ensora account and all forms completed.\nTo register\, please email scheduling@rec2connect.org
URL:https://rec2connect.org/event/2026-adapted-kayaking-long/2026-08-13/
LOCATION:Coe Lake\, 85 South Rocky River Dr.\, Berea\, OH\, 44017\, United States
CATEGORIES:Kayaking,Outdoor Programs
ATTACH;FMTTYPE=image/png:https://rec2connect.org/wp-content/uploads/2025/07/Kayak-2.png
ORGANIZER;CN="Rec2Connect":MAILTO:scheduling@rec2connect.org
END:VEVENT
BEGIN:VEVENT
DTSTART;TZID=America/New_York:20260814T184500
DTEND;TZID=America/New_York:20260814T204500
DTSTAMP:20260425T002106
CREATED:20260418T172221Z
LAST-MODIFIED:20260418T172548Z
UID:10009424-1786733100-1786740300@rec2connect.org
SUMMARY:2026 Veteran Kayaking
DESCRIPTION:Focus on entry-level kayaking skills\, safety and lake exploration.\nNo cost for Veterans and Service Members with Disabilities\nThis program is made possible thanks to Move United!\nTo register\, please email vhaclewhcoaches@va.gov or wholehealthcleva@va.gov
URL:https://rec2connect.org/event/2026-veteran-kayaking-5/
LOCATION:Coe Lake\, 85 South Rocky River Dr.\, Berea\, OH\, 44017\, United States
CATEGORIES:Kayaking,Outdoor Programs
ATTACH;FMTTYPE=image/png:https://rec2connect.org/wp-content/uploads/2025/07/Kayak-2.png
ORGANIZER;CN="Rec2Connect":MAILTO:scheduling@rec2connect.org
END:VEVENT
BEGIN:VEVENT
DTSTART;TZID=America/New_York:20260820T133000
DTEND;TZID=America/New_York:20260820T153000
DTSTAMP:20260425T002106
CREATED:20260416T223740Z
LAST-MODIFIED:20260418T172731Z
UID:10009420-1787232600-1787239800@rec2connect.org
SUMMARY:2026 Veteran Kayaking
DESCRIPTION:Focus on entry-level kayaking skills\, safety and lake exploration.\nNo cost for Veterans and Service Members with Disabilities\nThis program is made possible thanks to Move United!\nTo register\, please email vhaclewhcoaches@va.gov or wholehealthcleva@va.gov
URL:https://rec2connect.org/event/2026-veteran-kayaking-3/2026-08-20/
LOCATION:Coe Lake\, 85 South Rocky River Dr.\, Berea\, OH\, 44017\, United States
CATEGORIES:Kayaking,Outdoor Programs
ATTACH;FMTTYPE=image/png:https://rec2connect.org/wp-content/uploads/2025/07/Kayak-2.png
ORGANIZER;CN="Rec2Connect":MAILTO:scheduling@rec2connect.org
END:VEVENT
BEGIN:VEVENT
DTSTART;TZID=America/New_York:20260820T160000
DTEND;TZID=America/New_York:20260820T170000
DTSTAMP:20260425T002106
CREATED:20260311T172557Z
LAST-MODIFIED:20260311T172824Z
UID:10009328-1787241600-1787245200@rec2connect.org
SUMMARY:2026 Adapted Kayaking (Short)
DESCRIPTION:Focusing on entry-level and moderate kayaking skills.  Build upon problem solving and social skills with opportunities to learn more advanced paddle strokes.\nLimited to 5 sessions per participant.  Waitlist available.\n$5 Discount with private pay.\nPre-registration is required at least 24 hours in advance.\nTo Enroll\, all participants must have an Ensora account and all forms completed.\nTo register\, please email scheduling@rec2connect.org
URL:https://rec2connect.org/event/2026-adapted-kayaking-short/2026-08-20/
LOCATION:Coe Lake\, 85 South Rocky River Dr.\, Berea\, OH\, 44017\, United States
CATEGORIES:Kayaking,Outdoor Programs
ATTACH;FMTTYPE=image/png:https://rec2connect.org/wp-content/uploads/2025/07/Kayak-2.png
ORGANIZER;CN="Rec2Connect":MAILTO:scheduling@rec2connect.org
END:VEVENT
BEGIN:VEVENT
DTSTART;TZID=America/New_York:20260820T173000
DTEND;TZID=America/New_York:20260820T190000
DTSTAMP:20260425T002106
CREATED:20260311T172708Z
LAST-MODIFIED:20260311T172708Z
UID:10009337-1787247000-1787252400@rec2connect.org
SUMMARY:2026 Adapted Kayaking (Long)
DESCRIPTION:Focusing on entry-level and moderate kayaking skills.  Build upon problem solving and social skills with opportunities to learn more advanced paddle strokes.\nLimited to 5 sessions per participant.  Waitlist available.\n$5 Discount with private pay.\nPre-registration is required at least 24 hours in advance.\nTo Enroll\, all participants must have an Ensora account and all forms completed.\nTo register\, please email scheduling@rec2connect.org
URL:https://rec2connect.org/event/2026-adapted-kayaking-long/2026-08-20/
LOCATION:Coe Lake\, 85 South Rocky River Dr.\, Berea\, OH\, 44017\, United States
CATEGORIES:Kayaking,Outdoor Programs
ATTACH;FMTTYPE=image/png:https://rec2connect.org/wp-content/uploads/2025/07/Kayak-2.png
ORGANIZER;CN="Rec2Connect":MAILTO:scheduling@rec2connect.org
END:VEVENT
BEGIN:VEVENT
DTSTART;TZID=America/New_York:20260822T100000
DTEND;TZID=America/New_York:20260822T120000
DTSTAMP:20260425T002106
CREATED:20260304T190620Z
LAST-MODIFIED:20260415T183918Z
UID:10009271-1787392800-1787400000@rec2connect.org
SUMMARY:2026 Family Kayak Program
DESCRIPTION:This is a beginner-level kayak program for families looking to learn more about kayaking.  Focus on entry-level kayaking skills\, safety and lake exploration.\nAt least one caregiver must attend per family.\nPre-registration is required at least 24 hours in advance.  To enroll\, all participants must have an Ensora account and all forms completed.\nTo register\, please email scheduling@rec2connect.org.
URL:https://rec2connect.org/event/2026-family-kayak-program-3/
LOCATION:West Branch State Park\, 5570 Esworthy Rd.\, Ravenna\, OH\, 44266\, United States
CATEGORIES:Kayaking,Outdoor Programs
ATTACH;FMTTYPE=image/png:https://rec2connect.org/wp-content/uploads/2025/07/Kayak-2.png
ORGANIZER;CN="Rec2Connect":MAILTO:scheduling@rec2connect.org
END:VEVENT
BEGIN:VEVENT
DTSTART;TZID=America/New_York:20260827T133000
DTEND;TZID=America/New_York:20260827T153000
DTSTAMP:20260425T002106
CREATED:20260416T223740Z
LAST-MODIFIED:20260418T172731Z
UID:10009421-1787837400-1787844600@rec2connect.org
SUMMARY:2026 Veteran Kayaking
DESCRIPTION:Focus on entry-level kayaking skills\, safety and lake exploration.\nNo cost for Veterans and Service Members with Disabilities\nThis program is made possible thanks to Move United!\nTo register\, please email vhaclewhcoaches@va.gov or wholehealthcleva@va.gov
URL:https://rec2connect.org/event/2026-veteran-kayaking-3/2026-08-27/
LOCATION:Coe Lake\, 85 South Rocky River Dr.\, Berea\, OH\, 44017\, United States
CATEGORIES:Kayaking,Outdoor Programs
ATTACH;FMTTYPE=image/png:https://rec2connect.org/wp-content/uploads/2025/07/Kayak-2.png
ORGANIZER;CN="Rec2Connect":MAILTO:scheduling@rec2connect.org
END:VEVENT
BEGIN:VEVENT
DTSTART;TZID=America/New_York:20260827T160000
DTEND;TZID=America/New_York:20260827T170000
DTSTAMP:20260425T002106
CREATED:20260311T172557Z
LAST-MODIFIED:20260311T172824Z
UID:10009329-1787846400-1787850000@rec2connect.org
SUMMARY:2026 Adapted Kayaking (Short)
DESCRIPTION:Focusing on entry-level and moderate kayaking skills.  Build upon problem solving and social skills with opportunities to learn more advanced paddle strokes.\nLimited to 5 sessions per participant.  Waitlist available.\n$5 Discount with private pay.\nPre-registration is required at least 24 hours in advance.\nTo Enroll\, all participants must have an Ensora account and all forms completed.\nTo register\, please email scheduling@rec2connect.org
URL:https://rec2connect.org/event/2026-adapted-kayaking-short/2026-08-27/
LOCATION:Coe Lake\, 85 South Rocky River Dr.\, Berea\, OH\, 44017\, United States
CATEGORIES:Kayaking,Outdoor Programs
ATTACH;FMTTYPE=image/png:https://rec2connect.org/wp-content/uploads/2025/07/Kayak-2.png
ORGANIZER;CN="Rec2Connect":MAILTO:scheduling@rec2connect.org
END:VEVENT
BEGIN:VEVENT
DTSTART;TZID=America/New_York:20260827T173000
DTEND;TZID=America/New_York:20260827T190000
DTSTAMP:20260425T002106
CREATED:20260311T172708Z
LAST-MODIFIED:20260311T172708Z
UID:10009338-1787851800-1787857200@rec2connect.org
SUMMARY:2026 Adapted Kayaking (Long)
DESCRIPTION:Focusing on entry-level and moderate kayaking skills.  Build upon problem solving and social skills with opportunities to learn more advanced paddle strokes.\nLimited to 5 sessions per participant.  Waitlist available.\n$5 Discount with private pay.\nPre-registration is required at least 24 hours in advance.\nTo Enroll\, all participants must have an Ensora account and all forms completed.\nTo register\, please email scheduling@rec2connect.org
URL:https://rec2connect.org/event/2026-adapted-kayaking-long/2026-08-27/
LOCATION:Coe Lake\, 85 South Rocky River Dr.\, Berea\, OH\, 44017\, United States
CATEGORIES:Kayaking,Outdoor Programs
ATTACH;FMTTYPE=image/png:https://rec2connect.org/wp-content/uploads/2025/07/Kayak-2.png
ORGANIZER;CN="Rec2Connect":MAILTO:scheduling@rec2connect.org
END:VEVENT
END:VCALENDAR