BEGIN:VCALENDAR
VERSION:2.0
PRODID:-//Rec2Connect - ECPv6.15.20//NONSGML v1.0//EN
CALSCALE:GREGORIAN
METHOD:PUBLISH
X-WR-CALNAME:Rec2Connect
X-ORIGINAL-URL:https://rec2connect.org
X-WR-CALDESC:Events for Rec2Connect
REFRESH-INTERVAL;VALUE=DURATION:PT1H
X-Robots-Tag:noindex
X-PUBLISHED-TTL:PT1H
BEGIN:VTIMEZONE
TZID:America/New_York
BEGIN:DAYLIGHT
TZOFFSETFROM:-0500
TZOFFSETTO:-0400
TZNAME:EDT
DTSTART:20240310T070000
END:DAYLIGHT
BEGIN:STANDARD
TZOFFSETFROM:-0400
TZOFFSETTO:-0500
TZNAME:EST
DTSTART:20241103T060000
END:STANDARD
BEGIN:DAYLIGHT
TZOFFSETFROM:-0500
TZOFFSETTO:-0400
TZNAME:EDT
DTSTART:20250309T070000
END:DAYLIGHT
BEGIN:STANDARD
TZOFFSETFROM:-0400
TZOFFSETTO:-0500
TZNAME:EST
DTSTART:20251102T060000
END:STANDARD
BEGIN:DAYLIGHT
TZOFFSETFROM:-0500
TZOFFSETTO:-0400
TZNAME:EDT
DTSTART:20260308T070000
END:DAYLIGHT
BEGIN:STANDARD
TZOFFSETFROM:-0400
TZOFFSETTO:-0500
TZNAME:EST
DTSTART:20261101T060000
END:STANDARD
END:VTIMEZONE
BEGIN:VEVENT
DTSTART;TZID=America/New_York:20250903T171500
DTEND;TZID=America/New_York:20250903T181500
DTSTAMP:20260425T073030
CREATED:20250720T130249Z
LAST-MODIFIED:20260219T202327Z
UID:10007740-1756919700-1756923300@rec2connect.org
SUMMARY:West Hiking Club Ages 13+
DESCRIPTION:
URL:https://rec2connect.org/event/west-hiking-club-ages-13/2025-09-03/
LOCATION:Metroparks\, TBD\, Cleveland\, OH\, United States
CATEGORIES:Hiking
ATTACH;FMTTYPE=image/png:https://rec2connect.org/wp-content/uploads/2025/07/Events_HikingClub.png
ORGANIZER;CN="Rec2Connect":MAILTO:scheduling@rec2connect.org
END:VEVENT
BEGIN:VEVENT
DTSTART;TZID=America/New_York:20250907T150000
DTEND;TZID=America/New_York:20250907T160000
DTSTAMP:20260425T073030
CREATED:20250720T130218Z
LAST-MODIFIED:20251010T172036Z
UID:10005040-1757257200-1757260800@rec2connect.org
SUMMARY:East Hiking Club Ages 13+
DESCRIPTION:
URL:https://rec2connect.org/event/east-hiking-club-ages-13/2025-09-07/
LOCATION:Metroparks\, TBD\, Cleveland\, OH\, United States
CATEGORIES:Hiking
ATTACH;FMTTYPE=image/png:https://rec2connect.org/wp-content/uploads/2025/07/Events_HikingClub.png
ORGANIZER;CN="Rec2Connect":MAILTO:scheduling@rec2connect.org
END:VEVENT
BEGIN:VEVENT
DTSTART;TZID=America/New_York:20250907T161500
DTEND;TZID=America/New_York:20250907T171500
DTSTAMP:20260425T073030
CREATED:20250720T130232Z
LAST-MODIFIED:20251010T171606Z
UID:10005960-1757261700-1757265300@rec2connect.org
SUMMARY:East Hiking Club Ages 7-12
DESCRIPTION:
URL:https://rec2connect.org/event/east-hiking-club-ages-7-12/2025-09-07/
LOCATION:Metroparks\, TBD\, Cleveland\, OH\, United States
CATEGORIES:Hiking
ATTACH;FMTTYPE=image/png:https://rec2connect.org/wp-content/uploads/2025/07/Events_HikingClub.png
ORGANIZER;CN="Rec2Connect":MAILTO:scheduling@rec2connect.org
END:VEVENT
BEGIN:VEVENT
DTSTART;TZID=America/New_York:20250910T171500
DTEND;TZID=America/New_York:20250910T181500
DTSTAMP:20260425T073030
CREATED:20250720T130249Z
LAST-MODIFIED:20260219T202327Z
UID:10007741-1757524500-1757528100@rec2connect.org
SUMMARY:West Hiking Club Ages 13+
DESCRIPTION:
URL:https://rec2connect.org/event/west-hiking-club-ages-13/2025-09-10/
LOCATION:Metroparks\, TBD\, Cleveland\, OH\, United States
CATEGORIES:Hiking
ATTACH;FMTTYPE=image/png:https://rec2connect.org/wp-content/uploads/2025/07/Events_HikingClub.png
ORGANIZER;CN="Rec2Connect":MAILTO:scheduling@rec2connect.org
END:VEVENT
BEGIN:VEVENT
DTSTART;TZID=America/New_York:20250914T150000
DTEND;TZID=America/New_York:20250914T160000
DTSTAMP:20260425T073030
CREATED:20250720T130218Z
LAST-MODIFIED:20251010T172036Z
UID:10005041-1757862000-1757865600@rec2connect.org
SUMMARY:East Hiking Club Ages 13+
DESCRIPTION:
URL:https://rec2connect.org/event/east-hiking-club-ages-13/2025-09-14/
LOCATION:Metroparks\, TBD\, Cleveland\, OH\, United States
CATEGORIES:Hiking
ATTACH;FMTTYPE=image/png:https://rec2connect.org/wp-content/uploads/2025/07/Events_HikingClub.png
ORGANIZER;CN="Rec2Connect":MAILTO:scheduling@rec2connect.org
END:VEVENT
BEGIN:VEVENT
DTSTART;TZID=America/New_York:20250914T161500
DTEND;TZID=America/New_York:20250914T171500
DTSTAMP:20260425T073030
CREATED:20250720T130232Z
LAST-MODIFIED:20251010T171606Z
UID:10005961-1757866500-1757870100@rec2connect.org
SUMMARY:East Hiking Club Ages 7-12
DESCRIPTION:
URL:https://rec2connect.org/event/east-hiking-club-ages-7-12/2025-09-14/
LOCATION:Metroparks\, TBD\, Cleveland\, OH\, United States
CATEGORIES:Hiking
ATTACH;FMTTYPE=image/png:https://rec2connect.org/wp-content/uploads/2025/07/Events_HikingClub.png
ORGANIZER;CN="Rec2Connect":MAILTO:scheduling@rec2connect.org
END:VEVENT
BEGIN:VEVENT
DTSTART;TZID=America/New_York:20250917T171500
DTEND;TZID=America/New_York:20250917T181500
DTSTAMP:20260425T073030
CREATED:20250720T130249Z
LAST-MODIFIED:20260219T202327Z
UID:10007742-1758129300-1758132900@rec2connect.org
SUMMARY:West Hiking Club Ages 13+
DESCRIPTION:
URL:https://rec2connect.org/event/west-hiking-club-ages-13/2025-09-17/
LOCATION:Metroparks\, TBD\, Cleveland\, OH\, United States
CATEGORIES:Hiking
ATTACH;FMTTYPE=image/png:https://rec2connect.org/wp-content/uploads/2025/07/Events_HikingClub.png
ORGANIZER;CN="Rec2Connect":MAILTO:scheduling@rec2connect.org
END:VEVENT
BEGIN:VEVENT
DTSTART;TZID=America/New_York:20250921T150000
DTEND;TZID=America/New_York:20250921T160000
DTSTAMP:20260425T073030
CREATED:20250720T130218Z
LAST-MODIFIED:20251010T172036Z
UID:10005042-1758466800-1758470400@rec2connect.org
SUMMARY:East Hiking Club Ages 13+
DESCRIPTION:
URL:https://rec2connect.org/event/east-hiking-club-ages-13/2025-09-21/
LOCATION:Metroparks\, TBD\, Cleveland\, OH\, United States
CATEGORIES:Hiking
ATTACH;FMTTYPE=image/png:https://rec2connect.org/wp-content/uploads/2025/07/Events_HikingClub.png
ORGANIZER;CN="Rec2Connect":MAILTO:scheduling@rec2connect.org
END:VEVENT
BEGIN:VEVENT
DTSTART;TZID=America/New_York:20250921T161500
DTEND;TZID=America/New_York:20250921T171500
DTSTAMP:20260425T073030
CREATED:20250720T130232Z
LAST-MODIFIED:20251010T171606Z
UID:10005962-1758471300-1758474900@rec2connect.org
SUMMARY:East Hiking Club Ages 7-12
DESCRIPTION:
URL:https://rec2connect.org/event/east-hiking-club-ages-7-12/2025-09-21/
LOCATION:Metroparks\, TBD\, Cleveland\, OH\, United States
CATEGORIES:Hiking
ATTACH;FMTTYPE=image/png:https://rec2connect.org/wp-content/uploads/2025/07/Events_HikingClub.png
ORGANIZER;CN="Rec2Connect":MAILTO:scheduling@rec2connect.org
END:VEVENT
BEGIN:VEVENT
DTSTART;TZID=America/New_York:20250924T171500
DTEND;TZID=America/New_York:20250924T181500
DTSTAMP:20260425T073030
CREATED:20250720T130249Z
LAST-MODIFIED:20260219T202327Z
UID:10007743-1758734100-1758737700@rec2connect.org
SUMMARY:West Hiking Club Ages 13+
DESCRIPTION:
URL:https://rec2connect.org/event/west-hiking-club-ages-13/2025-09-24/
LOCATION:Metroparks\, TBD\, Cleveland\, OH\, United States
CATEGORIES:Hiking
ATTACH;FMTTYPE=image/png:https://rec2connect.org/wp-content/uploads/2025/07/Events_HikingClub.png
ORGANIZER;CN="Rec2Connect":MAILTO:scheduling@rec2connect.org
END:VEVENT
BEGIN:VEVENT
DTSTART;TZID=America/New_York:20250928T150000
DTEND;TZID=America/New_York:20250928T160000
DTSTAMP:20260425T073030
CREATED:20250720T130218Z
LAST-MODIFIED:20251010T172036Z
UID:10005043-1759071600-1759075200@rec2connect.org
SUMMARY:East Hiking Club Ages 13+
DESCRIPTION:
URL:https://rec2connect.org/event/east-hiking-club-ages-13/2025-09-28/
LOCATION:Metroparks\, TBD\, Cleveland\, OH\, United States
CATEGORIES:Hiking
ATTACH;FMTTYPE=image/png:https://rec2connect.org/wp-content/uploads/2025/07/Events_HikingClub.png
ORGANIZER;CN="Rec2Connect":MAILTO:scheduling@rec2connect.org
END:VEVENT
BEGIN:VEVENT
DTSTART;TZID=America/New_York:20250928T161500
DTEND;TZID=America/New_York:20250928T171500
DTSTAMP:20260425T073030
CREATED:20250720T130232Z
LAST-MODIFIED:20251010T171606Z
UID:10005963-1759076100-1759079700@rec2connect.org
SUMMARY:East Hiking Club Ages 7-12
DESCRIPTION:
URL:https://rec2connect.org/event/east-hiking-club-ages-7-12/2025-09-28/
LOCATION:Metroparks\, TBD\, Cleveland\, OH\, United States
CATEGORIES:Hiking
ATTACH;FMTTYPE=image/png:https://rec2connect.org/wp-content/uploads/2025/07/Events_HikingClub.png
ORGANIZER;CN="Rec2Connect":MAILTO:scheduling@rec2connect.org
END:VEVENT
END:VCALENDAR