BEGIN:VCALENDAR
VERSION:2.0
PRODID:-//Rec2Connect - ECPv6.15.20//NONSGML v1.0//EN
CALSCALE:GREGORIAN
METHOD:PUBLISH
X-ORIGINAL-URL:https://rec2connect.org
X-WR-CALDESC:Events for Rec2Connect
REFRESH-INTERVAL;VALUE=DURATION:PT1H
X-Robots-Tag:noindex
X-PUBLISHED-TTL:PT1H
BEGIN:VTIMEZONE
TZID:America/New_York
BEGIN:DAYLIGHT
TZOFFSETFROM:-0500
TZOFFSETTO:-0400
TZNAME:EDT
DTSTART:20250309T070000
END:DAYLIGHT
BEGIN:STANDARD
TZOFFSETFROM:-0400
TZOFFSETTO:-0500
TZNAME:EST
DTSTART:20251102T060000
END:STANDARD
BEGIN:DAYLIGHT
TZOFFSETFROM:-0500
TZOFFSETTO:-0400
TZNAME:EDT
DTSTART:20260308T070000
END:DAYLIGHT
BEGIN:STANDARD
TZOFFSETFROM:-0400
TZOFFSETTO:-0500
TZNAME:EST
DTSTART:20261101T060000
END:STANDARD
BEGIN:DAYLIGHT
TZOFFSETFROM:-0500
TZOFFSETTO:-0400
TZNAME:EDT
DTSTART:20270314T070000
END:DAYLIGHT
BEGIN:STANDARD
TZOFFSETFROM:-0400
TZOFFSETTO:-0500
TZNAME:EST
DTSTART:20271107T060000
END:STANDARD
END:VTIMEZONE
BEGIN:VEVENT
DTSTART;TZID=America/New_York:20261003T100000
DTEND;TZID=America/New_York:20261003T110000
DTSTAMP:20260424T235241
CREATED:20260305T221439Z
LAST-MODIFIED:20260305T221439Z
UID:10009288-1791021600-1791025200@rec2connect.org
SUMMARY:Free Hiking Club
DESCRIPTION:Families and participants are invited meet up and move through the Cleveland Metroparks\, exploring trails and making meaningful connections along the way!\nTypically an ‘out and back’ hike\, Hiking Club meets for an hour and is designed to meet the needs of all ability levels!\nQuestions about Hiking Club?  Contact scheduling@rec2connect.org for more information.\nOptional attendance for parents / caregivers.\nLocations include West Creek Metropark\, Acacia Reservation\, Coe Lake\, Rocky River\, Punderson\, Brecksville Reservation\, West Branch\, Wallace Lake\, Hinckley Reservation\, Big Creek Reservation\, Astorhurst Park\, Huntington Beach\nHikes will begin at a predetermined location\, communicated to all families registered before the day of!\nTo enroll\, all participants must have an Ensora account and all forms completed.\nTo register or create your Ensora account\, contact scheduling@rec2connect.org
URL:https://rec2connect.org/event/free-hiking-club/2026-10-03/
LOCATION:OH
CATEGORIES:Hiking,Outdoor Programs
ATTACH;FMTTYPE=image/png:https://rec2connect.org/wp-content/uploads/2025/07/Events_HikingClub.png
ORGANIZER;CN="Rec2Connect":MAILTO:scheduling@rec2connect.org
END:VEVENT
BEGIN:VEVENT
DTSTART;TZID=America/New_York:20261003T100000
DTEND;TZID=America/New_York:20261003T110000
DTSTAMP:20260424T235241
CREATED:20260416T215142Z
LAST-MODIFIED:20260416T215142Z
UID:10009406-1791021600-1791025200@rec2connect.org
SUMMARY:Free Hiking Club
DESCRIPTION:Family and participants are invited to meet up and move through the Cleveland Metroparks\, exploring trails and making meaningful connections along the way!\nTypically an ‘out and back’ hike\nHiking Club meets for an hour and is designed to meet the needs of all ability levels!\nOptional attendance for parents/caregivers\nTo enroll\, all participants must have an Ensora account and all forms completed.
URL:https://rec2connect.org/event/free-hiking-club-15/
LOCATION:Astorhurst Pond at Bedford Reservation\, 6980 Dunham Rd.\, Bedford\, OH\, 44146\, United States
CATEGORIES:Hiking,Outdoor Programs
ATTACH;FMTTYPE=image/png:https://rec2connect.org/wp-content/uploads/2025/07/Events_HikingClub.png
ORGANIZER;CN="Rec2Connect":MAILTO:scheduling@rec2connect.org
END:VEVENT
BEGIN:VEVENT
DTSTART;TZID=America/New_York:20261010T100000
DTEND;TZID=America/New_York:20261010T110000
DTSTAMP:20260424T235241
CREATED:20260305T221439Z
LAST-MODIFIED:20260305T221439Z
UID:10009289-1791626400-1791630000@rec2connect.org
SUMMARY:Free Hiking Club
DESCRIPTION:Families and participants are invited meet up and move through the Cleveland Metroparks\, exploring trails and making meaningful connections along the way!\nTypically an ‘out and back’ hike\, Hiking Club meets for an hour and is designed to meet the needs of all ability levels!\nQuestions about Hiking Club?  Contact scheduling@rec2connect.org for more information.\nOptional attendance for parents / caregivers.\nLocations include West Creek Metropark\, Acacia Reservation\, Coe Lake\, Rocky River\, Punderson\, Brecksville Reservation\, West Branch\, Wallace Lake\, Hinckley Reservation\, Big Creek Reservation\, Astorhurst Park\, Huntington Beach\nHikes will begin at a predetermined location\, communicated to all families registered before the day of!\nTo enroll\, all participants must have an Ensora account and all forms completed.\nTo register or create your Ensora account\, contact scheduling@rec2connect.org
URL:https://rec2connect.org/event/free-hiking-club/2026-10-10/
LOCATION:OH
CATEGORIES:Hiking,Outdoor Programs
ATTACH;FMTTYPE=image/png:https://rec2connect.org/wp-content/uploads/2025/07/Events_HikingClub.png
ORGANIZER;CN="Rec2Connect":MAILTO:scheduling@rec2connect.org
END:VEVENT
BEGIN:VEVENT
DTSTART;TZID=America/New_York:20261010T100000
DTEND;TZID=America/New_York:20261010T110000
DTSTAMP:20260424T235241
CREATED:20260416T215248Z
LAST-MODIFIED:20260416T215248Z
UID:10009407-1791626400-1791630000@rec2connect.org
SUMMARY:Free Hiking Club
DESCRIPTION:Family and participants are invited to meet up and move through the Cleveland Metroparks\, exploring trails and making meaningful connections along the way!\nTypically an ‘out and back’ hike\nHiking Club meets for an hour and is designed to meet the needs of all ability levels!\nOptional attendance for parents/caregivers\nTo enroll\, all participants must have an Ensora account and all forms completed.
URL:https://rec2connect.org/event/free-hiking-club-16/
LOCATION:Huntington Beach Trail\, 28492 Lake Rd.\, Bay Village\, OH\, 44140\, United States
CATEGORIES:Hiking,Outdoor Programs
ATTACH;FMTTYPE=image/png:https://rec2connect.org/wp-content/uploads/2025/07/Events_HikingClub.png
ORGANIZER;CN="Rec2Connect":MAILTO:scheduling@rec2connect.org
END:VEVENT
BEGIN:VEVENT
DTSTART;TZID=America/New_York:20261010T110000
DTEND;TZID=America/New_York:20261010T120000
DTSTAMP:20260424T235241
CREATED:20260306T013830Z
LAST-MODIFIED:20260416T211746Z
UID:10009315-1791630000-1791633600@rec2connect.org
SUMMARY:Free Bike Club - Oct 10
DESCRIPTION:This 1 hour program is designed for participants with moderate biking skills to practice safe riding and build confidence biking in a group setting.\nParticipants must be able to ride independently; one caregiver is required to attend with each participant.\nParticipants must bring their own bike.  E-bikes are not permitted.\nPre-registration is required at least 48 hours in advance.\nOnce registered\, the specific meeting address/location within Huntington Beach Trail will be emailed to each participant.\nTo enroll\, all participants must have an Ensora account and all forms completed.\nTo register or create your Ensora account\, contact scheduling@rec2connect.org
URL:https://rec2connect.org/event/free-bike-club-oct-10/
LOCATION:Huntington Beach Trail\, 28492 Lake Rd.\, Bay Village\, OH\, 44140\, United States
CATEGORIES:Biking,Outdoor Programs
ATTACH;FMTTYPE=image/png:https://rec2connect.org/wp-content/uploads/2025/07/Events_BikeConnect.png
ORGANIZER;CN="Rec2Connect":MAILTO:scheduling@rec2connect.org
END:VEVENT
BEGIN:VEVENT
DTSTART;TZID=America/New_York:20261017T100000
DTEND;TZID=America/New_York:20261017T110000
DTSTAMP:20260424T235241
CREATED:20260305T221439Z
LAST-MODIFIED:20260305T221439Z
UID:10009290-1792231200-1792234800@rec2connect.org
SUMMARY:Free Hiking Club
DESCRIPTION:Families and participants are invited meet up and move through the Cleveland Metroparks\, exploring trails and making meaningful connections along the way!\nTypically an ‘out and back’ hike\, Hiking Club meets for an hour and is designed to meet the needs of all ability levels!\nQuestions about Hiking Club?  Contact scheduling@rec2connect.org for more information.\nOptional attendance for parents / caregivers.\nLocations include West Creek Metropark\, Acacia Reservation\, Coe Lake\, Rocky River\, Punderson\, Brecksville Reservation\, West Branch\, Wallace Lake\, Hinckley Reservation\, Big Creek Reservation\, Astorhurst Park\, Huntington Beach\nHikes will begin at a predetermined location\, communicated to all families registered before the day of!\nTo enroll\, all participants must have an Ensora account and all forms completed.\nTo register or create your Ensora account\, contact scheduling@rec2connect.org
URL:https://rec2connect.org/event/free-hiking-club/2026-10-17/
LOCATION:OH
CATEGORIES:Hiking,Outdoor Programs
ATTACH;FMTTYPE=image/png:https://rec2connect.org/wp-content/uploads/2025/07/Events_HikingClub.png
ORGANIZER;CN="Rec2Connect":MAILTO:scheduling@rec2connect.org
END:VEVENT
BEGIN:VEVENT
DTSTART;TZID=America/New_York:20261017T100000
DTEND;TZID=America/New_York:20261017T110000
DTSTAMP:20260424T235241
CREATED:20260416T215341Z
LAST-MODIFIED:20260416T215341Z
UID:10009408-1792231200-1792234800@rec2connect.org
SUMMARY:Free Hiking Club
DESCRIPTION:Family and participants are invited to meet up and move through the Cleveland Metroparks\, exploring trails and making meaningful connections along the way!\nTypically an ‘out and back’ hike\nHiking Club meets for an hour and is designed to meet the needs of all ability levels!\nOptional attendance for parents/caregivers\nTo enroll\, all participants must have an Ensora account and all forms completed.
URL:https://rec2connect.org/event/free-hiking-club-17/
LOCATION:Brecksville Reservation\, 9000 Chippewa Rd.\, Brecksville\, OH\, 44141\, United States
CATEGORIES:Hiking,Outdoor Programs
ATTACH;FMTTYPE=image/png:https://rec2connect.org/wp-content/uploads/2025/07/Events_HikingClub.png
ORGANIZER;CN="Rec2Connect":MAILTO:scheduling@rec2connect.org
END:VEVENT
BEGIN:VEVENT
DTSTART;TZID=America/New_York:20261024T100000
DTEND;TZID=America/New_York:20261024T110000
DTSTAMP:20260424T235241
CREATED:20260305T221439Z
LAST-MODIFIED:20260305T221439Z
UID:10009291-1792836000-1792839600@rec2connect.org
SUMMARY:Free Hiking Club
DESCRIPTION:Families and participants are invited meet up and move through the Cleveland Metroparks\, exploring trails and making meaningful connections along the way!\nTypically an ‘out and back’ hike\, Hiking Club meets for an hour and is designed to meet the needs of all ability levels!\nQuestions about Hiking Club?  Contact scheduling@rec2connect.org for more information.\nOptional attendance for parents / caregivers.\nLocations include West Creek Metropark\, Acacia Reservation\, Coe Lake\, Rocky River\, Punderson\, Brecksville Reservation\, West Branch\, Wallace Lake\, Hinckley Reservation\, Big Creek Reservation\, Astorhurst Park\, Huntington Beach\nHikes will begin at a predetermined location\, communicated to all families registered before the day of!\nTo enroll\, all participants must have an Ensora account and all forms completed.\nTo register or create your Ensora account\, contact scheduling@rec2connect.org
URL:https://rec2connect.org/event/free-hiking-club/2026-10-24/
LOCATION:OH
CATEGORIES:Hiking,Outdoor Programs
ATTACH;FMTTYPE=image/png:https://rec2connect.org/wp-content/uploads/2025/07/Events_HikingClub.png
ORGANIZER;CN="Rec2Connect":MAILTO:scheduling@rec2connect.org
END:VEVENT
BEGIN:VEVENT
DTSTART;TZID=America/New_York:20261024T100000
DTEND;TZID=America/New_York:20261024T110000
DTSTAMP:20260424T235241
CREATED:20260416T215434Z
LAST-MODIFIED:20260416T215434Z
UID:10009409-1792836000-1792839600@rec2connect.org
SUMMARY:Free Hiking Club
DESCRIPTION:Family and participants are invited to meet up and move through the Cleveland Metroparks\, exploring trails and making meaningful connections along the way!\nTypically an ‘out and back’ hike\nHiking Club meets for an hour and is designed to meet the needs of all ability levels!\nOptional attendance for parents/caregivers\nTo enroll\, all participants must have an Ensora account and all forms completed.
URL:https://rec2connect.org/event/free-hiking-club-18/
LOCATION:Brecksville Reservation\, 9000 Chippewa Rd.\, Brecksville\, OH\, 44141\, United States
CATEGORIES:Hiking,Outdoor Programs
ATTACH;FMTTYPE=image/png:https://rec2connect.org/wp-content/uploads/2025/07/Events_HikingClub.png
ORGANIZER;CN="Rec2Connect":MAILTO:scheduling@rec2connect.org
END:VEVENT
BEGIN:VEVENT
DTSTART;TZID=America/New_York:20261024T110000
DTEND;TZID=America/New_York:20261024T120000
DTSTAMP:20260424T235241
CREATED:20260306T014127Z
LAST-MODIFIED:20260416T211706Z
UID:10009316-1792839600-1792843200@rec2connect.org
SUMMARY:Free Bike Club - Oct 24
DESCRIPTION:This 1 hour program is designed for participants with moderate biking skills to practice safe riding and build confidence biking in a group setting.\nParticipants must be able to ride independently; one caregiver is required to attend with each participant.\nParticipants must bring their own bike.  E-bikes are not permitted.\nPre-registration is required at least 48 hours in advance.\nOnce registered\, the specific meeting address/location within Brecksville will be emailed to each participant.\nTo enroll\, all participants must have an Ensora account and all forms completed.\nTo register or create your Ensora account\, contact scheduling@rec2connect.org
URL:https://rec2connect.org/event/free-bike-club-oct-24/
LOCATION:Brecksville Reservation\, 9000 Chippewa Rd.\, Brecksville\, OH\, 44141\, United States
CATEGORIES:Biking,Outdoor Programs
ATTACH;FMTTYPE=image/png:https://rec2connect.org/wp-content/uploads/2025/07/Events_BikeConnect.png
ORGANIZER;CN="Rec2Connect":MAILTO:scheduling@rec2connect.org
END:VEVENT
END:VCALENDAR