BEGIN:VCALENDAR
VERSION:2.0
PRODID:-//Rec2Connect - ECPv6.15.20//NONSGML v1.0//EN
CALSCALE:GREGORIAN
METHOD:PUBLISH
X-ORIGINAL-URL:https://rec2connect.org
X-WR-CALDESC:Events for Rec2Connect
REFRESH-INTERVAL;VALUE=DURATION:PT1H
X-Robots-Tag:noindex
X-PUBLISHED-TTL:PT1H
BEGIN:VTIMEZONE
TZID:America/New_York
BEGIN:DAYLIGHT
TZOFFSETFROM:-0500
TZOFFSETTO:-0400
TZNAME:EDT
DTSTART:20250309T070000
END:DAYLIGHT
BEGIN:STANDARD
TZOFFSETFROM:-0400
TZOFFSETTO:-0500
TZNAME:EST
DTSTART:20251102T060000
END:STANDARD
BEGIN:DAYLIGHT
TZOFFSETFROM:-0500
TZOFFSETTO:-0400
TZNAME:EDT
DTSTART:20260308T070000
END:DAYLIGHT
BEGIN:STANDARD
TZOFFSETFROM:-0400
TZOFFSETTO:-0500
TZNAME:EST
DTSTART:20261101T060000
END:STANDARD
BEGIN:DAYLIGHT
TZOFFSETFROM:-0500
TZOFFSETTO:-0400
TZNAME:EDT
DTSTART:20270314T070000
END:DAYLIGHT
BEGIN:STANDARD
TZOFFSETFROM:-0400
TZOFFSETTO:-0500
TZNAME:EST
DTSTART:20271107T060000
END:STANDARD
END:VTIMEZONE
BEGIN:VEVENT
DTSTART;TZID=America/New_York:20260903T133000
DTEND;TZID=America/New_York:20260903T153000
DTSTAMP:20260424T223223
CREATED:20260416T223740Z
LAST-MODIFIED:20260418T172731Z
UID:10009422-1788442200-1788449400@rec2connect.org
SUMMARY:2026 Veteran Kayaking
DESCRIPTION:Focus on entry-level kayaking skills\, safety and lake exploration.\nNo cost for Veterans and Service Members with Disabilities\nThis program is made possible thanks to Move United!\nTo register\, please email vhaclewhcoaches@va.gov or wholehealthcleva@va.gov
URL:https://rec2connect.org/event/2026-veteran-kayaking-3/2026-09-03/
LOCATION:Coe Lake\, 85 South Rocky River Dr.\, Berea\, OH\, 44017\, United States
CATEGORIES:Kayaking,Outdoor Programs
ATTACH;FMTTYPE=image/png:https://rec2connect.org/wp-content/uploads/2025/07/Kayak-2.png
ORGANIZER;CN="Rec2Connect":MAILTO:scheduling@rec2connect.org
END:VEVENT
BEGIN:VEVENT
DTSTART;TZID=America/New_York:20260905T093000
DTEND;TZID=America/New_York:20260905T113000
DTSTAMP:20260424T223223
CREATED:20260418T172405Z
LAST-MODIFIED:20260418T172405Z
UID:10009425-1788600600-1788607800@rec2connect.org
SUMMARY:2026 Veteran Kayaking
DESCRIPTION:Focus on entry-level kayaking skills\, safety and lake exploration.\nNo cost for Veterans and Service Members with Disabilities\nThis program is made possible thanks to Move United!\nTo register\, please email vhaclewhcoaches@va.gov or wholehealthcleva@va.gov
URL:https://rec2connect.org/event/2026-veteran-kayaking-6/
LOCATION:Wallace Lake at Mill Stream Run Reservation\, 213 Prospect St.\, Berea\, OH\, 44017\, United States
CATEGORIES:Kayaking,Outdoor Programs
ATTACH;FMTTYPE=image/png:https://rec2connect.org/wp-content/uploads/2025/07/Kayak-2.png
ORGANIZER;CN="Rec2Connect":MAILTO:scheduling@rec2connect.org
END:VEVENT
BEGIN:VEVENT
DTSTART;TZID=America/New_York:20260905T100000
DTEND;TZID=America/New_York:20260905T110000
DTSTAMP:20260424T223223
CREATED:20260305T221439Z
LAST-MODIFIED:20260305T221439Z
UID:10009284-1788602400-1788606000@rec2connect.org
SUMMARY:Free Hiking Club
DESCRIPTION:Families and participants are invited meet up and move through the Cleveland Metroparks\, exploring trails and making meaningful connections along the way!\nTypically an ‘out and back’ hike\, Hiking Club meets for an hour and is designed to meet the needs of all ability levels!\nQuestions about Hiking Club?  Contact scheduling@rec2connect.org for more information.\nOptional attendance for parents / caregivers.\nLocations include West Creek Metropark\, Acacia Reservation\, Coe Lake\, Rocky River\, Punderson\, Brecksville Reservation\, West Branch\, Wallace Lake\, Hinckley Reservation\, Big Creek Reservation\, Astorhurst Park\, Huntington Beach\nHikes will begin at a predetermined location\, communicated to all families registered before the day of!\nTo enroll\, all participants must have an Ensora account and all forms completed.\nTo register or create your Ensora account\, contact scheduling@rec2connect.org
URL:https://rec2connect.org/event/free-hiking-club/2026-09-05/
LOCATION:OH
CATEGORIES:Hiking,Outdoor Programs
ATTACH;FMTTYPE=image/png:https://rec2connect.org/wp-content/uploads/2025/07/Events_HikingClub.png
ORGANIZER;CN="Rec2Connect":MAILTO:scheduling@rec2connect.org
END:VEVENT
BEGIN:VEVENT
DTSTART;TZID=America/New_York:20260905T100000
DTEND;TZID=America/New_York:20260905T110000
DTSTAMP:20260424T223223
CREATED:20260416T214744Z
LAST-MODIFIED:20260416T214744Z
UID:10009402-1788602400-1788606000@rec2connect.org
SUMMARY:Free Hiking Club
DESCRIPTION:Family and participants are invited to meet up and move through the Cleveland Metroparks\, exploring trails and making meaningful connections along the way!\nTypically an ‘out and back’ hike\nHiking Club meets for an hour and is designed to meet the needs of all ability levels!\nOptional attendance for parents/caregivers\nTo enroll\, all participants must have an Ensora account and all forms completed.
URL:https://rec2connect.org/event/free-hiking-club-11/
LOCATION:Wallace Lake at Mill Stream Run Reservation\, 213 Prospect St.\, Berea\, OH\, 44017\, United States
CATEGORIES:Hiking,Outdoor Programs
ATTACH;FMTTYPE=image/png:https://rec2connect.org/wp-content/uploads/2025/07/Events_HikingClub.png
ORGANIZER;CN="Rec2Connect":MAILTO:scheduling@rec2connect.org
END:VEVENT
BEGIN:VEVENT
DTSTART;TZID=America/New_York:20260912T100000
DTEND;TZID=America/New_York:20260912T110000
DTSTAMP:20260424T223223
CREATED:20260305T221439Z
LAST-MODIFIED:20260305T221439Z
UID:10009285-1789207200-1789210800@rec2connect.org
SUMMARY:Free Hiking Club
DESCRIPTION:Families and participants are invited meet up and move through the Cleveland Metroparks\, exploring trails and making meaningful connections along the way!\nTypically an ‘out and back’ hike\, Hiking Club meets for an hour and is designed to meet the needs of all ability levels!\nQuestions about Hiking Club?  Contact scheduling@rec2connect.org for more information.\nOptional attendance for parents / caregivers.\nLocations include West Creek Metropark\, Acacia Reservation\, Coe Lake\, Rocky River\, Punderson\, Brecksville Reservation\, West Branch\, Wallace Lake\, Hinckley Reservation\, Big Creek Reservation\, Astorhurst Park\, Huntington Beach\nHikes will begin at a predetermined location\, communicated to all families registered before the day of!\nTo enroll\, all participants must have an Ensora account and all forms completed.\nTo register or create your Ensora account\, contact scheduling@rec2connect.org
URL:https://rec2connect.org/event/free-hiking-club/2026-09-12/
LOCATION:OH
CATEGORIES:Hiking,Outdoor Programs
ATTACH;FMTTYPE=image/png:https://rec2connect.org/wp-content/uploads/2025/07/Events_HikingClub.png
ORGANIZER;CN="Rec2Connect":MAILTO:scheduling@rec2connect.org
END:VEVENT
BEGIN:VEVENT
DTSTART;TZID=America/New_York:20260912T100000
DTEND;TZID=America/New_York:20260912T110000
DTSTAMP:20260424T223223
CREATED:20260416T214839Z
LAST-MODIFIED:20260416T214839Z
UID:10009403-1789207200-1789210800@rec2connect.org
SUMMARY:Free Hiking Club
DESCRIPTION:Family and participants are invited to meet up and move through the Cleveland Metroparks\, exploring trails and making meaningful connections along the way!\nTypically an ‘out and back’ hike\nHiking Club meets for an hour and is designed to meet the needs of all ability levels!\nOptional attendance for parents/caregivers\nTo enroll\, all participants must have an Ensora account and all forms completed.
URL:https://rec2connect.org/event/free-hiking-club-12/
LOCATION:Hinckley Reservation\, 432 Bellus Rd.\, Hinckley\, OH\, 44233\, United States
CATEGORIES:Hiking,Outdoor Programs
ATTACH;FMTTYPE=image/png:https://rec2connect.org/wp-content/uploads/2025/07/Events_HikingClub.png
ORGANIZER;CN="Rec2Connect":MAILTO:scheduling@rec2connect.org
END:VEVENT
BEGIN:VEVENT
DTSTART;TZID=America/New_York:20260912T110000
DTEND;TZID=America/New_York:20260912T120000
DTSTAMP:20260424T223223
CREATED:20260306T013256Z
LAST-MODIFIED:20260416T211933Z
UID:10009313-1789210800-1789214400@rec2connect.org
SUMMARY:Free Bike Club - Sept 12
DESCRIPTION:This 1 hour program is designed for participants with moderate biking skills to practice safe riding and build confidence biking in a group setting.\nParticipants must be able to ride independently; one caregiver is required to attend with each participant.\nParticipants must bring their own bike.  E-bikes are not permitted.\nPre-registration is required at least 48 hours in advance.\nOnce registered\, the specific meeting address/location within Hinckley will be emailed to each participant.\nTo enroll\, all participants must have an Ensora account and all forms completed.\nTo register or create your Ensora account\, contact scheduling@rec2connect.org
URL:https://rec2connect.org/event/free-bike-club-sept-12/
LOCATION:Hinckley Reservation\, 432 Bellus Rd.\, Hinckley\, OH\, 44233\, United States
CATEGORIES:Biking,Outdoor Programs
ATTACH;FMTTYPE=image/png:https://rec2connect.org/wp-content/uploads/2025/07/Events_BikeConnect.png
ORGANIZER;CN="Rec2Connect":MAILTO:scheduling@rec2connect.org
END:VEVENT
BEGIN:VEVENT
DTSTART;TZID=America/New_York:20260912T123000
DTEND;TZID=America/New_York:20260912T143000
DTSTAMP:20260424T223223
CREATED:20260207T161504Z
LAST-MODIFIED:20260207T161504Z
UID:10008753-1789216200-1789223400@rec2connect.org
SUMMARY:Veteran Rock Climbing - Shaker Rocks
DESCRIPTION:– This program is free for Veterans and Service Members with Disabilities. \n– To register\, please email sarah@rec2connect.org \n– This program is made possible thanks to Move United!
URL:https://rec2connect.org/event/veteran-rock-climbing-shaker-rocks-4/
LOCATION:Shaker Rocks
CATEGORIES:Rock Climbing
ATTACH;FMTTYPE=image/png:https://rec2connect.org/wp-content/uploads/2025/07/Events_RockClimbing.png
ORGANIZER;CN="Rec2Connect":MAILTO:scheduling@rec2connect.org
END:VEVENT
BEGIN:VEVENT
DTSTART;TZID=America/New_York:20260919T100000
DTEND;TZID=America/New_York:20260919T110000
DTSTAMP:20260424T223223
CREATED:20260305T221439Z
LAST-MODIFIED:20260305T221439Z
UID:10009286-1789812000-1789815600@rec2connect.org
SUMMARY:Free Hiking Club
DESCRIPTION:Families and participants are invited meet up and move through the Cleveland Metroparks\, exploring trails and making meaningful connections along the way!\nTypically an ‘out and back’ hike\, Hiking Club meets for an hour and is designed to meet the needs of all ability levels!\nQuestions about Hiking Club?  Contact scheduling@rec2connect.org for more information.\nOptional attendance for parents / caregivers.\nLocations include West Creek Metropark\, Acacia Reservation\, Coe Lake\, Rocky River\, Punderson\, Brecksville Reservation\, West Branch\, Wallace Lake\, Hinckley Reservation\, Big Creek Reservation\, Astorhurst Park\, Huntington Beach\nHikes will begin at a predetermined location\, communicated to all families registered before the day of!\nTo enroll\, all participants must have an Ensora account and all forms completed.\nTo register or create your Ensora account\, contact scheduling@rec2connect.org
URL:https://rec2connect.org/event/free-hiking-club/2026-09-19/
LOCATION:OH
CATEGORIES:Hiking,Outdoor Programs
ATTACH;FMTTYPE=image/png:https://rec2connect.org/wp-content/uploads/2025/07/Events_HikingClub.png
ORGANIZER;CN="Rec2Connect":MAILTO:scheduling@rec2connect.org
END:VEVENT
BEGIN:VEVENT
DTSTART;TZID=America/New_York:20260919T100000
DTEND;TZID=America/New_York:20260919T110000
DTSTAMP:20260424T223223
CREATED:20260416T214929Z
LAST-MODIFIED:20260416T214929Z
UID:10009404-1789812000-1789815600@rec2connect.org
SUMMARY:Free Hiking Club
DESCRIPTION:Family and participants are invited to meet up and move through the Cleveland Metroparks\, exploring trails and making meaningful connections along the way!\nTypically an ‘out and back’ hike\nHiking Club meets for an hour and is designed to meet the needs of all ability levels!\nOptional attendance for parents/caregivers\nTo enroll\, all participants must have an Ensora account and all forms completed.
URL:https://rec2connect.org/event/free-hiking-club-13/
LOCATION:Punderson State Park\, 11755 Kinsman Rd.\, Newbury Township\, OH\, 44065\, United States
CATEGORIES:Hiking,Outdoor Programs
ATTACH;FMTTYPE=image/png:https://rec2connect.org/wp-content/uploads/2025/07/Events_HikingClub.png
ORGANIZER;CN="Rec2Connect":MAILTO:scheduling@rec2connect.org
END:VEVENT
BEGIN:VEVENT
DTSTART;TZID=America/New_York:20260919T100000
DTEND;TZID=America/New_York:20260919T120000
DTSTAMP:20260424T223223
CREATED:20260304T190721Z
LAST-MODIFIED:20260415T183818Z
UID:10009272-1789812000-1789819200@rec2connect.org
SUMMARY:2026 Family Kayak Program
DESCRIPTION:This is a beginner-level kayak program for families looking to learn more about kayaking.  Focus on entry-level kayaking skills\, safety and lake exploration.\nAt least one caregiver must attend per family.\nPre-registration is required at least 24 hours in advance.  To enroll\, all participants must have an Ensora account and all forms completed.\nTo register\, please email scheduling@rec2connect.org.
URL:https://rec2connect.org/event/2026-family-kayak-program-4/
LOCATION:Punderson State Park\, 11755 Kinsman Rd.\, Newbury Township\, OH\, 44065\, United States
CATEGORIES:Kayaking,Outdoor Programs
ATTACH;FMTTYPE=image/png:https://rec2connect.org/wp-content/uploads/2025/07/Kayak-2.png
ORGANIZER;CN="Rec2Connect":MAILTO:scheduling@rec2connect.org
END:VEVENT
BEGIN:VEVENT
DTSTART;TZID=America/New_York:20260926T100000
DTEND;TZID=America/New_York:20260926T110000
DTSTAMP:20260424T223223
CREATED:20260305T221439Z
LAST-MODIFIED:20260305T221439Z
UID:10009287-1790416800-1790420400@rec2connect.org
SUMMARY:Free Hiking Club
DESCRIPTION:Families and participants are invited meet up and move through the Cleveland Metroparks\, exploring trails and making meaningful connections along the way!\nTypically an ‘out and back’ hike\, Hiking Club meets for an hour and is designed to meet the needs of all ability levels!\nQuestions about Hiking Club?  Contact scheduling@rec2connect.org for more information.\nOptional attendance for parents / caregivers.\nLocations include West Creek Metropark\, Acacia Reservation\, Coe Lake\, Rocky River\, Punderson\, Brecksville Reservation\, West Branch\, Wallace Lake\, Hinckley Reservation\, Big Creek Reservation\, Astorhurst Park\, Huntington Beach\nHikes will begin at a predetermined location\, communicated to all families registered before the day of!\nTo enroll\, all participants must have an Ensora account and all forms completed.\nTo register or create your Ensora account\, contact scheduling@rec2connect.org
URL:https://rec2connect.org/event/free-hiking-club/2026-09-26/
LOCATION:OH
CATEGORIES:Hiking,Outdoor Programs
ATTACH;FMTTYPE=image/png:https://rec2connect.org/wp-content/uploads/2025/07/Events_HikingClub.png
ORGANIZER;CN="Rec2Connect":MAILTO:scheduling@rec2connect.org
END:VEVENT
BEGIN:VEVENT
DTSTART;TZID=America/New_York:20260926T100000
DTEND;TZID=America/New_York:20260926T110000
DTSTAMP:20260424T223223
CREATED:20260416T215032Z
LAST-MODIFIED:20260416T215032Z
UID:10009405-1790416800-1790420400@rec2connect.org
SUMMARY:Free Hiking Club
DESCRIPTION:Family and participants are invited to meet up and move through the Cleveland Metroparks\, exploring trails and making meaningful connections along the way!\nTypically an ‘out and back’ hike\nHiking Club meets for an hour and is designed to meet the needs of all ability levels!\nOptional attendance for parents/caregivers\nTo enroll\, all participants must have an Ensora account and all forms completed.
URL:https://rec2connect.org/event/free-hiking-club-14/
LOCATION:Big Creek Reservation\, Brooklyn\, OH\, 44144\, United States
CATEGORIES:Hiking,Outdoor Programs
ATTACH;FMTTYPE=image/png:https://rec2connect.org/wp-content/uploads/2025/07/Events_HikingClub.png
ORGANIZER;CN="Rec2Connect":MAILTO:scheduling@rec2connect.org
END:VEVENT
BEGIN:VEVENT
DTSTART;TZID=America/New_York:20260926T110000
DTEND;TZID=America/New_York:20260926T120000
DTSTAMP:20260424T223223
CREATED:20260306T013535Z
LAST-MODIFIED:20260416T211826Z
UID:10009314-1790420400-1790424000@rec2connect.org
SUMMARY:Free Bike Club - Sept 26
DESCRIPTION:This 1 hour program is designed for participants with moderate biking skills to practice safe riding and build confidence biking in a group setting.\nParticipants must be able to ride independently; one caregiver is required to attend with each participant.\nParticipants must bring their own bike.  E-bikes are not permitted.\nPre-registration is required at least 48 hours in advance.\nOnce registered\, the specific meeting address/location within Big Creek Reservation will be emailed to each participant.\nTo enroll\, all participants must have an Ensora account and all forms completed.\nTo register or create your Ensora account\, contact scheduling@rec2connect.org
URL:https://rec2connect.org/event/free-bike-club-sept-26/
LOCATION:Big Creek Reservation\, Brooklyn\, OH\, 44144\, United States
CATEGORIES:Biking,Outdoor Programs
ATTACH;FMTTYPE=image/png:https://rec2connect.org/wp-content/uploads/2025/07/Events_BikeConnect.png
ORGANIZER;CN="Rec2Connect":MAILTO:scheduling@rec2connect.org
END:VEVENT
END:VCALENDAR