BEGIN:VCALENDAR
VERSION:2.0
PRODID:-//Rec2Connect - ECPv6.15.20//NONSGML v1.0//EN
CALSCALE:GREGORIAN
METHOD:PUBLISH
X-WR-CALNAME:Rec2Connect
X-ORIGINAL-URL:https://rec2connect.org
X-WR-CALDESC:Events for Rec2Connect
REFRESH-INTERVAL;VALUE=DURATION:PT1H
X-Robots-Tag:noindex
X-PUBLISHED-TTL:PT1H
BEGIN:VTIMEZONE
TZID:America/New_York
BEGIN:DAYLIGHT
TZOFFSETFROM:-0500
TZOFFSETTO:-0400
TZNAME:EDT
DTSTART:20250309T070000
END:DAYLIGHT
BEGIN:STANDARD
TZOFFSETFROM:-0400
TZOFFSETTO:-0500
TZNAME:EST
DTSTART:20251102T060000
END:STANDARD
BEGIN:DAYLIGHT
TZOFFSETFROM:-0500
TZOFFSETTO:-0400
TZNAME:EDT
DTSTART:20260308T070000
END:DAYLIGHT
BEGIN:STANDARD
TZOFFSETFROM:-0400
TZOFFSETTO:-0500
TZNAME:EST
DTSTART:20261101T060000
END:STANDARD
BEGIN:DAYLIGHT
TZOFFSETFROM:-0500
TZOFFSETTO:-0400
TZNAME:EDT
DTSTART:20270314T070000
END:DAYLIGHT
BEGIN:STANDARD
TZOFFSETFROM:-0400
TZOFFSETTO:-0500
TZNAME:EST
DTSTART:20271107T060000
END:STANDARD
END:VTIMEZONE
BEGIN:VEVENT
DTSTART;TZID=America/New_York:20260602T170000
DTEND;TZID=America/New_York:20260602T190000
DTSTAMP:20260424T183943
CREATED:20260222T013655Z
LAST-MODIFIED:20260222T013655Z
UID:10009264-1780419600-1780426800@rec2connect.org
SUMMARY:Rock Climbing - Shaker Rocks
DESCRIPTION:This is an entry-level program designed for individuals ages 7+ that meets every 2 weeks. \nWe learn climbing skills and climbing terms. Building upon and learning new skills weekly to promote socialization\, problem-solving\, physical activity\, and teamwork. \nPre-registration is required at least 48 hours in advance. \nTo enroll\, all participants must have an Ensora account and all forms completed. \nTo register or create your Ensora account\, please email scheduling@rec2connect.org \nEvent cost includes shoes and harness rental. \n$5 Discount for private pay.
URL:https://rec2connect.org/event/rock-climbing-shaker-rocks-3/2026-06-02/
LOCATION:Shaker Rocks
CATEGORIES:Outdoor Programs,Rock Climbing
ATTACH;FMTTYPE=image/png:https://rec2connect.org/wp-content/uploads/2025/07/Events_RockClimbing.png
ORGANIZER;CN="Rec2Connect":MAILTO:scheduling@rec2connect.org
END:VEVENT
BEGIN:VEVENT
DTSTART;TZID=America/New_York:20260609T170000
DTEND;TZID=America/New_York:20260609T190000
DTSTAMP:20260424T183943
CREATED:20260222T013333Z
LAST-MODIFIED:20260222T013333Z
UID:10009252-1781024400-1781031600@rec2connect.org
SUMMARY:Rock Climbing - Cleveland Rocks
DESCRIPTION:This is an entry-level program designed for individuals ages 7+ that meets every 2 weeks. \nWe learn climbing skills and climbing terms. Building upon and learning new skills weekly to promote socialization\, problem-solving\, physical activity\, and teamwork. \nPre-registration is required at least 48 hours in advance. \nTo enroll\, all participants must have an Ensora account and all forms completed. \nTo register or create your Ensora account\, please email scheduling@rec2connect.org \nEvent cost includes shoes and harness rental. \n$5 Discount for private pay.
URL:https://rec2connect.org/event/rock-climbing-cleveland-rocks-2/2026-06-09/
LOCATION:Cleveland Rocks
CATEGORIES:Rock Climbing
ATTACH;FMTTYPE=image/png:https://rec2connect.org/wp-content/uploads/2025/07/Events_RockClimbing.png
ORGANIZER;CN="Rec2Connect":MAILTO:scheduling@rec2connect.org
END:VEVENT
BEGIN:VEVENT
DTSTART;TZID=America/New_York:20260611T133000
DTEND;TZID=America/New_York:20260611T153000
DTSTAMP:20260424T183943
CREATED:20260416T223740Z
LAST-MODIFIED:20260418T172731Z
UID:10009413-1781184600-1781191800@rec2connect.org
SUMMARY:2026 Veteran Kayaking
DESCRIPTION:Focus on entry-level kayaking skills\, safety and lake exploration.\nNo cost for Veterans and Service Members with Disabilities\nThis program is made possible thanks to Move United!\nTo register\, please email vhaclewhcoaches@va.gov or wholehealthcleva@va.gov
URL:https://rec2connect.org/event/2026-veteran-kayaking-3/2026-06-11/
LOCATION:Coe Lake\, 85 South Rocky River Dr.\, Berea\, OH\, 44017\, United States
CATEGORIES:Kayaking,Outdoor Programs
ATTACH;FMTTYPE=image/png:https://rec2connect.org/wp-content/uploads/2025/07/Kayak-2.png
ORGANIZER;CN="Rec2Connect":MAILTO:scheduling@rec2connect.org
END:VEVENT
BEGIN:VEVENT
DTSTART;TZID=America/New_York:20260613T100000
DTEND;TZID=America/New_York:20260613T113000
DTSTAMP:20260424T183943
CREATED:20260416T201809Z
LAST-MODIFIED:20260416T201809Z
UID:10009348-1781344800-1781350200@rec2connect.org
SUMMARY:2026 Adapted Kayaking (Long)
DESCRIPTION:Focusing on entry-level and moderate kayaking skills.  Build upon problem solving and social skills with opportunities to learn more advanced paddle strokes.\nLimited to 5 sessions per participant.  Waitlist available.\n$5 Discount with private pay.\nPre-registration is required at least 24 hours in advance.\nTo Enroll\, all participants must have an Ensora account and all forms completed.\nTo register\, please email scheduling@rec2connect.org
URL:https://rec2connect.org/event/2026-adapted-kayaking-long-2/
LOCATION:Punderson State Park\, 11755 Kinsman Rd.\, Newbury Township\, OH\, 44065\, United States
CATEGORIES:Kayaking,Outdoor Programs
ATTACH;FMTTYPE=image/png:https://rec2connect.org/wp-content/uploads/2025/07/Kayak-2.png
ORGANIZER;CN="Rec2Connect":MAILTO:scheduling@rec2connect.org
END:VEVENT
BEGIN:VEVENT
DTSTART;TZID=America/New_York:20260613T120000
DTEND;TZID=America/New_York:20260613T140000
DTSTAMP:20260424T183943
CREATED:20260304T185053Z
LAST-MODIFIED:20260305T032024Z
UID:10009269-1781352000-1781359200@rec2connect.org
SUMMARY:2026 Family Kayak Program
DESCRIPTION:This is a beginner-level kayak program for families looking to learn more about kayaking.  Focus on entry-level kayaking skills\, safety and lake exploration.\nAt least one caregiver must attend per family.\nPre-registration is required at least 24 hours in advance.  To enroll\, all participants must have an Ensora account and all forms completed.\nTo register\, please email scheduling@rec2connect.org.
URL:https://rec2connect.org/event/2026-family-kayak-program/
LOCATION:Punderson State Park\, 11755 Kinsman Rd.\, Newbury Township\, OH\, 44065\, United States
CATEGORIES:Kayaking,Outdoor Programs
ATTACH;FMTTYPE=image/png:https://rec2connect.org/wp-content/uploads/2025/07/Kayak-2.png
ORGANIZER;CN="Rec2Connect":MAILTO:scheduling@rec2connect.org
END:VEVENT
BEGIN:VEVENT
DTSTART;TZID=America/New_York:20260616T170000
DTEND;TZID=America/New_York:20260616T190000
DTSTAMP:20260424T183943
CREATED:20260222T013655Z
LAST-MODIFIED:20260222T013655Z
UID:10009265-1781629200-1781636400@rec2connect.org
SUMMARY:Rock Climbing - Shaker Rocks
DESCRIPTION:This is an entry-level program designed for individuals ages 7+ that meets every 2 weeks. \nWe learn climbing skills and climbing terms. Building upon and learning new skills weekly to promote socialization\, problem-solving\, physical activity\, and teamwork. \nPre-registration is required at least 48 hours in advance. \nTo enroll\, all participants must have an Ensora account and all forms completed. \nTo register or create your Ensora account\, please email scheduling@rec2connect.org \nEvent cost includes shoes and harness rental. \n$5 Discount for private pay.
URL:https://rec2connect.org/event/rock-climbing-shaker-rocks-3/2026-06-16/
LOCATION:Shaker Rocks
CATEGORIES:Outdoor Programs,Rock Climbing
ATTACH;FMTTYPE=image/png:https://rec2connect.org/wp-content/uploads/2025/07/Events_RockClimbing.png
ORGANIZER;CN="Rec2Connect":MAILTO:scheduling@rec2connect.org
END:VEVENT
BEGIN:VEVENT
DTSTART;TZID=America/New_York:20260617T173000
DTEND;TZID=America/New_York:20260617T190000
DTSTAMP:20260424T183943
CREATED:20260418T173713Z
LAST-MODIFIED:20260418T173713Z
UID:10009426-1781717400-1781722800@rec2connect.org
SUMMARY:Journey on the Voyager Canoe
DESCRIPTION:Join Rec2Connect for a program in partnership with the Cleveland Metroparks\nParticipants will learn basic paddling techniques and paddling safety while having fun on the water through team building games\, activities and exploration of the lake.\nDeadline to register is June 12 at noon.\nTo Enroll\, all participants must have an Ensora account and all forms completed.\nTo register\, please email scheduling@rec2connect.org
URL:https://rec2connect.org/event/journey-on-the-voyager-canoe/
LOCATION:Wallace Lake at Mill Stream Run Reservation\, 213 Prospect St.\, Berea\, OH\, 44017\, United States
CATEGORIES:Outdoor Programs
ORGANIZER;CN="Rec2Connect":MAILTO:scheduling@rec2connect.org
END:VEVENT
BEGIN:VEVENT
DTSTART;TZID=America/New_York:20260623T170000
DTEND;TZID=America/New_York:20260623T190000
DTSTAMP:20260424T183943
CREATED:20260222T013333Z
LAST-MODIFIED:20260222T013333Z
UID:10009253-1782234000-1782241200@rec2connect.org
SUMMARY:Rock Climbing - Cleveland Rocks
DESCRIPTION:This is an entry-level program designed for individuals ages 7+ that meets every 2 weeks. \nWe learn climbing skills and climbing terms. Building upon and learning new skills weekly to promote socialization\, problem-solving\, physical activity\, and teamwork. \nPre-registration is required at least 48 hours in advance. \nTo enroll\, all participants must have an Ensora account and all forms completed. \nTo register or create your Ensora account\, please email scheduling@rec2connect.org \nEvent cost includes shoes and harness rental. \n$5 Discount for private pay.
URL:https://rec2connect.org/event/rock-climbing-cleveland-rocks-2/2026-06-23/
LOCATION:Cleveland Rocks
CATEGORIES:Rock Climbing
ATTACH;FMTTYPE=image/png:https://rec2connect.org/wp-content/uploads/2025/07/Events_RockClimbing.png
ORGANIZER;CN="Rec2Connect":MAILTO:scheduling@rec2connect.org
END:VEVENT
BEGIN:VEVENT
DTSTART;TZID=America/New_York:20260625T133000
DTEND;TZID=America/New_York:20260625T153000
DTSTAMP:20260424T183943
CREATED:20260416T223740Z
LAST-MODIFIED:20260418T172731Z
UID:10009414-1782394200-1782401400@rec2connect.org
SUMMARY:2026 Veteran Kayaking
DESCRIPTION:Focus on entry-level kayaking skills\, safety and lake exploration.\nNo cost for Veterans and Service Members with Disabilities\nThis program is made possible thanks to Move United!\nTo register\, please email vhaclewhcoaches@va.gov or wholehealthcleva@va.gov
URL:https://rec2connect.org/event/2026-veteran-kayaking-3/2026-06-25/
LOCATION:Coe Lake\, 85 South Rocky River Dr.\, Berea\, OH\, 44017\, United States
CATEGORIES:Kayaking,Outdoor Programs
ATTACH;FMTTYPE=image/png:https://rec2connect.org/wp-content/uploads/2025/07/Kayak-2.png
ORGANIZER;CN="Rec2Connect":MAILTO:scheduling@rec2connect.org
END:VEVENT
BEGIN:VEVENT
DTSTART;TZID=America/New_York:20260625T160000
DTEND;TZID=America/New_York:20260625T170000
DTSTAMP:20260424T183943
CREATED:20260311T172557Z
LAST-MODIFIED:20260311T172824Z
UID:10009321-1782403200-1782406800@rec2connect.org
SUMMARY:2026 Adapted Kayaking (Short)
DESCRIPTION:Focusing on entry-level and moderate kayaking skills.  Build upon problem solving and social skills with opportunities to learn more advanced paddle strokes.\nLimited to 5 sessions per participant.  Waitlist available.\n$5 Discount with private pay.\nPre-registration is required at least 24 hours in advance.\nTo Enroll\, all participants must have an Ensora account and all forms completed.\nTo register\, please email scheduling@rec2connect.org
URL:https://rec2connect.org/event/2026-adapted-kayaking-short/2026-06-25/
LOCATION:Coe Lake\, 85 South Rocky River Dr.\, Berea\, OH\, 44017\, United States
CATEGORIES:Kayaking,Outdoor Programs
ATTACH;FMTTYPE=image/png:https://rec2connect.org/wp-content/uploads/2025/07/Kayak-2.png
ORGANIZER;CN="Rec2Connect":MAILTO:scheduling@rec2connect.org
END:VEVENT
BEGIN:VEVENT
DTSTART;TZID=America/New_York:20260625T173000
DTEND;TZID=America/New_York:20260625T190000
DTSTAMP:20260424T183943
CREATED:20260311T172708Z
LAST-MODIFIED:20260311T172708Z
UID:10009330-1782408600-1782414000@rec2connect.org
SUMMARY:2026 Adapted Kayaking (Long)
DESCRIPTION:Focusing on entry-level and moderate kayaking skills.  Build upon problem solving and social skills with opportunities to learn more advanced paddle strokes.\nLimited to 5 sessions per participant.  Waitlist available.\n$5 Discount with private pay.\nPre-registration is required at least 24 hours in advance.\nTo Enroll\, all participants must have an Ensora account and all forms completed.\nTo register\, please email scheduling@rec2connect.org
URL:https://rec2connect.org/event/2026-adapted-kayaking-long/2026-06-25/
LOCATION:Coe Lake\, 85 South Rocky River Dr.\, Berea\, OH\, 44017\, United States
CATEGORIES:Kayaking,Outdoor Programs
ATTACH;FMTTYPE=image/png:https://rec2connect.org/wp-content/uploads/2025/07/Kayak-2.png
ORGANIZER;CN="Rec2Connect":MAILTO:scheduling@rec2connect.org
END:VEVENT
BEGIN:VEVENT
DTSTART;TZID=America/New_York:20260627T100000
DTEND;TZID=America/New_York:20260627T110000
DTSTAMP:20260424T183943
CREATED:20260305T221439Z
LAST-MODIFIED:20260305T221439Z
UID:10009274-1782554400-1782558000@rec2connect.org
SUMMARY:Free Hiking Club
DESCRIPTION:Families and participants are invited meet up and move through the Cleveland Metroparks\, exploring trails and making meaningful connections along the way!\nTypically an ‘out and back’ hike\, Hiking Club meets for an hour and is designed to meet the needs of all ability levels!\nQuestions about Hiking Club?  Contact scheduling@rec2connect.org for more information.\nOptional attendance for parents / caregivers.\nLocations include West Creek Metropark\, Acacia Reservation\, Coe Lake\, Rocky River\, Punderson\, Brecksville Reservation\, West Branch\, Wallace Lake\, Hinckley Reservation\, Big Creek Reservation\, Astorhurst Park\, Huntington Beach\nHikes will begin at a predetermined location\, communicated to all families registered before the day of!\nTo enroll\, all participants must have an Ensora account and all forms completed.\nTo register or create your Ensora account\, contact scheduling@rec2connect.org
URL:https://rec2connect.org/event/free-hiking-club/2026-06-27/
LOCATION:OH
CATEGORIES:Hiking,Outdoor Programs
ATTACH;FMTTYPE=image/png:https://rec2connect.org/wp-content/uploads/2025/07/Events_HikingClub.png
ORGANIZER;CN="Rec2Connect":MAILTO:scheduling@rec2connect.org
END:VEVENT
BEGIN:VEVENT
DTSTART;TZID=America/New_York:20260627T100000
DTEND;TZID=America/New_York:20260627T110000
DTSTAMP:20260424T183943
CREATED:20260416T213645Z
LAST-MODIFIED:20260416T213645Z
UID:10009360-1782554400-1782558000@rec2connect.org
SUMMARY:Free Hiking Club
DESCRIPTION:Family and participants are invited to meet up and move through the Cleveland Metroparks\, exploring trails and making meaningful connections along the way!\nTypically an ‘out and back’ hike\nHiking Club meets for an hour and is designed to meet the needs of all ability levels!\nOptional attendance for parents/caregivers\nTo enroll\, all participants must have an Ensora account and all forms completed.
URL:https://rec2connect.org/event/free-hiking-club-2/
LOCATION:West Creek Metropark\, 2277 W Ridgewood Dr.\, Parma\, OH\, 44134\, United States
CATEGORIES:Hiking,Outdoor Programs
ATTACH;FMTTYPE=image/png:https://rec2connect.org/wp-content/uploads/2025/07/Events_HikingClub.png
ORGANIZER;CN="Rec2Connect":MAILTO:scheduling@rec2connect.org
END:VEVENT
BEGIN:VEVENT
DTSTART;TZID=America/New_York:20260627T110000
DTEND;TZID=America/New_York:20260627T120000
DTSTAMP:20260424T183943
CREATED:20260305T223119Z
LAST-MODIFIED:20260416T212404Z
UID:10009292-1782558000-1782561600@rec2connect.org
SUMMARY:Free Bike Club - June 27
DESCRIPTION:This 1 hour program is designed for participants with moderate biking skills to practice safe riding and build confidence biking in a group setting.\nParticipants must be able to ride independently; one caregiver is required to attend with each participant.\nParticipants must bring their own bike.  E-bikes are not permitted.\nPre-registration is required at least 48 hours in advance.\nOnce registered\, the specific meeting address/location within West Creek Reservation will be emailed to each participant.\nTo enroll\, all participants must have an Ensora account and all forms completed.\nTo register or create your Ensora account\, contact scheduling@rec2connect.org
URL:https://rec2connect.org/event/free-bike-club/
LOCATION:West Creek Metropark\, 2277 W Ridgewood Dr.\, Parma\, OH\, 44134\, United States
CATEGORIES:Biking,Outdoor Programs
ATTACH;FMTTYPE=image/png:https://rec2connect.org/wp-content/uploads/2025/07/Events_BikeConnect.png
ORGANIZER;CN="Rec2Connect":MAILTO:scheduling@rec2connect.org
END:VEVENT
END:VCALENDAR