BEGIN:VCALENDAR
VERSION:2.0
PRODID:-//Rec2Connect - ECPv6.15.20//NONSGML v1.0//EN
CALSCALE:GREGORIAN
METHOD:PUBLISH
X-ORIGINAL-URL:https://rec2connect.org
X-WR-CALDESC:Events for Rec2Connect
REFRESH-INTERVAL;VALUE=DURATION:PT1H
X-Robots-Tag:noindex
X-PUBLISHED-TTL:PT1H
BEGIN:VTIMEZONE
TZID:America/New_York
BEGIN:DAYLIGHT
TZOFFSETFROM:-0500
TZOFFSETTO:-0400
TZNAME:EDT
DTSTART:20250309T070000
END:DAYLIGHT
BEGIN:STANDARD
TZOFFSETFROM:-0400
TZOFFSETTO:-0500
TZNAME:EST
DTSTART:20251102T060000
END:STANDARD
BEGIN:DAYLIGHT
TZOFFSETFROM:-0500
TZOFFSETTO:-0400
TZNAME:EDT
DTSTART:20260308T070000
END:DAYLIGHT
BEGIN:STANDARD
TZOFFSETFROM:-0400
TZOFFSETTO:-0500
TZNAME:EST
DTSTART:20261101T060000
END:STANDARD
BEGIN:DAYLIGHT
TZOFFSETFROM:-0500
TZOFFSETTO:-0400
TZNAME:EDT
DTSTART:20270314T070000
END:DAYLIGHT
BEGIN:STANDARD
TZOFFSETFROM:-0400
TZOFFSETTO:-0500
TZNAME:EST
DTSTART:20271107T060000
END:STANDARD
END:VTIMEZONE
BEGIN:VEVENT
DTSTART;TZID=America/New_York:20260303T143000
DTEND;TZID=America/New_York:20260303T163000
DTSTAMP:20260424T174605
CREATED:20260207T160954Z
LAST-MODIFIED:20260207T160954Z
UID:10008741-1772548200-1772555400@rec2connect.org
SUMMARY:Veteran Rock Climbing - Shaker Rocks
DESCRIPTION:– This program is free for Veterans and Service Members with Disabilities. \n– To register\, please email sarah@rec2connect.org \n– This program is made possible thanks to Move United!
URL:https://rec2connect.org/event/veteran-rock-climbing-shaker-rocks/2026-03-03/
LOCATION:Shaker Rocks
CATEGORIES:Rock Climbing
ATTACH;FMTTYPE=image/png:https://rec2connect.org/wp-content/uploads/2025/07/Events_RockClimbing.png
ORGANIZER;CN="Rec2Connect":MAILTO:scheduling@rec2connect.org
END:VEVENT
BEGIN:VEVENT
DTSTART;TZID=America/New_York:20260303T170000
DTEND;TZID=America/New_York:20260303T190000
DTSTAMP:20260424T174605
CREATED:20251214T030737Z
LAST-MODIFIED:20251216T010542Z
UID:10008694-1772557200-1772564400@rec2connect.org
SUMMARY:Rock Climbing - Shaker Rocks
DESCRIPTION:This is an entry-level program designed for individuals ages 7+ that meets every 2 weeks. \nWe learn climbing skills and climbing terms. Building upon and learning new skills weekly to promote socialization\, problem-solving\, physical activity\, and teamwork. \nPre-registration is required at least 48 hours in advance. \nTo enroll\, all participants must have an Ensora account and all forms completed. \nTo register or create your Ensora account\, please email scheduling@rec2connect.org \nEvent cost includes shoes and harness rental. \n$5 Discount for private pay.
URL:https://rec2connect.org/event/rock-climbing-shaker-rocks-2/2026-03-03/
LOCATION:Shaker Rocks
CATEGORIES:Outdoor Programs,Rock Climbing
ATTACH;FMTTYPE=image/png:https://rec2connect.org/wp-content/uploads/2025/07/Events_RockClimbing.png
ORGANIZER;CN="Rec2Connect":MAILTO:scheduling@rec2connect.org
END:VEVENT
BEGIN:VEVENT
DTSTART;TZID=America/New_York:20260310T143000
DTEND;TZID=America/New_York:20260310T163000
DTSTAMP:20260424T174605
CREATED:20260207T160104Z
LAST-MODIFIED:20260207T160104Z
UID:10008721-1773153000-1773160200@rec2connect.org
SUMMARY:Veteran Rock Climbing - Cleveland Rocks
DESCRIPTION:– This program is free for Veterans and Service Members with Disabilities. \n– To register\, please email sarah@rec2connect.org \n– This program is made possible thanks to Move United!
URL:https://rec2connect.org/event/veteran-rock-climbing-cleveland-rocks/2026-03-10/
LOCATION:Cleveland Rocks
CATEGORIES:Rock Climbing
ATTACH;FMTTYPE=image/png:https://rec2connect.org/wp-content/uploads/2025/07/Events_RockClimbing.png
ORGANIZER;CN="Rec2Connect":MAILTO:scheduling@rec2connect.org
END:VEVENT
BEGIN:VEVENT
DTSTART;TZID=America/New_York:20260310T170000
DTEND;TZID=America/New_York:20260310T190000
DTSTAMP:20260424T174605
CREATED:20251214T030307Z
LAST-MODIFIED:20260120T184601Z
UID:10008676-1773162000-1773169200@rec2connect.org
SUMMARY:Rock Climbing - Cleveland Rocks
DESCRIPTION:This is an entry-level program designed for individuals ages 7+ that meets every 2 weeks. \nWe learn climbing skills and climbing terms. Building upon and learning new skills weekly to promote socialization\, problem-solving\, physical activity\, and teamwork. \nPre-registration is required at least 48 hours in advance. \nTo enroll\, all participants must have an Ensora account and all forms completed. \nTo register or create your Ensora account\, please email scheduling@rec2connect.org \nEvent cost includes shoes and harness rental. \n$5 Discount for private pay.
URL:https://rec2connect.org/event/rock-climbing-cleveland-rocks/2026-03-10/
LOCATION:Cleveland Rocks
CATEGORIES:Rock Climbing
ATTACH;FMTTYPE=image/png:https://rec2connect.org/wp-content/uploads/2025/07/Events_RockClimbing.png
ORGANIZER;CN="Rec2Connect":MAILTO:scheduling@rec2connect.org
END:VEVENT
BEGIN:VEVENT
DTSTART;TZID=America/New_York:20260317T143000
DTEND;TZID=America/New_York:20260317T163000
DTSTAMP:20260424T174605
CREATED:20260207T160954Z
LAST-MODIFIED:20260207T160954Z
UID:10008742-1773757800-1773765000@rec2connect.org
SUMMARY:Veteran Rock Climbing - Shaker Rocks
DESCRIPTION:– This program is free for Veterans and Service Members with Disabilities. \n– To register\, please email sarah@rec2connect.org \n– This program is made possible thanks to Move United!
URL:https://rec2connect.org/event/veteran-rock-climbing-shaker-rocks/2026-03-17/
LOCATION:Shaker Rocks
CATEGORIES:Rock Climbing
ATTACH;FMTTYPE=image/png:https://rec2connect.org/wp-content/uploads/2025/07/Events_RockClimbing.png
ORGANIZER;CN="Rec2Connect":MAILTO:scheduling@rec2connect.org
END:VEVENT
BEGIN:VEVENT
DTSTART;TZID=America/New_York:20260317T170000
DTEND;TZID=America/New_York:20260317T190000
DTSTAMP:20260424T174605
CREATED:20251214T030737Z
LAST-MODIFIED:20251216T010542Z
UID:10008695-1773766800-1773774000@rec2connect.org
SUMMARY:Rock Climbing - Shaker Rocks
DESCRIPTION:This is an entry-level program designed for individuals ages 7+ that meets every 2 weeks. \nWe learn climbing skills and climbing terms. Building upon and learning new skills weekly to promote socialization\, problem-solving\, physical activity\, and teamwork. \nPre-registration is required at least 48 hours in advance. \nTo enroll\, all participants must have an Ensora account and all forms completed. \nTo register or create your Ensora account\, please email scheduling@rec2connect.org \nEvent cost includes shoes and harness rental. \n$5 Discount for private pay.
URL:https://rec2connect.org/event/rock-climbing-shaker-rocks-2/2026-03-17/
LOCATION:Shaker Rocks
CATEGORIES:Outdoor Programs,Rock Climbing
ATTACH;FMTTYPE=image/png:https://rec2connect.org/wp-content/uploads/2025/07/Events_RockClimbing.png
ORGANIZER;CN="Rec2Connect":MAILTO:scheduling@rec2connect.org
END:VEVENT
BEGIN:VEVENT
DTSTART;TZID=America/New_York:20260320T183000
DTEND;TZID=America/New_York:20260320T203000
DTSTAMP:20260424T174605
CREATED:20260207T160440Z
LAST-MODIFIED:20260207T160440Z
UID:10008729-1774031400-1774038600@rec2connect.org
SUMMARY:Veteran Rock Climbing - Cleveland Rocks
DESCRIPTION:– This program is free for Veterans and Service Members with Disabilities. \n– To register\, please email sarah@rec2connect.org \n– This program is made possible thanks to Move United!
URL:https://rec2connect.org/event/veteran-rock-climbing-cleveland-rocks-3/
LOCATION:Cleveland Rocks
CATEGORIES:Rock Climbing
ATTACH;FMTTYPE=image/png:https://rec2connect.org/wp-content/uploads/2025/07/Events_RockClimbing.png
ORGANIZER;CN="Rec2Connect":MAILTO:scheduling@rec2connect.org
END:VEVENT
BEGIN:VEVENT
DTSTART;TZID=America/New_York:20260324T143000
DTEND;TZID=America/New_York:20260324T163000
DTSTAMP:20260424T174605
CREATED:20260207T160104Z
LAST-MODIFIED:20260207T160104Z
UID:10008722-1774362600-1774369800@rec2connect.org
SUMMARY:Veteran Rock Climbing - Cleveland Rocks
DESCRIPTION:– This program is free for Veterans and Service Members with Disabilities. \n– To register\, please email sarah@rec2connect.org \n– This program is made possible thanks to Move United!
URL:https://rec2connect.org/event/veteran-rock-climbing-cleveland-rocks/2026-03-24/
LOCATION:Cleveland Rocks
CATEGORIES:Rock Climbing
ATTACH;FMTTYPE=image/png:https://rec2connect.org/wp-content/uploads/2025/07/Events_RockClimbing.png
ORGANIZER;CN="Rec2Connect":MAILTO:scheduling@rec2connect.org
END:VEVENT
BEGIN:VEVENT
DTSTART;TZID=America/New_York:20260324T170000
DTEND;TZID=America/New_York:20260324T190000
DTSTAMP:20260424T174605
CREATED:20251214T030307Z
LAST-MODIFIED:20260120T184601Z
UID:10008677-1774371600-1774378800@rec2connect.org
SUMMARY:Rock Climbing - Cleveland Rocks
DESCRIPTION:This is an entry-level program designed for individuals ages 7+ that meets every 2 weeks. \nWe learn climbing skills and climbing terms. Building upon and learning new skills weekly to promote socialization\, problem-solving\, physical activity\, and teamwork. \nPre-registration is required at least 48 hours in advance. \nTo enroll\, all participants must have an Ensora account and all forms completed. \nTo register or create your Ensora account\, please email scheduling@rec2connect.org \nEvent cost includes shoes and harness rental. \n$5 Discount for private pay.
URL:https://rec2connect.org/event/rock-climbing-cleveland-rocks/2026-03-24/
LOCATION:Cleveland Rocks
CATEGORIES:Rock Climbing
ATTACH;FMTTYPE=image/png:https://rec2connect.org/wp-content/uploads/2025/07/Events_RockClimbing.png
ORGANIZER;CN="Rec2Connect":MAILTO:scheduling@rec2connect.org
END:VEVENT
BEGIN:VEVENT
DTSTART;TZID=America/New_York:20260331T143000
DTEND;TZID=America/New_York:20260331T163000
DTSTAMP:20260424T174605
CREATED:20260207T160311Z
LAST-MODIFIED:20260207T160311Z
UID:10008727-1774967400-1774974600@rec2connect.org
SUMMARY:Veteran Rock Climbing - Cleveland Rocks
DESCRIPTION:– This program is free for Veterans and Service Members with Disabilities. \n– To register\, please email sarah@rec2connect.org \n– This program is made possible thanks to Move United!
URL:https://rec2connect.org/event/veteran-rock-climbing-cleveland-rocks-2/2026-03-31/
LOCATION:Cleveland Rocks
CATEGORIES:Rock Climbing
ATTACH;FMTTYPE=image/png:https://rec2connect.org/wp-content/uploads/2025/07/Events_RockClimbing.png
ORGANIZER;CN="Rec2Connect":MAILTO:scheduling@rec2connect.org
END:VEVENT
BEGIN:VEVENT
DTSTART;TZID=America/New_York:20260331T183000
DTEND;TZID=America/New_York:20260331T203000
DTSTAMP:20260424T174605
CREATED:20260120T184142Z
LAST-MODIFIED:20260120T184746Z
UID:10008709-1774981800-1774989000@rec2connect.org
SUMMARY:Caregiver Climbing Night
DESCRIPTION:Ascend and unwind!  Head to Cleveland Rocks and engage in the fun of rock climbing while meeting other caregivers and parents! \nRec2Connect staff will be there to assist at this beginner-friendly event. \nEmail scheduling@rec2connect.org to register and complete your Ensora forms!
URL:https://rec2connect.org/event/caregiver-climbing-night/
LOCATION:Cleveland Rocks
CATEGORIES:Rock Climbing,Social Events
ATTACH;FMTTYPE=image/png:https://rec2connect.org/wp-content/uploads/2025/07/Events_RockClimbing.png
ORGANIZER;CN="Rec2Connect":MAILTO:scheduling@rec2connect.org
END:VEVENT
END:VCALENDAR