BEGIN:VCALENDAR
VERSION:2.0
PRODID:-//Rec2Connect - ECPv6.15.20//NONSGML v1.0//EN
CALSCALE:GREGORIAN
METHOD:PUBLISH
X-ORIGINAL-URL:https://rec2connect.org
X-WR-CALDESC:Events for Rec2Connect
REFRESH-INTERVAL;VALUE=DURATION:PT1H
X-Robots-Tag:noindex
X-PUBLISHED-TTL:PT1H
BEGIN:VTIMEZONE
TZID:America/New_York
BEGIN:DAYLIGHT
TZOFFSETFROM:-0500
TZOFFSETTO:-0400
TZNAME:EDT
DTSTART:20240310T070000
END:DAYLIGHT
BEGIN:STANDARD
TZOFFSETFROM:-0400
TZOFFSETTO:-0500
TZNAME:EST
DTSTART:20241103T060000
END:STANDARD
BEGIN:DAYLIGHT
TZOFFSETFROM:-0500
TZOFFSETTO:-0400
TZNAME:EDT
DTSTART:20250309T070000
END:DAYLIGHT
BEGIN:STANDARD
TZOFFSETFROM:-0400
TZOFFSETTO:-0500
TZNAME:EST
DTSTART:20251102T060000
END:STANDARD
BEGIN:DAYLIGHT
TZOFFSETFROM:-0500
TZOFFSETTO:-0400
TZNAME:EDT
DTSTART:20260308T070000
END:DAYLIGHT
BEGIN:STANDARD
TZOFFSETFROM:-0400
TZOFFSETTO:-0500
TZNAME:EST
DTSTART:20261101T060000
END:STANDARD
END:VTIMEZONE
BEGIN:VEVENT
DTSTART;TZID=America/New_York:20251001T171500
DTEND;TZID=America/New_York:20251001T181500
DTSTAMP:20260425T002106
CREATED:20250720T130249Z
LAST-MODIFIED:20260219T202327Z
UID:10007744-1759338900-1759342500@rec2connect.org
SUMMARY:West Hiking Club Ages 13+
DESCRIPTION:
URL:https://rec2connect.org/event/west-hiking-club-ages-13/2025-10-01/
LOCATION:Metroparks\, TBD\, Cleveland\, OH\, United States
CATEGORIES:Hiking
ATTACH;FMTTYPE=image/png:https://rec2connect.org/wp-content/uploads/2025/07/Events_HikingClub.png
ORGANIZER;CN="Rec2Connect":MAILTO:scheduling@rec2connect.org
END:VEVENT
BEGIN:VEVENT
DTSTART;TZID=America/New_York:20251005T150000
DTEND;TZID=America/New_York:20251005T160000
DTSTAMP:20260425T002106
CREATED:20250720T130218Z
LAST-MODIFIED:20251010T172036Z
UID:10005044-1759676400-1759680000@rec2connect.org
SUMMARY:East Hiking Club Ages 13+
DESCRIPTION:
URL:https://rec2connect.org/event/east-hiking-club-ages-13/2025-10-05/
LOCATION:Metroparks\, TBD\, Cleveland\, OH\, United States
CATEGORIES:Hiking
ATTACH;FMTTYPE=image/png:https://rec2connect.org/wp-content/uploads/2025/07/Events_HikingClub.png
ORGANIZER;CN="Rec2Connect":MAILTO:scheduling@rec2connect.org
END:VEVENT
BEGIN:VEVENT
DTSTART;TZID=America/New_York:20251005T161500
DTEND;TZID=America/New_York:20251005T171500
DTSTAMP:20260425T002106
CREATED:20250720T130232Z
LAST-MODIFIED:20251010T171606Z
UID:10005964-1759680900-1759684500@rec2connect.org
SUMMARY:East Hiking Club Ages 7-12
DESCRIPTION:
URL:https://rec2connect.org/event/east-hiking-club-ages-7-12/2025-10-05/
LOCATION:Metroparks\, TBD\, Cleveland\, OH\, United States
CATEGORIES:Hiking
ATTACH;FMTTYPE=image/png:https://rec2connect.org/wp-content/uploads/2025/07/Events_HikingClub.png
ORGANIZER;CN="Rec2Connect":MAILTO:scheduling@rec2connect.org
END:VEVENT
BEGIN:VEVENT
DTSTART;TZID=America/New_York:20251007T170000
DTEND;TZID=America/New_York:20251007T190000
DTSTAMP:20260425T002106
CREATED:20250720T133513Z
LAST-MODIFIED:20251105T215005Z
UID:10001363-1759856400-1759863600@rec2connect.org
SUMMARY:Rock Climbing - Shaker Rocks
DESCRIPTION:This is an entry-level program designed for individuals ages 7+ that meets every 2 weeks. \nWe learn climbing skills and climbing terms. Building upon and learning new skills weekly to promote socialization\, problem-solving\, physical activity\, and teamwork. \nPre-registration is required at least 48 hours in advance. \nTo enroll\, all participants must have an Ensora account and all forms completed. \nTo register or create your Ensora account\, please email scheduling@rec2connect.org \nEvent cost includes shoes and harness rental.
URL:https://rec2connect.org/event/rock-climbing-6/2025-10-07/
LOCATION:Shaker Rocks
CATEGORIES:Outdoor Programs,Rock Climbing
ATTACH;FMTTYPE=image/png:https://rec2connect.org/wp-content/uploads/2025/07/Events_RockClimbing.png
ORGANIZER;CN="Rec2Connect":MAILTO:scheduling@rec2connect.org
END:VEVENT
BEGIN:VEVENT
DTSTART;TZID=America/New_York:20251008T171500
DTEND;TZID=America/New_York:20251008T181500
DTSTAMP:20260425T002106
CREATED:20250720T130249Z
LAST-MODIFIED:20260219T202327Z
UID:10007745-1759943700-1759947300@rec2connect.org
SUMMARY:West Hiking Club Ages 13+
DESCRIPTION:
URL:https://rec2connect.org/event/west-hiking-club-ages-13/2025-10-08/
LOCATION:Metroparks\, TBD\, Cleveland\, OH\, United States
CATEGORIES:Hiking
ATTACH;FMTTYPE=image/png:https://rec2connect.org/wp-content/uploads/2025/07/Events_HikingClub.png
ORGANIZER;CN="Rec2Connect":MAILTO:scheduling@rec2connect.org
END:VEVENT
BEGIN:VEVENT
DTSTART;TZID=America/New_York:20251011T130000
DTEND;TZID=America/New_York:20251011T150000
DTSTAMP:20260425T002106
CREATED:20250902T204022Z
LAST-MODIFIED:20250902T204022Z
UID:10008056-1760187600-1760194800@rec2connect.org
SUMMARY:Adaptive Fishing - Astorhurst Pond at Bedford Reservation Ages 8+
DESCRIPTION:Join Rec2Connect for a program in partnership with the Cleveland Metroparks. \nCast your line and learn about different fishing equipment and techniques! \nProgram designed for individuals ages 8+. \nRegistration deadline is Oct. 8. \nTo enroll\, all participants must have an Ensora account and all forms completed.
URL:https://rec2connect.org/event/adaptive-fishing-astorhurst-pond-at-bedford-reservation-ages-8/
LOCATION:Astorhurst Pond at Bedford Reservation\, 6980 Dunham Rd.\, Bedford\, OH\, 44146\, United States
CATEGORIES:Outdoor Programs
ORGANIZER;CN="Rec2Connect":MAILTO:scheduling@rec2connect.org
END:VEVENT
BEGIN:VEVENT
DTSTART;TZID=America/New_York:20251012T150000
DTEND;TZID=America/New_York:20251012T160000
DTSTAMP:20260425T002106
CREATED:20250720T130218Z
LAST-MODIFIED:20251010T172036Z
UID:10005045-1760281200-1760284800@rec2connect.org
SUMMARY:East Hiking Club Ages 13+
DESCRIPTION:
URL:https://rec2connect.org/event/east-hiking-club-ages-13/2025-10-12/
LOCATION:Metroparks\, TBD\, Cleveland\, OH\, United States
CATEGORIES:Hiking
ATTACH;FMTTYPE=image/png:https://rec2connect.org/wp-content/uploads/2025/07/Events_HikingClub.png
ORGANIZER;CN="Rec2Connect":MAILTO:scheduling@rec2connect.org
END:VEVENT
BEGIN:VEVENT
DTSTART;TZID=America/New_York:20251012T161500
DTEND;TZID=America/New_York:20251012T171500
DTSTAMP:20260425T002106
CREATED:20250720T130232Z
LAST-MODIFIED:20251010T171606Z
UID:10005965-1760285700-1760289300@rec2connect.org
SUMMARY:East Hiking Club Ages 7-12
DESCRIPTION:
URL:https://rec2connect.org/event/east-hiking-club-ages-7-12/2025-10-12/
LOCATION:Metroparks\, TBD\, Cleveland\, OH\, United States
CATEGORIES:Hiking
ATTACH;FMTTYPE=image/png:https://rec2connect.org/wp-content/uploads/2025/07/Events_HikingClub.png
ORGANIZER;CN="Rec2Connect":MAILTO:scheduling@rec2connect.org
END:VEVENT
BEGIN:VEVENT
DTSTART;TZID=America/New_York:20251014T170000
DTEND;TZID=America/New_York:20251014T190000
DTSTAMP:20260425T002106
CREATED:20250719T054614Z
LAST-MODIFIED:20250923T143845Z
UID:10005564-1760461200-1760468400@rec2connect.org
SUMMARY:Rock Climbing - Cleveland Rocks
DESCRIPTION:This is an entry-level program designed for individuals ages 7+ that meets every 2 weeks. \nWe learn climbing skills and climbing terms. Building upon and learning new skills weekly to promote socialization\, problem-solving\, physical activity\, and teamwork. \nPre-registration is required at least 48 hours in advance. \nTo enroll\, all participants must have an Ensora account and all forms completed. \nTo register or create your Ensora account\, please email scheduling@rec2connect.org \nEvent cost includes shoes and harness rental.
URL:https://rec2connect.org/event/rock-climbing-4/2025-10-14/
LOCATION:Cleveland Rocks
CATEGORIES:Outdoor Programs,Rock Climbing
ATTACH;FMTTYPE=image/png:https://rec2connect.org/wp-content/uploads/2025/07/Events_RockClimbing.png
ORGANIZER;CN="Rec2Connect":MAILTO:scheduling@rec2connect.org
END:VEVENT
BEGIN:VEVENT
DTSTART;TZID=America/New_York:20251015T171500
DTEND;TZID=America/New_York:20251015T181500
DTSTAMP:20260425T002106
CREATED:20250720T130249Z
LAST-MODIFIED:20260219T202327Z
UID:10007746-1760548500-1760552100@rec2connect.org
SUMMARY:West Hiking Club Ages 13+
DESCRIPTION:
URL:https://rec2connect.org/event/west-hiking-club-ages-13/2025-10-15/
LOCATION:Metroparks\, TBD\, Cleveland\, OH\, United States
CATEGORIES:Hiking
ATTACH;FMTTYPE=image/png:https://rec2connect.org/wp-content/uploads/2025/07/Events_HikingClub.png
ORGANIZER;CN="Rec2Connect":MAILTO:scheduling@rec2connect.org
END:VEVENT
BEGIN:VEVENT
DTSTART;TZID=America/New_York:20251016T100000
DTEND;TZID=America/New_York:20251016T120000
DTSTAMP:20260425T002106
CREATED:20250726T125207Z
LAST-MODIFIED:20250726T125207Z
UID:10007621-1760608800-1760616000@rec2connect.org
SUMMARY:Kayaking - Advanced Ages 8+
DESCRIPTION:Program for people with previous kayak experience.  Focus on lake exploration and education\, moderate to advanced kayaking skills\, safety and tripping.
URL:https://rec2connect.org/event/kayaking-advanced-ages-8-4/
LOCATION:West Branch State Park\, 5570 Esworthy Rd.\, Ravenna\, OH\, 44266\, United States
CATEGORIES:Kayaking
ORGANIZER;CN="Rec2Connect":MAILTO:scheduling@rec2connect.org
END:VEVENT
BEGIN:VEVENT
DTSTART;TZID=America/New_York:20251021T170000
DTEND;TZID=America/New_York:20251021T190000
DTSTAMP:20260425T002106
CREATED:20250720T133513Z
LAST-MODIFIED:20251105T215005Z
UID:10001364-1761066000-1761073200@rec2connect.org
SUMMARY:Rock Climbing - Shaker Rocks
DESCRIPTION:This is an entry-level program designed for individuals ages 7+ that meets every 2 weeks. \nWe learn climbing skills and climbing terms. Building upon and learning new skills weekly to promote socialization\, problem-solving\, physical activity\, and teamwork. \nPre-registration is required at least 48 hours in advance. \nTo enroll\, all participants must have an Ensora account and all forms completed. \nTo register or create your Ensora account\, please email scheduling@rec2connect.org \nEvent cost includes shoes and harness rental.
URL:https://rec2connect.org/event/rock-climbing-6/2025-10-21/
LOCATION:Shaker Rocks
CATEGORIES:Outdoor Programs,Rock Climbing
ATTACH;FMTTYPE=image/png:https://rec2connect.org/wp-content/uploads/2025/07/Events_RockClimbing.png
ORGANIZER;CN="Rec2Connect":MAILTO:scheduling@rec2connect.org
END:VEVENT
BEGIN:VEVENT
DTSTART;TZID=America/New_York:20251022T171500
DTEND;TZID=America/New_York:20251022T181500
DTSTAMP:20260425T002106
CREATED:20250720T130249Z
LAST-MODIFIED:20260219T202327Z
UID:10007747-1761153300-1761156900@rec2connect.org
SUMMARY:West Hiking Club Ages 13+
DESCRIPTION:
URL:https://rec2connect.org/event/west-hiking-club-ages-13/2025-10-22/
LOCATION:Metroparks\, TBD\, Cleveland\, OH\, United States
CATEGORIES:Hiking
ATTACH;FMTTYPE=image/png:https://rec2connect.org/wp-content/uploads/2025/07/Events_HikingClub.png
ORGANIZER;CN="Rec2Connect":MAILTO:scheduling@rec2connect.org
END:VEVENT
BEGIN:VEVENT
DTSTART;TZID=America/New_York:20251028T170000
DTEND;TZID=America/New_York:20251028T190000
DTSTAMP:20260425T002106
CREATED:20250719T054614Z
LAST-MODIFIED:20250923T143845Z
UID:10005565-1761670800-1761678000@rec2connect.org
SUMMARY:Rock Climbing - Cleveland Rocks
DESCRIPTION:This is an entry-level program designed for individuals ages 7+ that meets every 2 weeks. \nWe learn climbing skills and climbing terms. Building upon and learning new skills weekly to promote socialization\, problem-solving\, physical activity\, and teamwork. \nPre-registration is required at least 48 hours in advance. \nTo enroll\, all participants must have an Ensora account and all forms completed. \nTo register or create your Ensora account\, please email scheduling@rec2connect.org \nEvent cost includes shoes and harness rental.
URL:https://rec2connect.org/event/rock-climbing-4/2025-10-28/
LOCATION:Cleveland Rocks
CATEGORIES:Outdoor Programs,Rock Climbing
ATTACH;FMTTYPE=image/png:https://rec2connect.org/wp-content/uploads/2025/07/Events_RockClimbing.png
ORGANIZER;CN="Rec2Connect":MAILTO:scheduling@rec2connect.org
END:VEVENT
BEGIN:VEVENT
DTSTART;TZID=America/New_York:20251029T171500
DTEND;TZID=America/New_York:20251029T181500
DTSTAMP:20260425T002106
CREATED:20250720T130249Z
LAST-MODIFIED:20260219T202327Z
UID:10007748-1761758100-1761761700@rec2connect.org
SUMMARY:West Hiking Club Ages 13+
DESCRIPTION:
URL:https://rec2connect.org/event/west-hiking-club-ages-13/2025-10-29/
LOCATION:Metroparks\, TBD\, Cleveland\, OH\, United States
CATEGORIES:Hiking
ATTACH;FMTTYPE=image/png:https://rec2connect.org/wp-content/uploads/2025/07/Events_HikingClub.png
ORGANIZER;CN="Rec2Connect":MAILTO:scheduling@rec2connect.org
END:VEVENT
END:VCALENDAR