BEGIN:VCALENDAR
VERSION:2.0
PRODID:-//Rec2Connect - ECPv6.15.20//NONSGML v1.0//EN
CALSCALE:GREGORIAN
METHOD:PUBLISH
X-ORIGINAL-URL:https://rec2connect.org
X-WR-CALDESC:Events for Rec2Connect
REFRESH-INTERVAL;VALUE=DURATION:PT1H
X-Robots-Tag:noindex
X-PUBLISHED-TTL:PT1H
BEGIN:VTIMEZONE
TZID:America/New_York
BEGIN:DAYLIGHT
TZOFFSETFROM:-0500
TZOFFSETTO:-0400
TZNAME:EDT
DTSTART:20270314T070000
END:DAYLIGHT
BEGIN:STANDARD
TZOFFSETFROM:-0400
TZOFFSETTO:-0500
TZNAME:EST
DTSTART:20271107T060000
END:STANDARD
BEGIN:DAYLIGHT
TZOFFSETFROM:-0500
TZOFFSETTO:-0400
TZNAME:EDT
DTSTART:20280312T070000
END:DAYLIGHT
BEGIN:STANDARD
TZOFFSETFROM:-0400
TZOFFSETTO:-0500
TZNAME:EST
DTSTART:20281105T060000
END:STANDARD
BEGIN:DAYLIGHT
TZOFFSETFROM:-0500
TZOFFSETTO:-0400
TZNAME:EDT
DTSTART:20290311T070000
END:DAYLIGHT
BEGIN:STANDARD
TZOFFSETFROM:-0400
TZOFFSETTO:-0500
TZNAME:EST
DTSTART:20291104T060000
END:STANDARD
END:VTIMEZONE
BEGIN:VEVENT
DTSTART;TZID=America/New_York:20280406T173000
DTEND;TZID=America/New_York:20280406T181500
DTSTAMP:20260426T002727
CREATED:20250720T130302Z
LAST-MODIFIED:20260226T220528Z
UID:10002420-1838655000-1838657700@rec2connect.org
SUMMARY:Pedal Power
DESCRIPTION:Indoor stationary bike riding class that will work on bike riding skills\, balance\, strength\, endurance and motor planning \nNOTE:  There is a $5 discount for private pay!
URL:https://rec2connect.org/event/pedal-power/2028-04-06/
LOCATION:Gemini Center (Fairview)\, 21225 Lorain Rd\, Cleveland\, OH\, 44126\, United States
CATEGORIES:Pedal Power
ATTACH;FMTTYPE=image/png:https://rec2connect.org/wp-content/uploads/2025/07/Events_PedalPower.png
ORGANIZER;CN="Rec2Connect":MAILTO:scheduling@rec2connect.org
END:VEVENT
BEGIN:VEVENT
DTSTART;TZID=America/New_York:20280413T173000
DTEND;TZID=America/New_York:20280413T181500
DTSTAMP:20260426T002727
CREATED:20250720T130302Z
LAST-MODIFIED:20260226T220528Z
UID:10002421-1839259800-1839262500@rec2connect.org
SUMMARY:Pedal Power
DESCRIPTION:Indoor stationary bike riding class that will work on bike riding skills\, balance\, strength\, endurance and motor planning \nNOTE:  There is a $5 discount for private pay!
URL:https://rec2connect.org/event/pedal-power/2028-04-13/
LOCATION:Gemini Center (Fairview)\, 21225 Lorain Rd\, Cleveland\, OH\, 44126\, United States
CATEGORIES:Pedal Power
ATTACH;FMTTYPE=image/png:https://rec2connect.org/wp-content/uploads/2025/07/Events_PedalPower.png
ORGANIZER;CN="Rec2Connect":MAILTO:scheduling@rec2connect.org
END:VEVENT
BEGIN:VEVENT
DTSTART;TZID=America/New_York:20280420T173000
DTEND;TZID=America/New_York:20280420T181500
DTSTAMP:20260426T002727
CREATED:20250720T130302Z
LAST-MODIFIED:20260226T220528Z
UID:10002422-1839864600-1839867300@rec2connect.org
SUMMARY:Pedal Power
DESCRIPTION:Indoor stationary bike riding class that will work on bike riding skills\, balance\, strength\, endurance and motor planning \nNOTE:  There is a $5 discount for private pay!
URL:https://rec2connect.org/event/pedal-power/2028-04-20/
LOCATION:Gemini Center (Fairview)\, 21225 Lorain Rd\, Cleveland\, OH\, 44126\, United States
CATEGORIES:Pedal Power
ATTACH;FMTTYPE=image/png:https://rec2connect.org/wp-content/uploads/2025/07/Events_PedalPower.png
ORGANIZER;CN="Rec2Connect":MAILTO:scheduling@rec2connect.org
END:VEVENT
BEGIN:VEVENT
DTSTART;TZID=America/New_York:20280427T173000
DTEND;TZID=America/New_York:20280427T181500
DTSTAMP:20260426T002727
CREATED:20250720T130302Z
LAST-MODIFIED:20260226T220528Z
UID:10002423-1840469400-1840472100@rec2connect.org
SUMMARY:Pedal Power
DESCRIPTION:Indoor stationary bike riding class that will work on bike riding skills\, balance\, strength\, endurance and motor planning \nNOTE:  There is a $5 discount for private pay!
URL:https://rec2connect.org/event/pedal-power/2028-04-27/
LOCATION:Gemini Center (Fairview)\, 21225 Lorain Rd\, Cleveland\, OH\, 44126\, United States
CATEGORIES:Pedal Power
ATTACH;FMTTYPE=image/png:https://rec2connect.org/wp-content/uploads/2025/07/Events_PedalPower.png
ORGANIZER;CN="Rec2Connect":MAILTO:scheduling@rec2connect.org
END:VEVENT
END:VCALENDAR