BEGIN:VCALENDAR
VERSION:2.0
PRODID:-//Rec2Connect - ECPv6.15.20//NONSGML v1.0//EN
CALSCALE:GREGORIAN
METHOD:PUBLISH
X-ORIGINAL-URL:https://rec2connect.org
X-WR-CALDESC:Events for Rec2Connect
REFRESH-INTERVAL;VALUE=DURATION:PT1H
X-Robots-Tag:noindex
X-PUBLISHED-TTL:PT1H
BEGIN:VTIMEZONE
TZID:America/New_York
BEGIN:DAYLIGHT
TZOFFSETFROM:-0500
TZOFFSETTO:-0400
TZNAME:EDT
DTSTART:20260308T070000
END:DAYLIGHT
BEGIN:STANDARD
TZOFFSETFROM:-0400
TZOFFSETTO:-0500
TZNAME:EST
DTSTART:20261101T060000
END:STANDARD
BEGIN:DAYLIGHT
TZOFFSETFROM:-0500
TZOFFSETTO:-0400
TZNAME:EDT
DTSTART:20270314T070000
END:DAYLIGHT
BEGIN:STANDARD
TZOFFSETFROM:-0400
TZOFFSETTO:-0500
TZNAME:EST
DTSTART:20271107T060000
END:STANDARD
BEGIN:DAYLIGHT
TZOFFSETFROM:-0500
TZOFFSETTO:-0400
TZNAME:EDT
DTSTART:20280312T070000
END:DAYLIGHT
BEGIN:STANDARD
TZOFFSETFROM:-0400
TZOFFSETTO:-0500
TZNAME:EST
DTSTART:20281105T060000
END:STANDARD
END:VTIMEZONE
BEGIN:VEVENT
DTSTART;TZID=America/New_York:20270701T163000
DTEND;TZID=America/New_York:20270701T171500
DTSTAMP:20260425T151247
CREATED:20250720T130249Z
LAST-MODIFIED:20260226T220634Z
UID:10002117-1814459400-1814462100@rec2connect.org
SUMMARY:Cardio Drumming
DESCRIPTION:This 45 minute weekly exercise class for teens and adults is led by a Recreation Therapist. Cardio drumming incorporates movement\, stretching\, music\, and rhythm together for an alternative cardiovascular workout. This class focuses on range of motion\, endurance\, strengthening\, flexibility\, coordination and body awareness. \nNOTE:  There is a $5 discount for private pay!
URL:https://rec2connect.org/event/cardio-drumming-18/2027-07-01/
LOCATION:Gemini Center (Fairview)\, 21225 Lorain Rd\, Cleveland\, OH\, 44126\, United States
CATEGORIES:Cardio Drumming
ATTACH;FMTTYPE=image/png:https://rec2connect.org/wp-content/uploads/2025/07/Events_CardioDrum.png
ORGANIZER;CN="Rec2Connect":MAILTO:scheduling@rec2connect.org
END:VEVENT
BEGIN:VEVENT
DTSTART;TZID=America/New_York:20270701T173000
DTEND;TZID=America/New_York:20270701T181500
DTSTAMP:20260425T151247
CREATED:20250720T130302Z
LAST-MODIFIED:20260226T220528Z
UID:10002380-1814463000-1814465700@rec2connect.org
SUMMARY:Pedal Power
DESCRIPTION:Indoor stationary bike riding class that will work on bike riding skills\, balance\, strength\, endurance and motor planning \nNOTE:  There is a $5 discount for private pay!
URL:https://rec2connect.org/event/pedal-power/2027-07-01/
LOCATION:Gemini Center (Fairview)\, 21225 Lorain Rd\, Cleveland\, OH\, 44126\, United States
CATEGORIES:Pedal Power
ATTACH;FMTTYPE=image/png:https://rec2connect.org/wp-content/uploads/2025/07/Events_PedalPower.png
ORGANIZER;CN="Rec2Connect":MAILTO:scheduling@rec2connect.org
END:VEVENT
BEGIN:VEVENT
DTSTART;TZID=America/New_York:20270701T183000
DTEND;TZID=America/New_York:20270701T193000
DTSTAMP:20260425T151247
CREATED:20250720T130303Z
LAST-MODIFIED:20260226T220341Z
UID:10002643-1814466600-1814470200@rec2connect.org
SUMMARY:Fit Friends
DESCRIPTION:Structured full body workouts and social interaction \nNOTE:  There is a $5 discount for private pay!
URL:https://rec2connect.org/event/fit-friends-2/2027-07-01/
LOCATION:Gemini Center (Fairview)\, 21225 Lorain Rd\, Cleveland\, OH\, 44126\, United States
CATEGORIES:Fit Friends
ATTACH;FMTTYPE=image/png:https://rec2connect.org/wp-content/uploads/2025/07/Events_FitFriends.png
ORGANIZER;CN="Rec2Connect":MAILTO:scheduling@rec2connect.org
END:VEVENT
BEGIN:VEVENT
DTSTART;TZID=America/New_York:20270703T100000
DTEND;TZID=America/New_York:20270703T104500
DTSTAMP:20260425T151247
CREATED:20250720T005625Z
LAST-MODIFIED:20260226T220144Z
UID:10000659-1814608800-1814611500@rec2connect.org
SUMMARY:Cardio Drumming
DESCRIPTION:This 45 minute weekly exercise class for teens and adults is led by a Recreation Therapist. Cardio drumming incorporates movement\, stretching\, music\, and rhythm together for an alternative cardiovascular workout. This class focuses on range of motion\, endurance\, strengthening\, flexibility\, coordination and body awareness. \nNOTE:  There is a $5 discount for private pay!
URL:https://rec2connect.org/event/cardio-drumming/2027-07-03/
LOCATION:Seven Hills Parks and Rec Center\, 7777 Summit View Dr\, Seven HIlls\, OH\, 44131\, United States
CATEGORIES:Cardio Drumming
ATTACH;FMTTYPE=image/png:https://rec2connect.org/wp-content/uploads/2025/07/CardioDrum_01.png
ORGANIZER;CN="Rec2Connect":MAILTO:scheduling@rec2connect.org
END:VEVENT
BEGIN:VEVENT
DTSTART;TZID=America/New_York:20270705T173000
DTEND;TZID=America/New_York:20270705T180000
DTSTAMP:20260425T151247
CREATED:20260418T182326Z
LAST-MODIFIED:20260418T182523Z
UID:10009484-1814808600-1814810400@rec2connect.org
SUMMARY:Inclusive Cheer and Spirit Squad
DESCRIPTION:Join Rec2Connect’s Inclusive Cheer and Spirit Squad\, now cheering for Empower Sports’ Flag Football teams!\nPractices will include light conditioning\, learning about cheerleading\, and working on multiple cheers.\nParticipants will build confidence and teamwork skills while forming new friendships!\nA public performance is scheduled for the end of each session.\nAttendance at each practice is strongly encouraged to support team building and sportsmanship.
URL:https://rec2connect.org/event/inclusive-cheer-and-spirit-squad/2027-07-05/
LOCATION:Lakewood-Garfield Middle School\, 13114 Detroit Ave.\, Lakewood\, OH\, 44107\, United States
CATEGORIES:Cheer,Group Programs
ATTACH;FMTTYPE=image/png:https://rec2connect.org/wp-content/uploads/2025/07/Inclusive-Cheerleading-Header-Photo-1.png
ORGANIZER;CN="Rec2Connect":MAILTO:scheduling@rec2connect.org
END:VEVENT
BEGIN:VEVENT
DTSTART;TZID=America/New_York:20270705T180000
DTEND;TZID=America/New_York:20270705T184500
DTSTAMP:20260425T151247
CREATED:20260418T183225Z
LAST-MODIFIED:20260418T183225Z
UID:10009655-1814810400-1814813100@rec2connect.org
SUMMARY:Inclusive Cheer and Spirit Squad
DESCRIPTION:Join Rec2Connect’s Inclusive Cheer and Spirit Squad\, now cheering for Empower Sports’ Flag Football teams!\nPractices will include light conditioning\, learning about cheerleading\, and working on multiple cheers.\nParticipants will build confidence and teamwork skills while forming new friendships!\nA public performance is scheduled for the end of each session.\nAttendance at each practice is strongly encouraged to support team building and sportsmanship.
URL:https://rec2connect.org/event/inclusive-cheer-and-spirit-squad-3/2027-07-05/
LOCATION:Lakewood-Garfield Middle School\, 13114 Detroit Ave.\, Lakewood\, OH\, 44107\, United States
CATEGORIES:Cheer,Group Programs
ATTACH;FMTTYPE=image/png:https://rec2connect.org/wp-content/uploads/2025/07/Inclusive-Cheerleading-Header-Photo-1.png
ORGANIZER;CN="Rec2Connect":MAILTO:scheduling@rec2connect.org
END:VEVENT
BEGIN:VEVENT
DTSTART;TZID=America/New_York:20270706T170000
DTEND;TZID=America/New_York:20270706T180000
DTSTAMP:20260425T151247
CREATED:20250720T130247Z
LAST-MODIFIED:20260226T220853Z
UID:10001199-1814893200-1814896800@rec2connect.org
SUMMARY:Fit Friends
DESCRIPTION:Structured full body workouts and social interaction \nNOTE:  There is a $5 discount for private pay!
URL:https://rec2connect.org/event/fit-friends/2027-07-06/
LOCATION:Seven Hills Parks and Rec Center\, 7777 Summit View Dr\, Seven HIlls\, OH\, 44131\, United States
CATEGORIES:Fit Friends
ATTACH;FMTTYPE=image/png:https://rec2connect.org/wp-content/uploads/2025/07/Events_FitFriends.png
ORGANIZER;CN="Rec2Connect":MAILTO:scheduling@rec2connect.org
END:VEVENT
BEGIN:VEVENT
DTSTART;TZID=America/New_York:20270706T181500
DTEND;TZID=America/New_York:20270706T190000
DTSTAMP:20260425T151247
CREATED:20250719T054426Z
LAST-MODIFIED:20260226T220756Z
UID:10000922-1814897700-1814900400@rec2connect.org
SUMMARY:Cardio Drumming
DESCRIPTION:This 45 minute weekly exercise class for teens and adults is led by a Recreation Therapist. Cardio drumming incorporates movement\, stretching\, music\, and rhythm together for an alternative cardiovascular workout. This class focuses on range of motion\, endurance\, strengthening\, flexibility\, coordination and body awareness. \nNOTE:  There is a $5 discount for private pay!
URL:https://rec2connect.org/event/cardio-drumming-9/2027-07-06/
LOCATION:Seven Hills Parks and Rec Center\, 7777 Summit View Dr\, Seven HIlls\, OH\, 44131\, United States
CATEGORIES:Cardio Drumming
ATTACH;FMTTYPE=image/png:https://rec2connect.org/wp-content/uploads/2025/07/CardioDrum_01.png
ORGANIZER;CN="Rec2Connect":MAILTO:scheduling@rec2connect.org
END:VEVENT
BEGIN:VEVENT
DTSTART;TZID=America/New_York:20270708T163000
DTEND;TZID=America/New_York:20270708T171500
DTSTAMP:20260425T151247
CREATED:20250720T130249Z
LAST-MODIFIED:20260226T220634Z
UID:10002118-1815064200-1815066900@rec2connect.org
SUMMARY:Cardio Drumming
DESCRIPTION:This 45 minute weekly exercise class for teens and adults is led by a Recreation Therapist. Cardio drumming incorporates movement\, stretching\, music\, and rhythm together for an alternative cardiovascular workout. This class focuses on range of motion\, endurance\, strengthening\, flexibility\, coordination and body awareness. \nNOTE:  There is a $5 discount for private pay!
URL:https://rec2connect.org/event/cardio-drumming-18/2027-07-08/
LOCATION:Gemini Center (Fairview)\, 21225 Lorain Rd\, Cleveland\, OH\, 44126\, United States
CATEGORIES:Cardio Drumming
ATTACH;FMTTYPE=image/png:https://rec2connect.org/wp-content/uploads/2025/07/Events_CardioDrum.png
ORGANIZER;CN="Rec2Connect":MAILTO:scheduling@rec2connect.org
END:VEVENT
BEGIN:VEVENT
DTSTART;TZID=America/New_York:20270708T173000
DTEND;TZID=America/New_York:20270708T181500
DTSTAMP:20260425T151247
CREATED:20250720T130302Z
LAST-MODIFIED:20260226T220528Z
UID:10002381-1815067800-1815070500@rec2connect.org
SUMMARY:Pedal Power
DESCRIPTION:Indoor stationary bike riding class that will work on bike riding skills\, balance\, strength\, endurance and motor planning \nNOTE:  There is a $5 discount for private pay!
URL:https://rec2connect.org/event/pedal-power/2027-07-08/
LOCATION:Gemini Center (Fairview)\, 21225 Lorain Rd\, Cleveland\, OH\, 44126\, United States
CATEGORIES:Pedal Power
ATTACH;FMTTYPE=image/png:https://rec2connect.org/wp-content/uploads/2025/07/Events_PedalPower.png
ORGANIZER;CN="Rec2Connect":MAILTO:scheduling@rec2connect.org
END:VEVENT
BEGIN:VEVENT
DTSTART;TZID=America/New_York:20270708T183000
DTEND;TZID=America/New_York:20270708T193000
DTSTAMP:20260425T151247
CREATED:20250720T130303Z
LAST-MODIFIED:20260226T220341Z
UID:10002644-1815071400-1815075000@rec2connect.org
SUMMARY:Fit Friends
DESCRIPTION:Structured full body workouts and social interaction \nNOTE:  There is a $5 discount for private pay!
URL:https://rec2connect.org/event/fit-friends-2/2027-07-08/
LOCATION:Gemini Center (Fairview)\, 21225 Lorain Rd\, Cleveland\, OH\, 44126\, United States
CATEGORIES:Fit Friends
ATTACH;FMTTYPE=image/png:https://rec2connect.org/wp-content/uploads/2025/07/Events_FitFriends.png
ORGANIZER;CN="Rec2Connect":MAILTO:scheduling@rec2connect.org
END:VEVENT
BEGIN:VEVENT
DTSTART;TZID=America/New_York:20270710T100000
DTEND;TZID=America/New_York:20270710T104500
DTSTAMP:20260425T151247
CREATED:20250720T005625Z
LAST-MODIFIED:20260226T220144Z
UID:10000660-1815213600-1815216300@rec2connect.org
SUMMARY:Cardio Drumming
DESCRIPTION:This 45 minute weekly exercise class for teens and adults is led by a Recreation Therapist. Cardio drumming incorporates movement\, stretching\, music\, and rhythm together for an alternative cardiovascular workout. This class focuses on range of motion\, endurance\, strengthening\, flexibility\, coordination and body awareness. \nNOTE:  There is a $5 discount for private pay!
URL:https://rec2connect.org/event/cardio-drumming/2027-07-10/
LOCATION:Seven Hills Parks and Rec Center\, 7777 Summit View Dr\, Seven HIlls\, OH\, 44131\, United States
CATEGORIES:Cardio Drumming
ATTACH;FMTTYPE=image/png:https://rec2connect.org/wp-content/uploads/2025/07/CardioDrum_01.png
ORGANIZER;CN="Rec2Connect":MAILTO:scheduling@rec2connect.org
END:VEVENT
BEGIN:VEVENT
DTSTART;TZID=America/New_York:20270712T173000
DTEND;TZID=America/New_York:20270712T180000
DTSTAMP:20260425T151247
CREATED:20260418T182326Z
LAST-MODIFIED:20260418T182523Z
UID:10009485-1815413400-1815415200@rec2connect.org
SUMMARY:Inclusive Cheer and Spirit Squad
DESCRIPTION:Join Rec2Connect’s Inclusive Cheer and Spirit Squad\, now cheering for Empower Sports’ Flag Football teams!\nPractices will include light conditioning\, learning about cheerleading\, and working on multiple cheers.\nParticipants will build confidence and teamwork skills while forming new friendships!\nA public performance is scheduled for the end of each session.\nAttendance at each practice is strongly encouraged to support team building and sportsmanship.
URL:https://rec2connect.org/event/inclusive-cheer-and-spirit-squad/2027-07-12/
LOCATION:Lakewood-Garfield Middle School\, 13114 Detroit Ave.\, Lakewood\, OH\, 44107\, United States
CATEGORIES:Cheer,Group Programs
ATTACH;FMTTYPE=image/png:https://rec2connect.org/wp-content/uploads/2025/07/Inclusive-Cheerleading-Header-Photo-1.png
ORGANIZER;CN="Rec2Connect":MAILTO:scheduling@rec2connect.org
END:VEVENT
BEGIN:VEVENT
DTSTART;TZID=America/New_York:20270712T180000
DTEND;TZID=America/New_York:20270712T184500
DTSTAMP:20260425T151247
CREATED:20260418T183225Z
LAST-MODIFIED:20260418T183225Z
UID:10009656-1815415200-1815417900@rec2connect.org
SUMMARY:Inclusive Cheer and Spirit Squad
DESCRIPTION:Join Rec2Connect’s Inclusive Cheer and Spirit Squad\, now cheering for Empower Sports’ Flag Football teams!\nPractices will include light conditioning\, learning about cheerleading\, and working on multiple cheers.\nParticipants will build confidence and teamwork skills while forming new friendships!\nA public performance is scheduled for the end of each session.\nAttendance at each practice is strongly encouraged to support team building and sportsmanship.
URL:https://rec2connect.org/event/inclusive-cheer-and-spirit-squad-3/2027-07-12/
LOCATION:Lakewood-Garfield Middle School\, 13114 Detroit Ave.\, Lakewood\, OH\, 44107\, United States
CATEGORIES:Cheer,Group Programs
ATTACH;FMTTYPE=image/png:https://rec2connect.org/wp-content/uploads/2025/07/Inclusive-Cheerleading-Header-Photo-1.png
ORGANIZER;CN="Rec2Connect":MAILTO:scheduling@rec2connect.org
END:VEVENT
BEGIN:VEVENT
DTSTART;TZID=America/New_York:20270713T170000
DTEND;TZID=America/New_York:20270713T180000
DTSTAMP:20260425T151247
CREATED:20250720T130247Z
LAST-MODIFIED:20260226T220853Z
UID:10001200-1815498000-1815501600@rec2connect.org
SUMMARY:Fit Friends
DESCRIPTION:Structured full body workouts and social interaction \nNOTE:  There is a $5 discount for private pay!
URL:https://rec2connect.org/event/fit-friends/2027-07-13/
LOCATION:Seven Hills Parks and Rec Center\, 7777 Summit View Dr\, Seven HIlls\, OH\, 44131\, United States
CATEGORIES:Fit Friends
ATTACH;FMTTYPE=image/png:https://rec2connect.org/wp-content/uploads/2025/07/Events_FitFriends.png
ORGANIZER;CN="Rec2Connect":MAILTO:scheduling@rec2connect.org
END:VEVENT
BEGIN:VEVENT
DTSTART;TZID=America/New_York:20270713T181500
DTEND;TZID=America/New_York:20270713T190000
DTSTAMP:20260425T151247
CREATED:20250719T054426Z
LAST-MODIFIED:20260226T220756Z
UID:10000923-1815502500-1815505200@rec2connect.org
SUMMARY:Cardio Drumming
DESCRIPTION:This 45 minute weekly exercise class for teens and adults is led by a Recreation Therapist. Cardio drumming incorporates movement\, stretching\, music\, and rhythm together for an alternative cardiovascular workout. This class focuses on range of motion\, endurance\, strengthening\, flexibility\, coordination and body awareness. \nNOTE:  There is a $5 discount for private pay!
URL:https://rec2connect.org/event/cardio-drumming-9/2027-07-13/
LOCATION:Seven Hills Parks and Rec Center\, 7777 Summit View Dr\, Seven HIlls\, OH\, 44131\, United States
CATEGORIES:Cardio Drumming
ATTACH;FMTTYPE=image/png:https://rec2connect.org/wp-content/uploads/2025/07/CardioDrum_01.png
ORGANIZER;CN="Rec2Connect":MAILTO:scheduling@rec2connect.org
END:VEVENT
BEGIN:VEVENT
DTSTART;TZID=America/New_York:20270715T163000
DTEND;TZID=America/New_York:20270715T171500
DTSTAMP:20260425T151247
CREATED:20250720T130249Z
LAST-MODIFIED:20260226T220634Z
UID:10002119-1815669000-1815671700@rec2connect.org
SUMMARY:Cardio Drumming
DESCRIPTION:This 45 minute weekly exercise class for teens and adults is led by a Recreation Therapist. Cardio drumming incorporates movement\, stretching\, music\, and rhythm together for an alternative cardiovascular workout. This class focuses on range of motion\, endurance\, strengthening\, flexibility\, coordination and body awareness. \nNOTE:  There is a $5 discount for private pay!
URL:https://rec2connect.org/event/cardio-drumming-18/2027-07-15/
LOCATION:Gemini Center (Fairview)\, 21225 Lorain Rd\, Cleveland\, OH\, 44126\, United States
CATEGORIES:Cardio Drumming
ATTACH;FMTTYPE=image/png:https://rec2connect.org/wp-content/uploads/2025/07/Events_CardioDrum.png
ORGANIZER;CN="Rec2Connect":MAILTO:scheduling@rec2connect.org
END:VEVENT
BEGIN:VEVENT
DTSTART;TZID=America/New_York:20270715T173000
DTEND;TZID=America/New_York:20270715T181500
DTSTAMP:20260425T151247
CREATED:20250720T130302Z
LAST-MODIFIED:20260226T220528Z
UID:10002382-1815672600-1815675300@rec2connect.org
SUMMARY:Pedal Power
DESCRIPTION:Indoor stationary bike riding class that will work on bike riding skills\, balance\, strength\, endurance and motor planning \nNOTE:  There is a $5 discount for private pay!
URL:https://rec2connect.org/event/pedal-power/2027-07-15/
LOCATION:Gemini Center (Fairview)\, 21225 Lorain Rd\, Cleveland\, OH\, 44126\, United States
CATEGORIES:Pedal Power
ATTACH;FMTTYPE=image/png:https://rec2connect.org/wp-content/uploads/2025/07/Events_PedalPower.png
ORGANIZER;CN="Rec2Connect":MAILTO:scheduling@rec2connect.org
END:VEVENT
BEGIN:VEVENT
DTSTART;TZID=America/New_York:20270715T183000
DTEND;TZID=America/New_York:20270715T193000
DTSTAMP:20260425T151247
CREATED:20250720T130303Z
LAST-MODIFIED:20260226T220341Z
UID:10002645-1815676200-1815679800@rec2connect.org
SUMMARY:Fit Friends
DESCRIPTION:Structured full body workouts and social interaction \nNOTE:  There is a $5 discount for private pay!
URL:https://rec2connect.org/event/fit-friends-2/2027-07-15/
LOCATION:Gemini Center (Fairview)\, 21225 Lorain Rd\, Cleveland\, OH\, 44126\, United States
CATEGORIES:Fit Friends
ATTACH;FMTTYPE=image/png:https://rec2connect.org/wp-content/uploads/2025/07/Events_FitFriends.png
ORGANIZER;CN="Rec2Connect":MAILTO:scheduling@rec2connect.org
END:VEVENT
BEGIN:VEVENT
DTSTART;TZID=America/New_York:20270717T100000
DTEND;TZID=America/New_York:20270717T104500
DTSTAMP:20260425T151247
CREATED:20250720T005625Z
LAST-MODIFIED:20260226T220144Z
UID:10000661-1815818400-1815821100@rec2connect.org
SUMMARY:Cardio Drumming
DESCRIPTION:This 45 minute weekly exercise class for teens and adults is led by a Recreation Therapist. Cardio drumming incorporates movement\, stretching\, music\, and rhythm together for an alternative cardiovascular workout. This class focuses on range of motion\, endurance\, strengthening\, flexibility\, coordination and body awareness. \nNOTE:  There is a $5 discount for private pay!
URL:https://rec2connect.org/event/cardio-drumming/2027-07-17/
LOCATION:Seven Hills Parks and Rec Center\, 7777 Summit View Dr\, Seven HIlls\, OH\, 44131\, United States
CATEGORIES:Cardio Drumming
ATTACH;FMTTYPE=image/png:https://rec2connect.org/wp-content/uploads/2025/07/CardioDrum_01.png
ORGANIZER;CN="Rec2Connect":MAILTO:scheduling@rec2connect.org
END:VEVENT
BEGIN:VEVENT
DTSTART;TZID=America/New_York:20270719T173000
DTEND;TZID=America/New_York:20270719T180000
DTSTAMP:20260425T151247
CREATED:20260418T182326Z
LAST-MODIFIED:20260418T182523Z
UID:10009486-1816018200-1816020000@rec2connect.org
SUMMARY:Inclusive Cheer and Spirit Squad
DESCRIPTION:Join Rec2Connect’s Inclusive Cheer and Spirit Squad\, now cheering for Empower Sports’ Flag Football teams!\nPractices will include light conditioning\, learning about cheerleading\, and working on multiple cheers.\nParticipants will build confidence and teamwork skills while forming new friendships!\nA public performance is scheduled for the end of each session.\nAttendance at each practice is strongly encouraged to support team building and sportsmanship.
URL:https://rec2connect.org/event/inclusive-cheer-and-spirit-squad/2027-07-19/
LOCATION:Lakewood-Garfield Middle School\, 13114 Detroit Ave.\, Lakewood\, OH\, 44107\, United States
CATEGORIES:Cheer,Group Programs
ATTACH;FMTTYPE=image/png:https://rec2connect.org/wp-content/uploads/2025/07/Inclusive-Cheerleading-Header-Photo-1.png
ORGANIZER;CN="Rec2Connect":MAILTO:scheduling@rec2connect.org
END:VEVENT
BEGIN:VEVENT
DTSTART;TZID=America/New_York:20270719T180000
DTEND;TZID=America/New_York:20270719T184500
DTSTAMP:20260425T151247
CREATED:20260418T183225Z
LAST-MODIFIED:20260418T183225Z
UID:10009657-1816020000-1816022700@rec2connect.org
SUMMARY:Inclusive Cheer and Spirit Squad
DESCRIPTION:Join Rec2Connect’s Inclusive Cheer and Spirit Squad\, now cheering for Empower Sports’ Flag Football teams!\nPractices will include light conditioning\, learning about cheerleading\, and working on multiple cheers.\nParticipants will build confidence and teamwork skills while forming new friendships!\nA public performance is scheduled for the end of each session.\nAttendance at each practice is strongly encouraged to support team building and sportsmanship.
URL:https://rec2connect.org/event/inclusive-cheer-and-spirit-squad-3/2027-07-19/
LOCATION:Lakewood-Garfield Middle School\, 13114 Detroit Ave.\, Lakewood\, OH\, 44107\, United States
CATEGORIES:Cheer,Group Programs
ATTACH;FMTTYPE=image/png:https://rec2connect.org/wp-content/uploads/2025/07/Inclusive-Cheerleading-Header-Photo-1.png
ORGANIZER;CN="Rec2Connect":MAILTO:scheduling@rec2connect.org
END:VEVENT
BEGIN:VEVENT
DTSTART;TZID=America/New_York:20270720T170000
DTEND;TZID=America/New_York:20270720T180000
DTSTAMP:20260425T151247
CREATED:20250720T130247Z
LAST-MODIFIED:20260226T220853Z
UID:10001201-1816102800-1816106400@rec2connect.org
SUMMARY:Fit Friends
DESCRIPTION:Structured full body workouts and social interaction \nNOTE:  There is a $5 discount for private pay!
URL:https://rec2connect.org/event/fit-friends/2027-07-20/
LOCATION:Seven Hills Parks and Rec Center\, 7777 Summit View Dr\, Seven HIlls\, OH\, 44131\, United States
CATEGORIES:Fit Friends
ATTACH;FMTTYPE=image/png:https://rec2connect.org/wp-content/uploads/2025/07/Events_FitFriends.png
ORGANIZER;CN="Rec2Connect":MAILTO:scheduling@rec2connect.org
END:VEVENT
BEGIN:VEVENT
DTSTART;TZID=America/New_York:20270720T181500
DTEND;TZID=America/New_York:20270720T190000
DTSTAMP:20260425T151247
CREATED:20250719T054426Z
LAST-MODIFIED:20260226T220756Z
UID:10000924-1816107300-1816110000@rec2connect.org
SUMMARY:Cardio Drumming
DESCRIPTION:This 45 minute weekly exercise class for teens and adults is led by a Recreation Therapist. Cardio drumming incorporates movement\, stretching\, music\, and rhythm together for an alternative cardiovascular workout. This class focuses on range of motion\, endurance\, strengthening\, flexibility\, coordination and body awareness. \nNOTE:  There is a $5 discount for private pay!
URL:https://rec2connect.org/event/cardio-drumming-9/2027-07-20/
LOCATION:Seven Hills Parks and Rec Center\, 7777 Summit View Dr\, Seven HIlls\, OH\, 44131\, United States
CATEGORIES:Cardio Drumming
ATTACH;FMTTYPE=image/png:https://rec2connect.org/wp-content/uploads/2025/07/CardioDrum_01.png
ORGANIZER;CN="Rec2Connect":MAILTO:scheduling@rec2connect.org
END:VEVENT
BEGIN:VEVENT
DTSTART;TZID=America/New_York:20270722T163000
DTEND;TZID=America/New_York:20270722T171500
DTSTAMP:20260425T151247
CREATED:20250720T130249Z
LAST-MODIFIED:20260226T220634Z
UID:10002120-1816273800-1816276500@rec2connect.org
SUMMARY:Cardio Drumming
DESCRIPTION:This 45 minute weekly exercise class for teens and adults is led by a Recreation Therapist. Cardio drumming incorporates movement\, stretching\, music\, and rhythm together for an alternative cardiovascular workout. This class focuses on range of motion\, endurance\, strengthening\, flexibility\, coordination and body awareness. \nNOTE:  There is a $5 discount for private pay!
URL:https://rec2connect.org/event/cardio-drumming-18/2027-07-22/
LOCATION:Gemini Center (Fairview)\, 21225 Lorain Rd\, Cleveland\, OH\, 44126\, United States
CATEGORIES:Cardio Drumming
ATTACH;FMTTYPE=image/png:https://rec2connect.org/wp-content/uploads/2025/07/Events_CardioDrum.png
ORGANIZER;CN="Rec2Connect":MAILTO:scheduling@rec2connect.org
END:VEVENT
BEGIN:VEVENT
DTSTART;TZID=America/New_York:20270722T173000
DTEND;TZID=America/New_York:20270722T181500
DTSTAMP:20260425T151247
CREATED:20250720T130302Z
LAST-MODIFIED:20260226T220528Z
UID:10002383-1816277400-1816280100@rec2connect.org
SUMMARY:Pedal Power
DESCRIPTION:Indoor stationary bike riding class that will work on bike riding skills\, balance\, strength\, endurance and motor planning \nNOTE:  There is a $5 discount for private pay!
URL:https://rec2connect.org/event/pedal-power/2027-07-22/
LOCATION:Gemini Center (Fairview)\, 21225 Lorain Rd\, Cleveland\, OH\, 44126\, United States
CATEGORIES:Pedal Power
ATTACH;FMTTYPE=image/png:https://rec2connect.org/wp-content/uploads/2025/07/Events_PedalPower.png
ORGANIZER;CN="Rec2Connect":MAILTO:scheduling@rec2connect.org
END:VEVENT
BEGIN:VEVENT
DTSTART;TZID=America/New_York:20270722T183000
DTEND;TZID=America/New_York:20270722T193000
DTSTAMP:20260425T151247
CREATED:20250720T130303Z
LAST-MODIFIED:20260226T220341Z
UID:10002646-1816281000-1816284600@rec2connect.org
SUMMARY:Fit Friends
DESCRIPTION:Structured full body workouts and social interaction \nNOTE:  There is a $5 discount for private pay!
URL:https://rec2connect.org/event/fit-friends-2/2027-07-22/
LOCATION:Gemini Center (Fairview)\, 21225 Lorain Rd\, Cleveland\, OH\, 44126\, United States
CATEGORIES:Fit Friends
ATTACH;FMTTYPE=image/png:https://rec2connect.org/wp-content/uploads/2025/07/Events_FitFriends.png
ORGANIZER;CN="Rec2Connect":MAILTO:scheduling@rec2connect.org
END:VEVENT
BEGIN:VEVENT
DTSTART;TZID=America/New_York:20270724T100000
DTEND;TZID=America/New_York:20270724T104500
DTSTAMP:20260425T151247
CREATED:20250720T005625Z
LAST-MODIFIED:20260226T220144Z
UID:10000662-1816423200-1816425900@rec2connect.org
SUMMARY:Cardio Drumming
DESCRIPTION:This 45 minute weekly exercise class for teens and adults is led by a Recreation Therapist. Cardio drumming incorporates movement\, stretching\, music\, and rhythm together for an alternative cardiovascular workout. This class focuses on range of motion\, endurance\, strengthening\, flexibility\, coordination and body awareness. \nNOTE:  There is a $5 discount for private pay!
URL:https://rec2connect.org/event/cardio-drumming/2027-07-24/
LOCATION:Seven Hills Parks and Rec Center\, 7777 Summit View Dr\, Seven HIlls\, OH\, 44131\, United States
CATEGORIES:Cardio Drumming
ATTACH;FMTTYPE=image/png:https://rec2connect.org/wp-content/uploads/2025/07/CardioDrum_01.png
ORGANIZER;CN="Rec2Connect":MAILTO:scheduling@rec2connect.org
END:VEVENT
BEGIN:VEVENT
DTSTART;TZID=America/New_York:20270727T170000
DTEND;TZID=America/New_York:20270727T180000
DTSTAMP:20260425T151247
CREATED:20250720T130247Z
LAST-MODIFIED:20260226T220853Z
UID:10001202-1816707600-1816711200@rec2connect.org
SUMMARY:Fit Friends
DESCRIPTION:Structured full body workouts and social interaction \nNOTE:  There is a $5 discount for private pay!
URL:https://rec2connect.org/event/fit-friends/2027-07-27/
LOCATION:Seven Hills Parks and Rec Center\, 7777 Summit View Dr\, Seven HIlls\, OH\, 44131\, United States
CATEGORIES:Fit Friends
ATTACH;FMTTYPE=image/png:https://rec2connect.org/wp-content/uploads/2025/07/Events_FitFriends.png
ORGANIZER;CN="Rec2Connect":MAILTO:scheduling@rec2connect.org
END:VEVENT
BEGIN:VEVENT
DTSTART;TZID=America/New_York:20270727T181500
DTEND;TZID=America/New_York:20270727T190000
DTSTAMP:20260425T151247
CREATED:20250719T054426Z
LAST-MODIFIED:20260226T220756Z
UID:10000925-1816712100-1816714800@rec2connect.org
SUMMARY:Cardio Drumming
DESCRIPTION:This 45 minute weekly exercise class for teens and adults is led by a Recreation Therapist. Cardio drumming incorporates movement\, stretching\, music\, and rhythm together for an alternative cardiovascular workout. This class focuses on range of motion\, endurance\, strengthening\, flexibility\, coordination and body awareness. \nNOTE:  There is a $5 discount for private pay!
URL:https://rec2connect.org/event/cardio-drumming-9/2027-07-27/
LOCATION:Seven Hills Parks and Rec Center\, 7777 Summit View Dr\, Seven HIlls\, OH\, 44131\, United States
CATEGORIES:Cardio Drumming
ATTACH;FMTTYPE=image/png:https://rec2connect.org/wp-content/uploads/2025/07/CardioDrum_01.png
ORGANIZER;CN="Rec2Connect":MAILTO:scheduling@rec2connect.org
END:VEVENT
END:VCALENDAR