BEGIN:VCALENDAR
VERSION:2.0
PRODID:-//Rec2Connect - ECPv6.15.20//NONSGML v1.0//EN
CALSCALE:GREGORIAN
METHOD:PUBLISH
X-WR-CALNAME:Rec2Connect
X-ORIGINAL-URL:https://rec2connect.org
X-WR-CALDESC:Events for Rec2Connect
REFRESH-INTERVAL;VALUE=DURATION:PT1H
X-Robots-Tag:noindex
X-PUBLISHED-TTL:PT1H
BEGIN:VTIMEZONE
TZID:America/New_York
BEGIN:DAYLIGHT
TZOFFSETFROM:-0500
TZOFFSETTO:-0400
TZNAME:EDT
DTSTART:20260308T070000
END:DAYLIGHT
BEGIN:STANDARD
TZOFFSETFROM:-0400
TZOFFSETTO:-0500
TZNAME:EST
DTSTART:20261101T060000
END:STANDARD
BEGIN:DAYLIGHT
TZOFFSETFROM:-0500
TZOFFSETTO:-0400
TZNAME:EDT
DTSTART:20270314T070000
END:DAYLIGHT
BEGIN:STANDARD
TZOFFSETFROM:-0400
TZOFFSETTO:-0500
TZNAME:EST
DTSTART:20271107T060000
END:STANDARD
BEGIN:DAYLIGHT
TZOFFSETFROM:-0500
TZOFFSETTO:-0400
TZNAME:EDT
DTSTART:20280312T070000
END:DAYLIGHT
BEGIN:STANDARD
TZOFFSETFROM:-0400
TZOFFSETTO:-0500
TZNAME:EST
DTSTART:20281105T060000
END:STANDARD
END:VTIMEZONE
BEGIN:VEVENT
DTSTART;TZID=America/New_York:20270601T170000
DTEND;TZID=America/New_York:20270601T180000
DTSTAMP:20260425T134429
CREATED:20250720T130247Z
LAST-MODIFIED:20260226T220853Z
UID:10001194-1811869200-1811872800@rec2connect.org
SUMMARY:Fit Friends
DESCRIPTION:Structured full body workouts and social interaction \nNOTE:  There is a $5 discount for private pay!
URL:https://rec2connect.org/event/fit-friends/2027-06-01/
LOCATION:Seven Hills Parks and Rec Center\, 7777 Summit View Dr\, Seven HIlls\, OH\, 44131\, United States
CATEGORIES:Fit Friends
ATTACH;FMTTYPE=image/png:https://rec2connect.org/wp-content/uploads/2025/07/Events_FitFriends.png
ORGANIZER;CN="Rec2Connect":MAILTO:scheduling@rec2connect.org
END:VEVENT
BEGIN:VEVENT
DTSTART;TZID=America/New_York:20270601T181500
DTEND;TZID=America/New_York:20270601T190000
DTSTAMP:20260425T134429
CREATED:20250719T054426Z
LAST-MODIFIED:20260226T220756Z
UID:10000917-1811873700-1811876400@rec2connect.org
SUMMARY:Cardio Drumming
DESCRIPTION:This 45 minute weekly exercise class for teens and adults is led by a Recreation Therapist. Cardio drumming incorporates movement\, stretching\, music\, and rhythm together for an alternative cardiovascular workout. This class focuses on range of motion\, endurance\, strengthening\, flexibility\, coordination and body awareness. \nNOTE:  There is a $5 discount for private pay!
URL:https://rec2connect.org/event/cardio-drumming-9/2027-06-01/
LOCATION:Seven Hills Parks and Rec Center\, 7777 Summit View Dr\, Seven HIlls\, OH\, 44131\, United States
CATEGORIES:Cardio Drumming
ATTACH;FMTTYPE=image/png:https://rec2connect.org/wp-content/uploads/2025/07/CardioDrum_01.png
ORGANIZER;CN="Rec2Connect":MAILTO:scheduling@rec2connect.org
END:VEVENT
BEGIN:VEVENT
DTSTART;TZID=America/New_York:20270603T163000
DTEND;TZID=America/New_York:20270603T171500
DTSTAMP:20260425T134429
CREATED:20250720T130249Z
LAST-MODIFIED:20260226T220634Z
UID:10002113-1812040200-1812042900@rec2connect.org
SUMMARY:Cardio Drumming
DESCRIPTION:This 45 minute weekly exercise class for teens and adults is led by a Recreation Therapist. Cardio drumming incorporates movement\, stretching\, music\, and rhythm together for an alternative cardiovascular workout. This class focuses on range of motion\, endurance\, strengthening\, flexibility\, coordination and body awareness. \nNOTE:  There is a $5 discount for private pay!
URL:https://rec2connect.org/event/cardio-drumming-18/2027-06-03/
LOCATION:Gemini Center (Fairview)\, 21225 Lorain Rd\, Cleveland\, OH\, 44126\, United States
CATEGORIES:Cardio Drumming
ATTACH;FMTTYPE=image/png:https://rec2connect.org/wp-content/uploads/2025/07/Events_CardioDrum.png
ORGANIZER;CN="Rec2Connect":MAILTO:scheduling@rec2connect.org
END:VEVENT
BEGIN:VEVENT
DTSTART;TZID=America/New_York:20270603T173000
DTEND;TZID=America/New_York:20270603T181500
DTSTAMP:20260425T134429
CREATED:20250720T130302Z
LAST-MODIFIED:20260226T220528Z
UID:10002376-1812043800-1812046500@rec2connect.org
SUMMARY:Pedal Power
DESCRIPTION:Indoor stationary bike riding class that will work on bike riding skills\, balance\, strength\, endurance and motor planning \nNOTE:  There is a $5 discount for private pay!
URL:https://rec2connect.org/event/pedal-power/2027-06-03/
LOCATION:Gemini Center (Fairview)\, 21225 Lorain Rd\, Cleveland\, OH\, 44126\, United States
CATEGORIES:Pedal Power
ATTACH;FMTTYPE=image/png:https://rec2connect.org/wp-content/uploads/2025/07/Events_PedalPower.png
ORGANIZER;CN="Rec2Connect":MAILTO:scheduling@rec2connect.org
END:VEVENT
BEGIN:VEVENT
DTSTART;TZID=America/New_York:20270603T183000
DTEND;TZID=America/New_York:20270603T193000
DTSTAMP:20260425T134429
CREATED:20250720T130303Z
LAST-MODIFIED:20260226T220341Z
UID:10002639-1812047400-1812051000@rec2connect.org
SUMMARY:Fit Friends
DESCRIPTION:Structured full body workouts and social interaction \nNOTE:  There is a $5 discount for private pay!
URL:https://rec2connect.org/event/fit-friends-2/2027-06-03/
LOCATION:Gemini Center (Fairview)\, 21225 Lorain Rd\, Cleveland\, OH\, 44126\, United States
CATEGORIES:Fit Friends
ATTACH;FMTTYPE=image/png:https://rec2connect.org/wp-content/uploads/2025/07/Events_FitFriends.png
ORGANIZER;CN="Rec2Connect":MAILTO:scheduling@rec2connect.org
END:VEVENT
BEGIN:VEVENT
DTSTART;TZID=America/New_York:20270605T100000
DTEND;TZID=America/New_York:20270605T104500
DTSTAMP:20260425T134429
CREATED:20250720T005625Z
LAST-MODIFIED:20260226T220144Z
UID:10000655-1812189600-1812192300@rec2connect.org
SUMMARY:Cardio Drumming
DESCRIPTION:This 45 minute weekly exercise class for teens and adults is led by a Recreation Therapist. Cardio drumming incorporates movement\, stretching\, music\, and rhythm together for an alternative cardiovascular workout. This class focuses on range of motion\, endurance\, strengthening\, flexibility\, coordination and body awareness. \nNOTE:  There is a $5 discount for private pay!
URL:https://rec2connect.org/event/cardio-drumming/2027-06-05/
LOCATION:Seven Hills Parks and Rec Center\, 7777 Summit View Dr\, Seven HIlls\, OH\, 44131\, United States
CATEGORIES:Cardio Drumming
ATTACH;FMTTYPE=image/png:https://rec2connect.org/wp-content/uploads/2025/07/CardioDrum_01.png
ORGANIZER;CN="Rec2Connect":MAILTO:scheduling@rec2connect.org
END:VEVENT
BEGIN:VEVENT
DTSTART;TZID=America/New_York:20270607T173000
DTEND;TZID=America/New_York:20270607T180000
DTSTAMP:20260425T134429
CREATED:20260418T182326Z
LAST-MODIFIED:20260418T182523Z
UID:10009480-1812389400-1812391200@rec2connect.org
SUMMARY:Inclusive Cheer and Spirit Squad
DESCRIPTION:Join Rec2Connect’s Inclusive Cheer and Spirit Squad\, now cheering for Empower Sports’ Flag Football teams!\nPractices will include light conditioning\, learning about cheerleading\, and working on multiple cheers.\nParticipants will build confidence and teamwork skills while forming new friendships!\nA public performance is scheduled for the end of each session.\nAttendance at each practice is strongly encouraged to support team building and sportsmanship.
URL:https://rec2connect.org/event/inclusive-cheer-and-spirit-squad/2027-06-07/
LOCATION:Lakewood-Garfield Middle School\, 13114 Detroit Ave.\, Lakewood\, OH\, 44107\, United States
CATEGORIES:Cheer,Group Programs
ATTACH;FMTTYPE=image/png:https://rec2connect.org/wp-content/uploads/2025/07/Inclusive-Cheerleading-Header-Photo-1.png
ORGANIZER;CN="Rec2Connect":MAILTO:scheduling@rec2connect.org
END:VEVENT
BEGIN:VEVENT
DTSTART;TZID=America/New_York:20270607T180000
DTEND;TZID=America/New_York:20270607T184500
DTSTAMP:20260425T134429
CREATED:20260418T183225Z
LAST-MODIFIED:20260418T183225Z
UID:10009651-1812391200-1812393900@rec2connect.org
SUMMARY:Inclusive Cheer and Spirit Squad
DESCRIPTION:Join Rec2Connect’s Inclusive Cheer and Spirit Squad\, now cheering for Empower Sports’ Flag Football teams!\nPractices will include light conditioning\, learning about cheerleading\, and working on multiple cheers.\nParticipants will build confidence and teamwork skills while forming new friendships!\nA public performance is scheduled for the end of each session.\nAttendance at each practice is strongly encouraged to support team building and sportsmanship.
URL:https://rec2connect.org/event/inclusive-cheer-and-spirit-squad-3/2027-06-07/
LOCATION:Lakewood-Garfield Middle School\, 13114 Detroit Ave.\, Lakewood\, OH\, 44107\, United States
CATEGORIES:Cheer,Group Programs
ATTACH;FMTTYPE=image/png:https://rec2connect.org/wp-content/uploads/2025/07/Inclusive-Cheerleading-Header-Photo-1.png
ORGANIZER;CN="Rec2Connect":MAILTO:scheduling@rec2connect.org
END:VEVENT
BEGIN:VEVENT
DTSTART;TZID=America/New_York:20270608T170000
DTEND;TZID=America/New_York:20270608T180000
DTSTAMP:20260425T134429
CREATED:20250720T130247Z
LAST-MODIFIED:20260226T220853Z
UID:10001195-1812474000-1812477600@rec2connect.org
SUMMARY:Fit Friends
DESCRIPTION:Structured full body workouts and social interaction \nNOTE:  There is a $5 discount for private pay!
URL:https://rec2connect.org/event/fit-friends/2027-06-08/
LOCATION:Seven Hills Parks and Rec Center\, 7777 Summit View Dr\, Seven HIlls\, OH\, 44131\, United States
CATEGORIES:Fit Friends
ATTACH;FMTTYPE=image/png:https://rec2connect.org/wp-content/uploads/2025/07/Events_FitFriends.png
ORGANIZER;CN="Rec2Connect":MAILTO:scheduling@rec2connect.org
END:VEVENT
BEGIN:VEVENT
DTSTART;TZID=America/New_York:20270608T181500
DTEND;TZID=America/New_York:20270608T190000
DTSTAMP:20260425T134429
CREATED:20250719T054426Z
LAST-MODIFIED:20260226T220756Z
UID:10000918-1812478500-1812481200@rec2connect.org
SUMMARY:Cardio Drumming
DESCRIPTION:This 45 minute weekly exercise class for teens and adults is led by a Recreation Therapist. Cardio drumming incorporates movement\, stretching\, music\, and rhythm together for an alternative cardiovascular workout. This class focuses on range of motion\, endurance\, strengthening\, flexibility\, coordination and body awareness. \nNOTE:  There is a $5 discount for private pay!
URL:https://rec2connect.org/event/cardio-drumming-9/2027-06-08/
LOCATION:Seven Hills Parks and Rec Center\, 7777 Summit View Dr\, Seven HIlls\, OH\, 44131\, United States
CATEGORIES:Cardio Drumming
ATTACH;FMTTYPE=image/png:https://rec2connect.org/wp-content/uploads/2025/07/CardioDrum_01.png
ORGANIZER;CN="Rec2Connect":MAILTO:scheduling@rec2connect.org
END:VEVENT
BEGIN:VEVENT
DTSTART;TZID=America/New_York:20270610T163000
DTEND;TZID=America/New_York:20270610T171500
DTSTAMP:20260425T134429
CREATED:20250720T130249Z
LAST-MODIFIED:20260226T220634Z
UID:10002114-1812645000-1812647700@rec2connect.org
SUMMARY:Cardio Drumming
DESCRIPTION:This 45 minute weekly exercise class for teens and adults is led by a Recreation Therapist. Cardio drumming incorporates movement\, stretching\, music\, and rhythm together for an alternative cardiovascular workout. This class focuses on range of motion\, endurance\, strengthening\, flexibility\, coordination and body awareness. \nNOTE:  There is a $5 discount for private pay!
URL:https://rec2connect.org/event/cardio-drumming-18/2027-06-10/
LOCATION:Gemini Center (Fairview)\, 21225 Lorain Rd\, Cleveland\, OH\, 44126\, United States
CATEGORIES:Cardio Drumming
ATTACH;FMTTYPE=image/png:https://rec2connect.org/wp-content/uploads/2025/07/Events_CardioDrum.png
ORGANIZER;CN="Rec2Connect":MAILTO:scheduling@rec2connect.org
END:VEVENT
BEGIN:VEVENT
DTSTART;TZID=America/New_York:20270610T173000
DTEND;TZID=America/New_York:20270610T181500
DTSTAMP:20260425T134429
CREATED:20250720T130302Z
LAST-MODIFIED:20260226T220528Z
UID:10002377-1812648600-1812651300@rec2connect.org
SUMMARY:Pedal Power
DESCRIPTION:Indoor stationary bike riding class that will work on bike riding skills\, balance\, strength\, endurance and motor planning \nNOTE:  There is a $5 discount for private pay!
URL:https://rec2connect.org/event/pedal-power/2027-06-10/
LOCATION:Gemini Center (Fairview)\, 21225 Lorain Rd\, Cleveland\, OH\, 44126\, United States
CATEGORIES:Pedal Power
ATTACH;FMTTYPE=image/png:https://rec2connect.org/wp-content/uploads/2025/07/Events_PedalPower.png
ORGANIZER;CN="Rec2Connect":MAILTO:scheduling@rec2connect.org
END:VEVENT
BEGIN:VEVENT
DTSTART;TZID=America/New_York:20270610T183000
DTEND;TZID=America/New_York:20270610T193000
DTSTAMP:20260425T134429
CREATED:20250720T130303Z
LAST-MODIFIED:20260226T220341Z
UID:10002640-1812652200-1812655800@rec2connect.org
SUMMARY:Fit Friends
DESCRIPTION:Structured full body workouts and social interaction \nNOTE:  There is a $5 discount for private pay!
URL:https://rec2connect.org/event/fit-friends-2/2027-06-10/
LOCATION:Gemini Center (Fairview)\, 21225 Lorain Rd\, Cleveland\, OH\, 44126\, United States
CATEGORIES:Fit Friends
ATTACH;FMTTYPE=image/png:https://rec2connect.org/wp-content/uploads/2025/07/Events_FitFriends.png
ORGANIZER;CN="Rec2Connect":MAILTO:scheduling@rec2connect.org
END:VEVENT
BEGIN:VEVENT
DTSTART;TZID=America/New_York:20270612T100000
DTEND;TZID=America/New_York:20270612T104500
DTSTAMP:20260425T134429
CREATED:20250720T005625Z
LAST-MODIFIED:20260226T220144Z
UID:10000656-1812794400-1812797100@rec2connect.org
SUMMARY:Cardio Drumming
DESCRIPTION:This 45 minute weekly exercise class for teens and adults is led by a Recreation Therapist. Cardio drumming incorporates movement\, stretching\, music\, and rhythm together for an alternative cardiovascular workout. This class focuses on range of motion\, endurance\, strengthening\, flexibility\, coordination and body awareness. \nNOTE:  There is a $5 discount for private pay!
URL:https://rec2connect.org/event/cardio-drumming/2027-06-12/
LOCATION:Seven Hills Parks and Rec Center\, 7777 Summit View Dr\, Seven HIlls\, OH\, 44131\, United States
CATEGORIES:Cardio Drumming
ATTACH;FMTTYPE=image/png:https://rec2connect.org/wp-content/uploads/2025/07/CardioDrum_01.png
ORGANIZER;CN="Rec2Connect":MAILTO:scheduling@rec2connect.org
END:VEVENT
BEGIN:VEVENT
DTSTART;TZID=America/New_York:20270614T173000
DTEND;TZID=America/New_York:20270614T180000
DTSTAMP:20260425T134429
CREATED:20260418T182326Z
LAST-MODIFIED:20260418T182523Z
UID:10009481-1812994200-1812996000@rec2connect.org
SUMMARY:Inclusive Cheer and Spirit Squad
DESCRIPTION:Join Rec2Connect’s Inclusive Cheer and Spirit Squad\, now cheering for Empower Sports’ Flag Football teams!\nPractices will include light conditioning\, learning about cheerleading\, and working on multiple cheers.\nParticipants will build confidence and teamwork skills while forming new friendships!\nA public performance is scheduled for the end of each session.\nAttendance at each practice is strongly encouraged to support team building and sportsmanship.
URL:https://rec2connect.org/event/inclusive-cheer-and-spirit-squad/2027-06-14/
LOCATION:Lakewood-Garfield Middle School\, 13114 Detroit Ave.\, Lakewood\, OH\, 44107\, United States
CATEGORIES:Cheer,Group Programs
ATTACH;FMTTYPE=image/png:https://rec2connect.org/wp-content/uploads/2025/07/Inclusive-Cheerleading-Header-Photo-1.png
ORGANIZER;CN="Rec2Connect":MAILTO:scheduling@rec2connect.org
END:VEVENT
BEGIN:VEVENT
DTSTART;TZID=America/New_York:20270614T180000
DTEND;TZID=America/New_York:20270614T184500
DTSTAMP:20260425T134429
CREATED:20260418T183225Z
LAST-MODIFIED:20260418T183225Z
UID:10009652-1812996000-1812998700@rec2connect.org
SUMMARY:Inclusive Cheer and Spirit Squad
DESCRIPTION:Join Rec2Connect’s Inclusive Cheer and Spirit Squad\, now cheering for Empower Sports’ Flag Football teams!\nPractices will include light conditioning\, learning about cheerleading\, and working on multiple cheers.\nParticipants will build confidence and teamwork skills while forming new friendships!\nA public performance is scheduled for the end of each session.\nAttendance at each practice is strongly encouraged to support team building and sportsmanship.
URL:https://rec2connect.org/event/inclusive-cheer-and-spirit-squad-3/2027-06-14/
LOCATION:Lakewood-Garfield Middle School\, 13114 Detroit Ave.\, Lakewood\, OH\, 44107\, United States
CATEGORIES:Cheer,Group Programs
ATTACH;FMTTYPE=image/png:https://rec2connect.org/wp-content/uploads/2025/07/Inclusive-Cheerleading-Header-Photo-1.png
ORGANIZER;CN="Rec2Connect":MAILTO:scheduling@rec2connect.org
END:VEVENT
BEGIN:VEVENT
DTSTART;TZID=America/New_York:20270615T170000
DTEND;TZID=America/New_York:20270615T180000
DTSTAMP:20260425T134429
CREATED:20250720T130247Z
LAST-MODIFIED:20260226T220853Z
UID:10001196-1813078800-1813082400@rec2connect.org
SUMMARY:Fit Friends
DESCRIPTION:Structured full body workouts and social interaction \nNOTE:  There is a $5 discount for private pay!
URL:https://rec2connect.org/event/fit-friends/2027-06-15/
LOCATION:Seven Hills Parks and Rec Center\, 7777 Summit View Dr\, Seven HIlls\, OH\, 44131\, United States
CATEGORIES:Fit Friends
ATTACH;FMTTYPE=image/png:https://rec2connect.org/wp-content/uploads/2025/07/Events_FitFriends.png
ORGANIZER;CN="Rec2Connect":MAILTO:scheduling@rec2connect.org
END:VEVENT
BEGIN:VEVENT
DTSTART;TZID=America/New_York:20270615T181500
DTEND;TZID=America/New_York:20270615T190000
DTSTAMP:20260425T134429
CREATED:20250719T054426Z
LAST-MODIFIED:20260226T220756Z
UID:10000919-1813083300-1813086000@rec2connect.org
SUMMARY:Cardio Drumming
DESCRIPTION:This 45 minute weekly exercise class for teens and adults is led by a Recreation Therapist. Cardio drumming incorporates movement\, stretching\, music\, and rhythm together for an alternative cardiovascular workout. This class focuses on range of motion\, endurance\, strengthening\, flexibility\, coordination and body awareness. \nNOTE:  There is a $5 discount for private pay!
URL:https://rec2connect.org/event/cardio-drumming-9/2027-06-15/
LOCATION:Seven Hills Parks and Rec Center\, 7777 Summit View Dr\, Seven HIlls\, OH\, 44131\, United States
CATEGORIES:Cardio Drumming
ATTACH;FMTTYPE=image/png:https://rec2connect.org/wp-content/uploads/2025/07/CardioDrum_01.png
ORGANIZER;CN="Rec2Connect":MAILTO:scheduling@rec2connect.org
END:VEVENT
BEGIN:VEVENT
DTSTART;TZID=America/New_York:20270617T163000
DTEND;TZID=America/New_York:20270617T171500
DTSTAMP:20260425T134429
CREATED:20250720T130249Z
LAST-MODIFIED:20260226T220634Z
UID:10002115-1813249800-1813252500@rec2connect.org
SUMMARY:Cardio Drumming
DESCRIPTION:This 45 minute weekly exercise class for teens and adults is led by a Recreation Therapist. Cardio drumming incorporates movement\, stretching\, music\, and rhythm together for an alternative cardiovascular workout. This class focuses on range of motion\, endurance\, strengthening\, flexibility\, coordination and body awareness. \nNOTE:  There is a $5 discount for private pay!
URL:https://rec2connect.org/event/cardio-drumming-18/2027-06-17/
LOCATION:Gemini Center (Fairview)\, 21225 Lorain Rd\, Cleveland\, OH\, 44126\, United States
CATEGORIES:Cardio Drumming
ATTACH;FMTTYPE=image/png:https://rec2connect.org/wp-content/uploads/2025/07/Events_CardioDrum.png
ORGANIZER;CN="Rec2Connect":MAILTO:scheduling@rec2connect.org
END:VEVENT
BEGIN:VEVENT
DTSTART;TZID=America/New_York:20270617T173000
DTEND;TZID=America/New_York:20270617T181500
DTSTAMP:20260425T134429
CREATED:20250720T130302Z
LAST-MODIFIED:20260226T220528Z
UID:10002378-1813253400-1813256100@rec2connect.org
SUMMARY:Pedal Power
DESCRIPTION:Indoor stationary bike riding class that will work on bike riding skills\, balance\, strength\, endurance and motor planning \nNOTE:  There is a $5 discount for private pay!
URL:https://rec2connect.org/event/pedal-power/2027-06-17/
LOCATION:Gemini Center (Fairview)\, 21225 Lorain Rd\, Cleveland\, OH\, 44126\, United States
CATEGORIES:Pedal Power
ATTACH;FMTTYPE=image/png:https://rec2connect.org/wp-content/uploads/2025/07/Events_PedalPower.png
ORGANIZER;CN="Rec2Connect":MAILTO:scheduling@rec2connect.org
END:VEVENT
BEGIN:VEVENT
DTSTART;TZID=America/New_York:20270617T183000
DTEND;TZID=America/New_York:20270617T193000
DTSTAMP:20260425T134429
CREATED:20250720T130303Z
LAST-MODIFIED:20260226T220341Z
UID:10002641-1813257000-1813260600@rec2connect.org
SUMMARY:Fit Friends
DESCRIPTION:Structured full body workouts and social interaction \nNOTE:  There is a $5 discount for private pay!
URL:https://rec2connect.org/event/fit-friends-2/2027-06-17/
LOCATION:Gemini Center (Fairview)\, 21225 Lorain Rd\, Cleveland\, OH\, 44126\, United States
CATEGORIES:Fit Friends
ATTACH;FMTTYPE=image/png:https://rec2connect.org/wp-content/uploads/2025/07/Events_FitFriends.png
ORGANIZER;CN="Rec2Connect":MAILTO:scheduling@rec2connect.org
END:VEVENT
BEGIN:VEVENT
DTSTART;TZID=America/New_York:20270619T100000
DTEND;TZID=America/New_York:20270619T104500
DTSTAMP:20260425T134429
CREATED:20250720T005625Z
LAST-MODIFIED:20260226T220144Z
UID:10000657-1813399200-1813401900@rec2connect.org
SUMMARY:Cardio Drumming
DESCRIPTION:This 45 minute weekly exercise class for teens and adults is led by a Recreation Therapist. Cardio drumming incorporates movement\, stretching\, music\, and rhythm together for an alternative cardiovascular workout. This class focuses on range of motion\, endurance\, strengthening\, flexibility\, coordination and body awareness. \nNOTE:  There is a $5 discount for private pay!
URL:https://rec2connect.org/event/cardio-drumming/2027-06-19/
LOCATION:Seven Hills Parks and Rec Center\, 7777 Summit View Dr\, Seven HIlls\, OH\, 44131\, United States
CATEGORIES:Cardio Drumming
ATTACH;FMTTYPE=image/png:https://rec2connect.org/wp-content/uploads/2025/07/CardioDrum_01.png
ORGANIZER;CN="Rec2Connect":MAILTO:scheduling@rec2connect.org
END:VEVENT
BEGIN:VEVENT
DTSTART;TZID=America/New_York:20270621T173000
DTEND;TZID=America/New_York:20270621T180000
DTSTAMP:20260425T134429
CREATED:20260418T182326Z
LAST-MODIFIED:20260418T182523Z
UID:10009482-1813599000-1813600800@rec2connect.org
SUMMARY:Inclusive Cheer and Spirit Squad
DESCRIPTION:Join Rec2Connect’s Inclusive Cheer and Spirit Squad\, now cheering for Empower Sports’ Flag Football teams!\nPractices will include light conditioning\, learning about cheerleading\, and working on multiple cheers.\nParticipants will build confidence and teamwork skills while forming new friendships!\nA public performance is scheduled for the end of each session.\nAttendance at each practice is strongly encouraged to support team building and sportsmanship.
URL:https://rec2connect.org/event/inclusive-cheer-and-spirit-squad/2027-06-21/
LOCATION:Lakewood-Garfield Middle School\, 13114 Detroit Ave.\, Lakewood\, OH\, 44107\, United States
CATEGORIES:Cheer,Group Programs
ATTACH;FMTTYPE=image/png:https://rec2connect.org/wp-content/uploads/2025/07/Inclusive-Cheerleading-Header-Photo-1.png
ORGANIZER;CN="Rec2Connect":MAILTO:scheduling@rec2connect.org
END:VEVENT
BEGIN:VEVENT
DTSTART;TZID=America/New_York:20270621T180000
DTEND;TZID=America/New_York:20270621T184500
DTSTAMP:20260425T134429
CREATED:20260418T183225Z
LAST-MODIFIED:20260418T183225Z
UID:10009653-1813600800-1813603500@rec2connect.org
SUMMARY:Inclusive Cheer and Spirit Squad
DESCRIPTION:Join Rec2Connect’s Inclusive Cheer and Spirit Squad\, now cheering for Empower Sports’ Flag Football teams!\nPractices will include light conditioning\, learning about cheerleading\, and working on multiple cheers.\nParticipants will build confidence and teamwork skills while forming new friendships!\nA public performance is scheduled for the end of each session.\nAttendance at each practice is strongly encouraged to support team building and sportsmanship.
URL:https://rec2connect.org/event/inclusive-cheer-and-spirit-squad-3/2027-06-21/
LOCATION:Lakewood-Garfield Middle School\, 13114 Detroit Ave.\, Lakewood\, OH\, 44107\, United States
CATEGORIES:Cheer,Group Programs
ATTACH;FMTTYPE=image/png:https://rec2connect.org/wp-content/uploads/2025/07/Inclusive-Cheerleading-Header-Photo-1.png
ORGANIZER;CN="Rec2Connect":MAILTO:scheduling@rec2connect.org
END:VEVENT
BEGIN:VEVENT
DTSTART;TZID=America/New_York:20270622T170000
DTEND;TZID=America/New_York:20270622T180000
DTSTAMP:20260425T134429
CREATED:20250720T130247Z
LAST-MODIFIED:20260226T220853Z
UID:10001197-1813683600-1813687200@rec2connect.org
SUMMARY:Fit Friends
DESCRIPTION:Structured full body workouts and social interaction \nNOTE:  There is a $5 discount for private pay!
URL:https://rec2connect.org/event/fit-friends/2027-06-22/
LOCATION:Seven Hills Parks and Rec Center\, 7777 Summit View Dr\, Seven HIlls\, OH\, 44131\, United States
CATEGORIES:Fit Friends
ATTACH;FMTTYPE=image/png:https://rec2connect.org/wp-content/uploads/2025/07/Events_FitFriends.png
ORGANIZER;CN="Rec2Connect":MAILTO:scheduling@rec2connect.org
END:VEVENT
BEGIN:VEVENT
DTSTART;TZID=America/New_York:20270622T181500
DTEND;TZID=America/New_York:20270622T190000
DTSTAMP:20260425T134429
CREATED:20250719T054426Z
LAST-MODIFIED:20260226T220756Z
UID:10000920-1813688100-1813690800@rec2connect.org
SUMMARY:Cardio Drumming
DESCRIPTION:This 45 minute weekly exercise class for teens and adults is led by a Recreation Therapist. Cardio drumming incorporates movement\, stretching\, music\, and rhythm together for an alternative cardiovascular workout. This class focuses on range of motion\, endurance\, strengthening\, flexibility\, coordination and body awareness. \nNOTE:  There is a $5 discount for private pay!
URL:https://rec2connect.org/event/cardio-drumming-9/2027-06-22/
LOCATION:Seven Hills Parks and Rec Center\, 7777 Summit View Dr\, Seven HIlls\, OH\, 44131\, United States
CATEGORIES:Cardio Drumming
ATTACH;FMTTYPE=image/png:https://rec2connect.org/wp-content/uploads/2025/07/CardioDrum_01.png
ORGANIZER;CN="Rec2Connect":MAILTO:scheduling@rec2connect.org
END:VEVENT
BEGIN:VEVENT
DTSTART;TZID=America/New_York:20270624T163000
DTEND;TZID=America/New_York:20270624T171500
DTSTAMP:20260425T134429
CREATED:20250720T130249Z
LAST-MODIFIED:20260226T220634Z
UID:10002116-1813854600-1813857300@rec2connect.org
SUMMARY:Cardio Drumming
DESCRIPTION:This 45 minute weekly exercise class for teens and adults is led by a Recreation Therapist. Cardio drumming incorporates movement\, stretching\, music\, and rhythm together for an alternative cardiovascular workout. This class focuses on range of motion\, endurance\, strengthening\, flexibility\, coordination and body awareness. \nNOTE:  There is a $5 discount for private pay!
URL:https://rec2connect.org/event/cardio-drumming-18/2027-06-24/
LOCATION:Gemini Center (Fairview)\, 21225 Lorain Rd\, Cleveland\, OH\, 44126\, United States
CATEGORIES:Cardio Drumming
ATTACH;FMTTYPE=image/png:https://rec2connect.org/wp-content/uploads/2025/07/Events_CardioDrum.png
ORGANIZER;CN="Rec2Connect":MAILTO:scheduling@rec2connect.org
END:VEVENT
BEGIN:VEVENT
DTSTART;TZID=America/New_York:20270624T173000
DTEND;TZID=America/New_York:20270624T181500
DTSTAMP:20260425T134429
CREATED:20250720T130302Z
LAST-MODIFIED:20260226T220528Z
UID:10002379-1813858200-1813860900@rec2connect.org
SUMMARY:Pedal Power
DESCRIPTION:Indoor stationary bike riding class that will work on bike riding skills\, balance\, strength\, endurance and motor planning \nNOTE:  There is a $5 discount for private pay!
URL:https://rec2connect.org/event/pedal-power/2027-06-24/
LOCATION:Gemini Center (Fairview)\, 21225 Lorain Rd\, Cleveland\, OH\, 44126\, United States
CATEGORIES:Pedal Power
ATTACH;FMTTYPE=image/png:https://rec2connect.org/wp-content/uploads/2025/07/Events_PedalPower.png
ORGANIZER;CN="Rec2Connect":MAILTO:scheduling@rec2connect.org
END:VEVENT
BEGIN:VEVENT
DTSTART;TZID=America/New_York:20270624T183000
DTEND;TZID=America/New_York:20270624T193000
DTSTAMP:20260425T134429
CREATED:20250720T130303Z
LAST-MODIFIED:20260226T220341Z
UID:10002642-1813861800-1813865400@rec2connect.org
SUMMARY:Fit Friends
DESCRIPTION:Structured full body workouts and social interaction \nNOTE:  There is a $5 discount for private pay!
URL:https://rec2connect.org/event/fit-friends-2/2027-06-24/
LOCATION:Gemini Center (Fairview)\, 21225 Lorain Rd\, Cleveland\, OH\, 44126\, United States
CATEGORIES:Fit Friends
ATTACH;FMTTYPE=image/png:https://rec2connect.org/wp-content/uploads/2025/07/Events_FitFriends.png
ORGANIZER;CN="Rec2Connect":MAILTO:scheduling@rec2connect.org
END:VEVENT
BEGIN:VEVENT
DTSTART;TZID=America/New_York:20270626T100000
DTEND;TZID=America/New_York:20270626T104500
DTSTAMP:20260425T134429
CREATED:20250720T005625Z
LAST-MODIFIED:20260226T220144Z
UID:10000658-1814004000-1814006700@rec2connect.org
SUMMARY:Cardio Drumming
DESCRIPTION:This 45 minute weekly exercise class for teens and adults is led by a Recreation Therapist. Cardio drumming incorporates movement\, stretching\, music\, and rhythm together for an alternative cardiovascular workout. This class focuses on range of motion\, endurance\, strengthening\, flexibility\, coordination and body awareness. \nNOTE:  There is a $5 discount for private pay!
URL:https://rec2connect.org/event/cardio-drumming/2027-06-26/
LOCATION:Seven Hills Parks and Rec Center\, 7777 Summit View Dr\, Seven HIlls\, OH\, 44131\, United States
CATEGORIES:Cardio Drumming
ATTACH;FMTTYPE=image/png:https://rec2connect.org/wp-content/uploads/2025/07/CardioDrum_01.png
ORGANIZER;CN="Rec2Connect":MAILTO:scheduling@rec2connect.org
END:VEVENT
END:VCALENDAR