BEGIN:VCALENDAR
VERSION:2.0
PRODID:-//Rec2Connect - ECPv6.15.20//NONSGML v1.0//EN
CALSCALE:GREGORIAN
METHOD:PUBLISH
X-ORIGINAL-URL:https://rec2connect.org
X-WR-CALDESC:Events for Rec2Connect
REFRESH-INTERVAL;VALUE=DURATION:PT1H
X-Robots-Tag:noindex
X-PUBLISHED-TTL:PT1H
BEGIN:VTIMEZONE
TZID:America/New_York
BEGIN:DAYLIGHT
TZOFFSETFROM:-0500
TZOFFSETTO:-0400
TZNAME:EDT
DTSTART:20250309T070000
END:DAYLIGHT
BEGIN:STANDARD
TZOFFSETFROM:-0400
TZOFFSETTO:-0500
TZNAME:EST
DTSTART:20251102T060000
END:STANDARD
BEGIN:DAYLIGHT
TZOFFSETFROM:-0500
TZOFFSETTO:-0400
TZNAME:EDT
DTSTART:20260308T070000
END:DAYLIGHT
BEGIN:STANDARD
TZOFFSETFROM:-0400
TZOFFSETTO:-0500
TZNAME:EST
DTSTART:20261101T060000
END:STANDARD
BEGIN:DAYLIGHT
TZOFFSETFROM:-0500
TZOFFSETTO:-0400
TZNAME:EDT
DTSTART:20270314T070000
END:DAYLIGHT
BEGIN:STANDARD
TZOFFSETFROM:-0400
TZOFFSETTO:-0500
TZNAME:EST
DTSTART:20271107T060000
END:STANDARD
END:VTIMEZONE
BEGIN:VEVENT
DTSTART;TZID=America/New_York:20260221T090000
DTEND;TZID=America/New_York:20260221T100000
DTSTAMP:20260424T174928
CREATED:20250720T005626Z
LAST-MODIFIED:20260221T023330Z
UID:10003754-1771664400-1771668000@rec2connect.org
SUMMARY:Razorsharks Practice
DESCRIPTION:We work on swim stroke development\, increasing endurance\, and competing with our team \nNOTE: Drop-in or Monthly packages available!  Please inquire at registration.
URL:https://rec2connect.org/event/razorsharks-practice/2026-02-21/
LOCATION:North Olmsted Recreation Center\, 26000 Lorain Rd\, North Olmsted\, OH\, 44070\, United States
CATEGORIES:Razorsharks Swim Team
ATTACH;FMTTYPE=image/png:https://rec2connect.org/wp-content/uploads/2025/07/Events_Razorsharks.png
ORGANIZER;CN="Rec2Connect":MAILTO:scheduling@rec2connect.org
END:VEVENT
BEGIN:VEVENT
DTSTART;TZID=America/New_York:20260221T100000
DTEND;TZID=America/New_York:20260221T104500
DTSTAMP:20260424T174928
CREATED:20250720T005625Z
LAST-MODIFIED:20260226T220144Z
UID:10000588-1771668000-1771670700@rec2connect.org
SUMMARY:Cardio Drumming
DESCRIPTION:This 45 minute weekly exercise class for teens and adults is led by a Recreation Therapist. Cardio drumming incorporates movement\, stretching\, music\, and rhythm together for an alternative cardiovascular workout. This class focuses on range of motion\, endurance\, strengthening\, flexibility\, coordination and body awareness. \nNOTE:  There is a $5 discount for private pay!
URL:https://rec2connect.org/event/cardio-drumming/2026-02-21/
LOCATION:Seven Hills Parks and Rec Center\, 7777 Summit View Dr\, Seven HIlls\, OH\, 44131\, United States
CATEGORIES:Cardio Drumming
ATTACH;FMTTYPE=image/png:https://rec2connect.org/wp-content/uploads/2025/07/CardioDrum_01.png
ORGANIZER;CN="Rec2Connect":MAILTO:scheduling@rec2connect.org
END:VEVENT
BEGIN:VEVENT
DTSTART;TZID=America/New_York:20260221T100000
DTEND;TZID=America/New_York:20260221T110000
DTSTAMP:20260424T174928
CREATED:20250725T021134Z
LAST-MODIFIED:20260221T023236Z
UID:10007046-1771668000-1771671600@rec2connect.org
SUMMARY:Razorsharks practice
DESCRIPTION:We work on swim stroke development\, increasing endurance\, and competing with our team \nNOTE: Drop-in or Monthly packages available!  Please inquire at registration.
URL:https://rec2connect.org/event/razorsharks-practice-13/2026-02-21/
LOCATION:North Olmsted Recreation Center\, 26000 Lorain Rd\, North Olmsted\, OH\, 44070\, United States
CATEGORIES:Razorsharks Swim Team
ATTACH;FMTTYPE=image/png:https://rec2connect.org/wp-content/uploads/2025/07/Razorsharks.png
END:VEVENT
BEGIN:VEVENT
DTSTART;TZID=America/New_York:20260221T110000
DTEND;TZID=America/New_York:20260221T120000
DTSTAMP:20260424T174928
CREATED:20250725T021338Z
LAST-MODIFIED:20260221T023139Z
UID:10007310-1771671600-1771675200@rec2connect.org
SUMMARY:Razorsharks practice
DESCRIPTION:We work on swim stroke development\, increasing endurance\, and competing with our team \nNOTE: Drop-in or Monthly packages available!  Please inquire at registration.
URL:https://rec2connect.org/event/razorsharks-practice-14/2026-02-21/
LOCATION:North Olmsted Recreation Center\, 26000 Lorain Rd\, North Olmsted\, OH\, 44070\, United States
CATEGORIES:Razorsharks Swim Team
ATTACH;FMTTYPE=image/png:https://rec2connect.org/wp-content/uploads/2025/07/Razorsharks.png
END:VEVENT
BEGIN:VEVENT
DTSTART;TZID=America/New_York:20260221T140000
DTEND;TZID=America/New_York:20260221T160000
DTSTAMP:20260424T174928
CREATED:20260116T175846Z
LAST-MODIFIED:20260116T175846Z
UID:10008707-1771682400-1771689600@rec2connect.org
SUMMARY:Adult Social Club Rock and Roll Hall of Fame
DESCRIPTION:Adults Ages 18+ are invited to explore the Rock & Roll Hall of Fame’s various exhibits that feature videos\, interactive kiosks\, real instruments and more. \nParticipants will complete a scavenger hunt during their time in the exhibits. \nRegistration deadline for new or first-time participants:  Feb. 10 \nRegistration deadline for current participants:  Feb. 17 \nTo enroll\, all participants must have an Ensora account and all forms completed.  Waitlists fill up quickly! \nTo register or create your Ensora account\, email scheduling@rec2connect.org with ‘February ASC Rock Hall’ as the subject line and the participant’s name in the email. \nThis program is made possible by a grant from the Cuyahoga DD.
URL:https://rec2connect.org/event/adult-social-club-rock-and-roll-hall-of-fame/
LOCATION:Rock and Roll Hall of Fame\, 1100 Rock & Roll Blvd\, Cleveland\, OH\, 44114\, United States
CATEGORIES:Adult Social Club,Social Events
ORGANIZER;CN="Rec2Connect":MAILTO:scheduling@rec2connect.org
END:VEVENT
END:VCALENDAR