BEGIN:VCALENDAR
VERSION:2.0
PRODID:-//Rec2Connect - ECPv6.15.20//NONSGML v1.0//EN
CALSCALE:GREGORIAN
METHOD:PUBLISH
X-WR-CALNAME:Rec2Connect
X-ORIGINAL-URL:https://rec2connect.org
X-WR-CALDESC:Events for Rec2Connect
REFRESH-INTERVAL;VALUE=DURATION:PT1H
X-Robots-Tag:noindex
X-PUBLISHED-TTL:PT1H
BEGIN:VTIMEZONE
TZID:America/New_York
BEGIN:DAYLIGHT
TZOFFSETFROM:-0500
TZOFFSETTO:-0400
TZNAME:EDT
DTSTART:20240310T070000
END:DAYLIGHT
BEGIN:STANDARD
TZOFFSETFROM:-0400
TZOFFSETTO:-0500
TZNAME:EST
DTSTART:20241103T060000
END:STANDARD
BEGIN:DAYLIGHT
TZOFFSETFROM:-0500
TZOFFSETTO:-0400
TZNAME:EDT
DTSTART:20250309T070000
END:DAYLIGHT
BEGIN:STANDARD
TZOFFSETFROM:-0400
TZOFFSETTO:-0500
TZNAME:EST
DTSTART:20251102T060000
END:STANDARD
BEGIN:DAYLIGHT
TZOFFSETFROM:-0500
TZOFFSETTO:-0400
TZNAME:EDT
DTSTART:20260308T070000
END:DAYLIGHT
BEGIN:STANDARD
TZOFFSETFROM:-0400
TZOFFSETTO:-0500
TZNAME:EST
DTSTART:20261101T060000
END:STANDARD
END:VTIMEZONE
BEGIN:VEVENT
DTSTART;TZID=America/New_York:20250906T090000
DTEND;TZID=America/New_York:20250906T100000
DTSTAMP:20260425T001739
CREATED:20250720T005626Z
LAST-MODIFIED:20260221T023330Z
UID:10003730-1757149200-1757152800@rec2connect.org
SUMMARY:Razorsharks Practice
DESCRIPTION:We work on swim stroke development\, increasing endurance\, and competing with our team \nNOTE: Drop-in or Monthly packages available!  Please inquire at registration.
URL:https://rec2connect.org/event/razorsharks-practice/2025-09-06/
LOCATION:North Olmsted Recreation Center\, 26000 Lorain Rd\, North Olmsted\, OH\, 44070\, United States
CATEGORIES:Razorsharks Swim Team
ATTACH;FMTTYPE=image/png:https://rec2connect.org/wp-content/uploads/2025/07/Events_Razorsharks.png
ORGANIZER;CN="Rec2Connect":MAILTO:scheduling@rec2connect.org
END:VEVENT
BEGIN:VEVENT
DTSTART;TZID=America/New_York:20250906T100000
DTEND;TZID=America/New_York:20250906T104500
DTSTAMP:20260425T001739
CREATED:20250720T005625Z
LAST-MODIFIED:20260226T220144Z
UID:10000564-1757152800-1757155500@rec2connect.org
SUMMARY:Cardio Drumming
DESCRIPTION:This 45 minute weekly exercise class for teens and adults is led by a Recreation Therapist. Cardio drumming incorporates movement\, stretching\, music\, and rhythm together for an alternative cardiovascular workout. This class focuses on range of motion\, endurance\, strengthening\, flexibility\, coordination and body awareness. \nNOTE:  There is a $5 discount for private pay!
URL:https://rec2connect.org/event/cardio-drumming/2025-09-06/
LOCATION:Seven Hills Parks and Rec Center\, 7777 Summit View Dr\, Seven HIlls\, OH\, 44131\, United States
CATEGORIES:Cardio Drumming
ATTACH;FMTTYPE=image/png:https://rec2connect.org/wp-content/uploads/2025/07/CardioDrum_01.png
ORGANIZER;CN="Rec2Connect":MAILTO:scheduling@rec2connect.org
END:VEVENT
BEGIN:VEVENT
DTSTART;TZID=America/New_York:20250906T100000
DTEND;TZID=America/New_York:20250906T110000
DTSTAMP:20260425T001739
CREATED:20250725T021134Z
LAST-MODIFIED:20260221T023236Z
UID:10007022-1757152800-1757156400@rec2connect.org
SUMMARY:Razorsharks practice
DESCRIPTION:We work on swim stroke development\, increasing endurance\, and competing with our team \nNOTE: Drop-in or Monthly packages available!  Please inquire at registration.
URL:https://rec2connect.org/event/razorsharks-practice-13/2025-09-06/
LOCATION:North Olmsted Recreation Center\, 26000 Lorain Rd\, North Olmsted\, OH\, 44070\, United States
CATEGORIES:Razorsharks Swim Team
ATTACH;FMTTYPE=image/png:https://rec2connect.org/wp-content/uploads/2025/07/Razorsharks.png
END:VEVENT
BEGIN:VEVENT
DTSTART;TZID=America/New_York:20250906T110000
DTEND;TZID=America/New_York:20250906T120000
DTSTAMP:20260425T001739
CREATED:20250725T021338Z
LAST-MODIFIED:20260221T023139Z
UID:10007286-1757156400-1757160000@rec2connect.org
SUMMARY:Razorsharks practice
DESCRIPTION:We work on swim stroke development\, increasing endurance\, and competing with our team \nNOTE: Drop-in or Monthly packages available!  Please inquire at registration.
URL:https://rec2connect.org/event/razorsharks-practice-14/2025-09-06/
LOCATION:North Olmsted Recreation Center\, 26000 Lorain Rd\, North Olmsted\, OH\, 44070\, United States
CATEGORIES:Razorsharks Swim Team
ATTACH;FMTTYPE=image/png:https://rec2connect.org/wp-content/uploads/2025/07/Razorsharks.png
END:VEVENT
BEGIN:VEVENT
DTSTART;TZID=America/New_York:20250906T124500
DTEND;TZID=America/New_York:20250906T144500
DTSTAMP:20260425T001739
CREATED:20250814T022400Z
LAST-MODIFIED:20250814T022400Z
UID:10007647-1757162700-1757169900@rec2connect.org
SUMMARY:Teen Social Club Game Time
DESCRIPTION:Teens ages 13 – 17 have the opportunity to connect with others through table games\, video games and board games.  Registration deadline for new or first-time participants is August 25.  Registration deadline for current participants is September 2.  To register\, email scheduling@rec2connect.org with ‘September Teen Social Club as the subject line and the participant’s name in the email.
URL:https://rec2connect.org/event/teen-social-club-game-time-2/
LOCATION:Independence Branch – Cuyahoga County Public Library\, 6361 Selig Dr.\, Independence\, OH\, 44131\, United States
CATEGORIES:Social Events
ORGANIZER;CN="Rec2Connect":MAILTO:scheduling@rec2connect.org
END:VEVENT
BEGIN:VEVENT
DTSTART;TZID=America/New_York:20250906T130000
DTEND;TZID=America/New_York:20250906T150000
DTSTAMP:20260425T001739
CREATED:20250726T125044Z
LAST-MODIFIED:20250726T125044Z
UID:10007620-1757163600-1757170800@rec2connect.org
SUMMARY:Kayaking - Advanced Ages 8+
DESCRIPTION:Program for people with previous kayak experience.  Focus on lake exploration and education\, moderate to advanced kayaking skills\, safety and tripping.
URL:https://rec2connect.org/event/kayaking-advanced-ages-8-3/
LOCATION:Coe Lake\, 85 South Rocky River Dr.\, Berea\, OH\, 44017\, United States
CATEGORIES:Kayaking
ORGANIZER;CN="Rec2Connect":MAILTO:scheduling@rec2connect.org
END:VEVENT
BEGIN:VEVENT
DTSTART;TZID=America/New_York:20250906T150000
DTEND;TZID=America/New_York:20250906T170000
DTSTAMP:20260425T001739
CREATED:20250814T021136Z
LAST-MODIFIED:20250814T022512Z
UID:10007646-1757170800-1757178000@rec2connect.org
SUMMARY:Adult Social Club Game Night
DESCRIPTION:Adults 18+ have the opportunity to connect with others through table games and board games.  Registration deadline for new or first-time participants is August 25.  Registration deadline for current participants is September 2.  To register\, email scheduling@rec2connect.org with ‘September ASC Game Night’ as the subject line and the participant’s name in the email.  This program is made possible by a grant from the Cuyahoga DD.
URL:https://rec2connect.org/event/adult-social-club-game-night/
LOCATION:Independence Branch – Cuyahoga County Public Library\, 6361 Selig Dr.\, Independence\, OH\, 44131\, United States
CATEGORIES:Adult Social Club
ORGANIZER;CN="Rec2Connect":MAILTO:scheduling@rec2connect.org
END:VEVENT
END:VCALENDAR