BEGIN:VCALENDAR
VERSION:2.0
PRODID:-//Rec2Connect - ECPv6.15.20//NONSGML v1.0//EN
CALSCALE:GREGORIAN
METHOD:PUBLISH
X-WR-CALNAME:Rec2Connect
X-ORIGINAL-URL:https://rec2connect.org
X-WR-CALDESC:Events for Rec2Connect
REFRESH-INTERVAL;VALUE=DURATION:PT1H
X-Robots-Tag:noindex
X-PUBLISHED-TTL:PT1H
BEGIN:VTIMEZONE
TZID:America/New_York
BEGIN:DAYLIGHT
TZOFFSETFROM:-0500
TZOFFSETTO:-0400
TZNAME:EDT
DTSTART:20240310T070000
END:DAYLIGHT
BEGIN:STANDARD
TZOFFSETFROM:-0400
TZOFFSETTO:-0500
TZNAME:EST
DTSTART:20241103T060000
END:STANDARD
BEGIN:DAYLIGHT
TZOFFSETFROM:-0500
TZOFFSETTO:-0400
TZNAME:EDT
DTSTART:20250309T070000
END:DAYLIGHT
BEGIN:STANDARD
TZOFFSETFROM:-0400
TZOFFSETTO:-0500
TZNAME:EST
DTSTART:20251102T060000
END:STANDARD
BEGIN:DAYLIGHT
TZOFFSETFROM:-0500
TZOFFSETTO:-0400
TZNAME:EDT
DTSTART:20260308T070000
END:DAYLIGHT
BEGIN:STANDARD
TZOFFSETFROM:-0400
TZOFFSETTO:-0500
TZNAME:EST
DTSTART:20261101T060000
END:STANDARD
END:VTIMEZONE
BEGIN:VEVENT
DTSTART;TZID=America/New_York:20250904T160000
DTEND;TZID=America/New_York:20250904T170000
DTSTAMP:20260425T001731
CREATED:20250725T170212Z
LAST-MODIFIED:20250725T170732Z
UID:10007603-1757001600-1757005200@rec2connect.org
SUMMARY:Kayaking (Short) Ages 7+
DESCRIPTION:Focusing on entry-level and moderate kayaking skills.  Build upon problem solving and social skills with opportunities to learn more advanced paddle strokes.
URL:https://rec2connect.org/event/kayaking-at-coe-lake-ages-7/2025-09-04/
LOCATION:Coe Lake\, 85 South Rocky River Dr.\, Berea\, OH\, 44017\, United States
CATEGORIES:Kayaking
ORGANIZER;CN="Rec2Connect":MAILTO:scheduling@rec2connect.org
END:VEVENT
BEGIN:VEVENT
DTSTART;TZID=America/New_York:20250904T163000
DTEND;TZID=America/New_York:20250904T171500
DTSTAMP:20260425T001731
CREATED:20250720T130249Z
LAST-MODIFIED:20260226T220634Z
UID:10002022-1757003400-1757006100@rec2connect.org
SUMMARY:Cardio Drumming
DESCRIPTION:This 45 minute weekly exercise class for teens and adults is led by a Recreation Therapist. Cardio drumming incorporates movement\, stretching\, music\, and rhythm together for an alternative cardiovascular workout. This class focuses on range of motion\, endurance\, strengthening\, flexibility\, coordination and body awareness. \nNOTE:  There is a $5 discount for private pay!
URL:https://rec2connect.org/event/cardio-drumming-18/2025-09-04/
LOCATION:Gemini Center (Fairview)\, 21225 Lorain Rd\, Cleveland\, OH\, 44126\, United States
CATEGORIES:Cardio Drumming
ATTACH;FMTTYPE=image/png:https://rec2connect.org/wp-content/uploads/2025/07/Events_CardioDrum.png
ORGANIZER;CN="Rec2Connect":MAILTO:scheduling@rec2connect.org
END:VEVENT
BEGIN:VEVENT
DTSTART;TZID=America/New_York:20250904T173000
DTEND;TZID=America/New_York:20250904T181500
DTSTAMP:20260425T001731
CREATED:20250720T130302Z
LAST-MODIFIED:20260226T220528Z
UID:10002285-1757007000-1757009700@rec2connect.org
SUMMARY:Pedal Power
DESCRIPTION:Indoor stationary bike riding class that will work on bike riding skills\, balance\, strength\, endurance and motor planning \nNOTE:  There is a $5 discount for private pay!
URL:https://rec2connect.org/event/pedal-power/2025-09-04/
LOCATION:Gemini Center (Fairview)\, 21225 Lorain Rd\, Cleveland\, OH\, 44126\, United States
CATEGORIES:Pedal Power
ATTACH;FMTTYPE=image/png:https://rec2connect.org/wp-content/uploads/2025/07/Events_PedalPower.png
ORGANIZER;CN="Rec2Connect":MAILTO:scheduling@rec2connect.org
END:VEVENT
BEGIN:VEVENT
DTSTART;TZID=America/New_York:20250904T173000
DTEND;TZID=America/New_York:20250904T190000
DTSTAMP:20260425T001731
CREATED:20250726T131459Z
LAST-MODIFIED:20250726T131459Z
UID:10007642-1757007000-1757012400@rec2connect.org
SUMMARY:Kayaking (Long) Ages 7+
DESCRIPTION:Focusing on entry-level and moderate kayaking skills.  Build upon problem solving and social skills with opportunities to learn more advanced paddle strokes.
URL:https://rec2connect.org/event/kayaking-long-ages-7/2025-09-04/
LOCATION:Coe Lake\, 85 South Rocky River Dr.\, Berea\, OH\, 44017\, United States
CATEGORIES:Kayaking
ORGANIZER;CN="Rec2Connect":MAILTO:scheduling@rec2connect.org
END:VEVENT
BEGIN:VEVENT
DTSTART;TZID=America/New_York:20250904T183000
DTEND;TZID=America/New_York:20250904T193000
DTSTAMP:20260425T001731
CREATED:20250720T130303Z
LAST-MODIFIED:20260226T220341Z
UID:10002548-1757010600-1757014200@rec2connect.org
SUMMARY:Fit Friends
DESCRIPTION:Structured full body workouts and social interaction \nNOTE:  There is a $5 discount for private pay!
URL:https://rec2connect.org/event/fit-friends-2/2025-09-04/
LOCATION:Gemini Center (Fairview)\, 21225 Lorain Rd\, Cleveland\, OH\, 44126\, United States
CATEGORIES:Fit Friends
ATTACH;FMTTYPE=image/png:https://rec2connect.org/wp-content/uploads/2025/07/Events_FitFriends.png
ORGANIZER;CN="Rec2Connect":MAILTO:scheduling@rec2connect.org
END:VEVENT
END:VCALENDAR